BEGIN:VCALENDAR
VERSION:2.0
PRODID:-//dieLiga//DE
BEGIN:VEVENT
UID:event0
DTSTAMP:20260421T180359Z
DTSTART:20251117T190000Z
DTEND:20251117T220000Z
LOCATION;LANGUAGE=de;ENCODING=QUOTED-PRINTABLE:Gerastr. 6\, München
SUMMARY:Punktspiel Mooskitos vs Hot Bananas
DESCRIPTION;LANGUAGE=de;ENCODING=QUOTED-PRINTABLE:23:25\, 16:25
END:VEVENT
BEGIN:VEVENT
UID:event1
DTSTAMP:20260421T180359Z
DTSTART:20251020T170000Z
DTEND:20251020T190000Z
LOCATION;LANGUAGE=de;ENCODING=QUOTED-PRINTABLE:Eversbuschstrasse 182\, München
SUMMARY:Punktspiel Hot Bananas vs Laimer Zufall
DESCRIPTION;LANGUAGE=de;ENCODING=QUOTED-PRINTABLE:25:21\, 16:25\, 17:25
END:VEVENT
BEGIN:VEVENT
UID:event2
DTSTAMP:20260421T180359Z
DTSTART:20251201T183000Z
DTEND:20251201T210000Z
LOCATION;LANGUAGE=de;ENCODING=QUOTED-PRINTABLE:Maria-Ward-Straße  3\, München
SUMMARY:Punktspiel KAAAMEE HAAAMEE HAAAAA vs Hot Bananas
DESCRIPTION;LANGUAGE=de;ENCODING=QUOTED-PRINTABLE:25:11\, 25:21
END:VEVENT
BEGIN:VEVENT
UID:event3
DTSTAMP:20260421T180359Z
DTSTART:20251208T180000Z
DTEND:20251208T200000Z
LOCATION;LANGUAGE=de;ENCODING=QUOTED-PRINTABLE:Eversbuschstrasse 182\, München
SUMMARY:Punktspiel Hot Bananas vs Decke-Boden
DESCRIPTION;LANGUAGE=de;ENCODING=QUOTED-PRINTABLE:27:29\, 21:25
END:VEVENT
BEGIN:VEVENT
UID:event4
DTSTAMP:20260421T180359Z
DTSTART:20260223T190000Z
DTEND:20260223T210000Z
LOCATION;LANGUAGE=de;ENCODING=QUOTED-PRINTABLE:Margarethe-Danzi-Str. 21\, München
SUMMARY:Punktspiel 6 für Cuba vs Hot Bananas
DESCRIPTION;LANGUAGE=de;ENCODING=QUOTED-PRINTABLE:26:24\, 14:25\, 25:20
END:VEVENT
BEGIN:VEVENT
UID:event5
DTSTAMP:20260421T180359Z
DTSTART:20260119T180000Z
DTEND:20260119T200000Z
LOCATION;LANGUAGE=de;ENCODING=QUOTED-PRINTABLE:Eversbuschstrasse 182\, München
SUMMARY:Punktspiel Hot Bananas vs BallaBalla
DESCRIPTION;LANGUAGE=de;ENCODING=QUOTED-PRINTABLE:12:25\, 15:25
END:VEVENT
BEGIN:VEVENT
UID:event6
DTSTAMP:20260421T180359Z
DTSTART:20260125T180000Z
DTEND:20260125T200000Z
LOCATION;LANGUAGE=de;ENCODING=QUOTED-PRINTABLE:Osterwaldstraße 144\, München
SUMMARY:Punktspiel SVSF StuSta vs Hot Bananas
DESCRIPTION;LANGUAGE=de;ENCODING=QUOTED-PRINTABLE:25:10\, 22:25\, 25:18
END:VEVENT
BEGIN:VEVENT
UID:event7
DTSTAMP:20260421T180359Z
DTSTART:20260202T180000Z
DTEND:20260202T200000Z
LOCATION;LANGUAGE=de;ENCODING=QUOTED-PRINTABLE:Eversbuschstrasse 182\, München
SUMMARY:Punktspiel Hot Bananas vs Mooskitos
DESCRIPTION;LANGUAGE=de;ENCODING=QUOTED-PRINTABLE:15:25\, 25:18\, 14:25
END:VEVENT
BEGIN:VEVENT
UID:event8
DTSTAMP:20260421T180359Z
DTSTART:20260428T180000Z
LOCATION;LANGUAGE=de;ENCODING=QUOTED-PRINTABLE:
SUMMARY:Punktspiel Laimer Zufall vs Hot Bananas
DESCRIPTION;LANGUAGE=de;ENCODING=QUOTED-PRINTABLE:\n\nÜbersicht https://www.volleyball-freizeit.de/schedule/overview/1078
END:VEVENT
BEGIN:VEVENT
UID:event9
DTSTAMP:20260421T180359Z
DTSTART:20260302T180000Z
DTEND:20260302T200000Z
LOCATION;LANGUAGE=de;ENCODING=QUOTED-PRINTABLE:Eversbuschstrasse 182\, München
SUMMARY:Punktspiel Hot Bananas vs KAAAMEE HAAAMEE HAAAAA
DESCRIPTION;LANGUAGE=de;ENCODING=QUOTED-PRINTABLE:15:25\, 21:25
END:VEVENT
BEGIN:VEVENT
UID:event10
DTSTAMP:20260421T180359Z
DTSTART:20260310T190000Z
DTEND:20260310T210000Z
LOCATION;LANGUAGE=de;ENCODING=QUOTED-PRINTABLE:Infanteriestraße  25\, München
SUMMARY:Punktspiel Decke-Boden vs Hot Bananas
DESCRIPTION;LANGUAGE=de;ENCODING=QUOTED-PRINTABLE:25:15\, 25:23
END:VEVENT
BEGIN:VEVENT
UID:event11
DTSTAMP:20260421T180359Z
DTSTART:20260316T180000Z
DTEND:20260316T200000Z
LOCATION;LANGUAGE=de;ENCODING=QUOTED-PRINTABLE:Eversbuschstrasse 182\, München
SUMMARY:Punktspiel Hot Bananas vs 6 für Cuba
DESCRIPTION;LANGUAGE=de;ENCODING=QUOTED-PRINTABLE:25:22\, 17:25\, 20:25
END:VEVENT
BEGIN:VEVENT
UID:event12
DTSTAMP:20260421T180359Z
DTSTART:20260505T180000Z
DTEND:20260505T200000Z
LOCATION;LANGUAGE=de;ENCODING=QUOTED-PRINTABLE:Josef-Hagn-Straße 2\, München
SUMMARY:Punktspiel BallaBalla vs Hot Bananas
DESCRIPTION;LANGUAGE=de;ENCODING=QUOTED-PRINTABLE:Sportstätte Josef-Hagn (hinterm Dehner)\nJosef-Hagn-Straße 2\n81829 München\nTrudering\n\nÜbersicht https://www.volleyball-freizeit.de/schedule/overview/1078
END:VEVENT
BEGIN:VEVENT
UID:event13
DTSTAMP:20260421T180359Z
DTSTART:20260420T170000Z
DTEND:20260420T190000Z
LOCATION;LANGUAGE=de;ENCODING=QUOTED-PRINTABLE:Eversbuschstrasse 182\, München
SUMMARY:Punktspiel Hot Bananas vs SVSF StuSta
DESCRIPTION;LANGUAGE=de;ENCODING=QUOTED-PRINTABLE:25:15\, 25:20
END:VEVENT
END:VCALENDAR