BEGIN:VCALENDAR
VERSION:2.0
PRODID:-//dieLiga//DE
BEGIN:VEVENT
UID:event0
DTSTAMP:20260329T104342Z
DTSTART:20251014T180000Z
DTEND:20251014T200000Z
LOCATION;LANGUAGE=de;ENCODING=QUOTED-PRINTABLE:Utzweg 1\, Unterhaching
SUMMARY:Punktspiel Nicht Mit Uns vs Latino SC Munich 2
DESCRIPTION;LANGUAGE=de;ENCODING=QUOTED-PRINTABLE:25:13\, 25:10
END:VEVENT
BEGIN:VEVENT
UID:event1
DTSTAMP:20260329T104342Z
DTSTART:20251020T180000Z
DTEND:20251020T200000Z
LOCATION;LANGUAGE=de;ENCODING=QUOTED-PRINTABLE:Fideliostr.  145\, München
SUMMARY:Punktspiel Die Winselstuten vs Nicht Mit Uns
DESCRIPTION;LANGUAGE=de;ENCODING=QUOTED-PRINTABLE:21:25\, 21:25
END:VEVENT
BEGIN:VEVENT
UID:event2
DTSTAMP:20260329T104342Z
DTSTART:20251202T190000Z
DTEND:20251202T210000Z
LOCATION;LANGUAGE=de;ENCODING=QUOTED-PRINTABLE:Utzweg 1\, Unterhaching
SUMMARY:Punktspiel Nicht Mit Uns vs Die Gallier
DESCRIPTION;LANGUAGE=de;ENCODING=QUOTED-PRINTABLE:25:11\, 18:25\, 25:23
END:VEVENT
BEGIN:VEVENT
UID:event3
DTSTAMP:20260329T104342Z
DTSTART:20260112T184500Z
LOCATION;LANGUAGE=de;ENCODING=QUOTED-PRINTABLE:
SUMMARY:Punktspiel Trudering vs Nicht Mit Uns
DESCRIPTION;LANGUAGE=de;ENCODING=QUOTED-PRINTABLE:18:25\, 27:25\, 21:25
END:VEVENT
BEGIN:VEVENT
UID:event4
DTSTAMP:20260329T104342Z
DTSTART:20251216T190000Z
DTEND:20251216T210000Z
LOCATION;LANGUAGE=de;ENCODING=QUOTED-PRINTABLE:Utzweg 1\, Unterhaching
SUMMARY:Punktspiel Nicht Mit Uns vs Garam Masala
DESCRIPTION;LANGUAGE=de;ENCODING=QUOTED-PRINTABLE:20:25\, 25:21\, 17:25
END:VEVENT
BEGIN:VEVENT
UID:event5
DTSTAMP:20260329T104342Z
DTSTART:20260120T183000Z
DTEND:20260120T203000Z
LOCATION;LANGUAGE=de;ENCODING=QUOTED-PRINTABLE:Preysingstr. 83\, München
SUMMARY:Punktspiel Die Unvollendeten vs Nicht Mit Uns
DESCRIPTION;LANGUAGE=de;ENCODING=QUOTED-PRINTABLE:25:18\, 25:17
END:VEVENT
BEGIN:VEVENT
UID:event6
DTSTAMP:20260329T104342Z
DTSTART:20260127T190000Z
DTEND:20260127T210000Z
LOCATION;LANGUAGE=de;ENCODING=QUOTED-PRINTABLE:Utzweg 1\, Unterhaching
SUMMARY:Punktspiel Nicht Mit Uns vs PiHoppers I
DESCRIPTION;LANGUAGE=de;ENCODING=QUOTED-PRINTABLE:25:18\, 26:24
END:VEVENT
BEGIN:VEVENT
UID:event7
DTSTAMP:20260329T104342Z
DTSTART:20260202T183000Z
DTEND:20260202T204500Z
LOCATION;LANGUAGE=de;ENCODING=QUOTED-PRINTABLE:Luisenstr. 29\, München
SUMMARY:Punktspiel Latino SC Munich 2 vs Nicht Mit Uns
DESCRIPTION;LANGUAGE=de;ENCODING=QUOTED-PRINTABLE:11:25\, 18:25
END:VEVENT
BEGIN:VEVENT
UID:event8
DTSTAMP:20260329T104342Z
DTSTART:20260210T190000Z
DTEND:20260210T210000Z
LOCATION;LANGUAGE=de;ENCODING=QUOTED-PRINTABLE:Utzweg 1\, Unterhaching
SUMMARY:Punktspiel Nicht Mit Uns vs Die Winselstuten
DESCRIPTION;LANGUAGE=de;ENCODING=QUOTED-PRINTABLE:25:14\, 25:21
END:VEVENT
BEGIN:VEVENT
UID:event9
DTSTAMP:20260329T104342Z
DTSTART:20260302T190000Z
DTEND:20260302T210000Z
LOCATION;LANGUAGE=de;ENCODING=QUOTED-PRINTABLE:Helmholtzstr. 6\, München
SUMMARY:Punktspiel Die Gallier vs Nicht Mit Uns
DESCRIPTION;LANGUAGE=de;ENCODING=QUOTED-PRINTABLE:25:23\, 20:25\, 19:25
END:VEVENT
BEGIN:VEVENT
UID:event10
DTSTAMP:20260329T104342Z
DTSTART:20260310T190000Z
DTEND:20260310T210000Z
LOCATION;LANGUAGE=de;ENCODING=QUOTED-PRINTABLE:Utzweg 1\, Unterhaching
SUMMARY:Punktspiel Nicht Mit Uns vs Trudering
DESCRIPTION;LANGUAGE=de;ENCODING=QUOTED-PRINTABLE:25:18\, 23:25\, 25:17
END:VEVENT
BEGIN:VEVENT
UID:event11
DTSTAMP:20260329T104342Z
DTSTART:20260316T191500Z
DTEND:20260316T211500Z
LOCATION;LANGUAGE=de;ENCODING=QUOTED-PRINTABLE:Herterichstr. 151\, München
SUMMARY:Punktspiel Garam Masala vs Nicht Mit Uns
DESCRIPTION;LANGUAGE=de;ENCODING=QUOTED-PRINTABLE:25:14\, 25:15
END:VEVENT
BEGIN:VEVENT
UID:event12
DTSTAMP:20260329T104342Z
DTSTART:20260324T190000Z
DTEND:20260324T210000Z
LOCATION;LANGUAGE=de;ENCODING=QUOTED-PRINTABLE:Utzweg 1\, Unterhaching
SUMMARY:Punktspiel Nicht Mit Uns vs Die Unvollendeten
DESCRIPTION;LANGUAGE=de;ENCODING=QUOTED-PRINTABLE:23:25\, 22:25
END:VEVENT
BEGIN:VEVENT
UID:event13
DTSTAMP:20260329T104342Z
DTSTART:20260423T180000Z
DTEND:20260423T200000Z
LOCATION;LANGUAGE=de;ENCODING=QUOTED-PRINTABLE:Max-Proebstl-Strasse 7\, München
SUMMARY:Punktspiel PiHoppers I vs Nicht Mit Uns
DESCRIPTION;LANGUAGE=de;ENCODING=QUOTED-PRINTABLE:Rudolf-Steiner-Schule\nMax-Proebstl-Strasse 7\n81929 München\n\n\nÜbersicht https://www.volleyball-freizeit.de/schedule/overview/1079
END:VEVENT
END:VCALENDAR