BEGIN:VCALENDAR
VERSION:2.0
PRODID:-//dieLiga//DE
BEGIN:VEVENT
UID:event0
DTSTAMP:20260424T160812Z
DTSTART:20251016T180000Z
DTEND:20251016T200000Z
LOCATION;LANGUAGE=de;ENCODING=QUOTED-PRINTABLE:Fernpassstraße 41\, München
SUMMARY:Punktspiel Gänsejäger vs Optisch Überlegen
DESCRIPTION;LANGUAGE=de;ENCODING=QUOTED-PRINTABLE:8:25\, 17:25
END:VEVENT
BEGIN:VEVENT
UID:event1
DTSTAMP:20260424T160812Z
DTSTART:20251019T173000Z
DTEND:20251019T200000Z
LOCATION;LANGUAGE=de;ENCODING=QUOTED-PRINTABLE:Am Sportpark  8\, Neuried
SUMMARY:Punktspiel Amore Calzone vs Gänsejäger
DESCRIPTION;LANGUAGE=de;ENCODING=QUOTED-PRINTABLE:25:19\, 25:19
END:VEVENT
BEGIN:VEVENT
UID:event2
DTSTAMP:20260424T160812Z
DTSTART:20251030T190000Z
DTEND:20251030T210000Z
LOCATION;LANGUAGE=de;ENCODING=QUOTED-PRINTABLE:Fernpassstraße 41\, München
SUMMARY:Punktspiel Gänsejäger vs ESV München I
DESCRIPTION;LANGUAGE=de;ENCODING=QUOTED-PRINTABLE:24:26\, 10:25
END:VEVENT
BEGIN:VEVENT
UID:event3
DTSTAMP:20260424T160812Z
DTSTART:20251117T183000Z
DTEND:20251117T210000Z
LOCATION;LANGUAGE=de;ENCODING=QUOTED-PRINTABLE:Freiligrathstraße 71\, München
SUMMARY:Punktspiel SUPER SMASH vs Gänsejäger
DESCRIPTION;LANGUAGE=de;ENCODING=QUOTED-PRINTABLE:25:10\, 25:9
END:VEVENT
BEGIN:VEVENT
UID:event4
DTSTAMP:20260424T160812Z
DTSTART:20251127T190000Z
DTEND:20251127T210000Z
LOCATION;LANGUAGE=de;ENCODING=QUOTED-PRINTABLE:Fernpassstraße 41\, München
SUMMARY:Punktspiel Gänsejäger vs Kaboom
DESCRIPTION;LANGUAGE=de;ENCODING=QUOTED-PRINTABLE:19:25\, 19:25
END:VEVENT
BEGIN:VEVENT
UID:event5
DTSTAMP:20260424T160812Z
DTSTART:20260319T190000Z
DTEND:20260319T210000Z
LOCATION;LANGUAGE=de;ENCODING=QUOTED-PRINTABLE:Eduard-Schmid-Str. 1\, München
SUMMARY:Punktspiel Spartak Au vs Gänsejäger
DESCRIPTION;LANGUAGE=de;ENCODING=QUOTED-PRINTABLE:25:14\, 25:21
END:VEVENT
BEGIN:VEVENT
UID:event6
DTSTAMP:20260424T160812Z
DTSTART:20260129T190000Z
DTEND:20260129T203000Z
LOCATION;LANGUAGE=de;ENCODING=QUOTED-PRINTABLE:Eduard Schmid Str. 1\, München
SUMMARY:Punktspiel Roter Stern Altstadt vs Gänsejäger
DESCRIPTION;LANGUAGE=de;ENCODING=QUOTED-PRINTABLE:27:25\, 25:21
END:VEVENT
BEGIN:VEVENT
UID:event7
DTSTAMP:20260424T160812Z
DTSTART:20260115T193000Z
DTEND:20260115T210000Z
LOCATION;LANGUAGE=de;ENCODING=QUOTED-PRINTABLE:Sadelerstr.  10\, München
SUMMARY:Punktspiel Optisch Überlegen vs Gänsejäger
DESCRIPTION;LANGUAGE=de;ENCODING=QUOTED-PRINTABLE:25:17\, 25:18
END:VEVENT
BEGIN:VEVENT
UID:event8
DTSTAMP:20260424T160812Z
DTSTART:20260122T190000Z
DTEND:20260122T210000Z
LOCATION;LANGUAGE=de;ENCODING=QUOTED-PRINTABLE:Fernpassstraße 41\, München
SUMMARY:Punktspiel Gänsejäger vs Amore Calzone
DESCRIPTION;LANGUAGE=de;ENCODING=QUOTED-PRINTABLE:19:25\, 24:26
END:VEVENT
BEGIN:VEVENT
UID:event9
DTSTAMP:20260424T160812Z
DTSTART:20260315T190000Z
DTEND:20260315T210000Z
LOCATION;LANGUAGE=de;ENCODING=QUOTED-PRINTABLE:Margarethe-Danzi-Str. 21\, München
SUMMARY:Punktspiel ESV München I vs Gänsejäger
DESCRIPTION;LANGUAGE=de;ENCODING=QUOTED-PRINTABLE:25:11\, 25:10
END:VEVENT
BEGIN:VEVENT
UID:event10
DTSTAMP:20260424T160812Z
DTSTART:20260226T190000Z
DTEND:20260226T210000Z
LOCATION;LANGUAGE=de;ENCODING=QUOTED-PRINTABLE:Fernpassstraße 41\, München
SUMMARY:Punktspiel Gänsejäger vs SUPER SMASH
DESCRIPTION;LANGUAGE=de;ENCODING=QUOTED-PRINTABLE:21:25\, 18:25
END:VEVENT
BEGIN:VEVENT
UID:event11
DTSTAMP:20260424T160812Z
DTSTART:20260421T183000Z
DTEND:20260421T200000Z
LOCATION;LANGUAGE=de;ENCODING=QUOTED-PRINTABLE:Papinstraße 22\, München
SUMMARY:Punktspiel Kaboom vs Gänsejäger
DESCRIPTION;LANGUAGE=de;ENCODING=QUOTED-PRINTABLE:25:22\, 25:21
END:VEVENT
BEGIN:VEVENT
UID:event12
DTSTAMP:20260424T160812Z
DTSTART:20260305T190000Z
DTEND:20260305T210000Z
LOCATION;LANGUAGE=de;ENCODING=QUOTED-PRINTABLE:Fernpassstraße 41\, München
SUMMARY:Punktspiel Gänsejäger vs Spartak Au
DESCRIPTION;LANGUAGE=de;ENCODING=QUOTED-PRINTABLE:25:14\, 22:25\, 21:25
END:VEVENT
BEGIN:VEVENT
UID:event13
DTSTAMP:20260424T160812Z
DTSTART:20260312T190000Z
DTEND:20260312T210000Z
LOCATION;LANGUAGE=de;ENCODING=QUOTED-PRINTABLE:Fernpassstraße 41\, München
SUMMARY:Punktspiel Gänsejäger vs Roter Stern Altstadt
DESCRIPTION;LANGUAGE=de;ENCODING=QUOTED-PRINTABLE:25:15\, 25:23
END:VEVENT
END:VCALENDAR