BEGIN:VCALENDAR
VERSION:2.0
PRODID:-//dieLiga//DE
BEGIN:VEVENT
UID:event0
DTSTAMP:20260421T014403Z
DTSTART:20251015T173000Z
DTEND:20251015T193000Z
LOCATION;LANGUAGE=de;ENCODING=QUOTED-PRINTABLE:St. Cajetan Str. 33\, München
SUMMARY:Punktspiel Schmetterlinge vs Latino SC Munich
DESCRIPTION;LANGUAGE=de;ENCODING=QUOTED-PRINTABLE:25:17\, 15:25\, 25:10
END:VEVENT
BEGIN:VEVENT
UID:event1
DTSTAMP:20260421T014403Z
DTSTART:20251020T173000Z
DTEND:20251020T193000Z
LOCATION;LANGUAGE=de;ENCODING=QUOTED-PRINTABLE:Ernst-Reuter-Str 4\, München
SUMMARY:Punktspiel Känguruhs vs Schmetterlinge
DESCRIPTION;LANGUAGE=de;ENCODING=QUOTED-PRINTABLE:20:25\, 19:25
END:VEVENT
BEGIN:VEVENT
UID:event2
DTSTAMP:20260421T014403Z
DTSTART:20251203T183000Z
DTEND:20251203T203000Z
LOCATION;LANGUAGE=de;ENCODING=QUOTED-PRINTABLE:St. Cajetan Str. 33\, München
SUMMARY:Punktspiel Schmetterlinge vs Jagdgänse
DESCRIPTION;LANGUAGE=de;ENCODING=QUOTED-PRINTABLE:13:25\, 25:17\, 27:25
END:VEVENT
BEGIN:VEVENT
UID:event3
DTSTAMP:20260421T014403Z
DTSTART:20251113T190000Z
DTEND:20251113T210000Z
LOCATION;LANGUAGE=de;ENCODING=QUOTED-PRINTABLE:Infanteriestraße 27\, München
SUMMARY:Punktspiel VolleyBR vs Schmetterlinge
DESCRIPTION;LANGUAGE=de;ENCODING=QUOTED-PRINTABLE:15:25\, 18:25
END:VEVENT
BEGIN:VEVENT
UID:event4
DTSTAMP:20260421T014403Z
DTSTART:20260415T173000Z
DTEND:20260415T193000Z
LOCATION;LANGUAGE=de;ENCODING=QUOTED-PRINTABLE:St. Cajetan Str. 33\, München
SUMMARY:Punktspiel Schmetterlinge vs Los Invalidos
DESCRIPTION;LANGUAGE=de;ENCODING=QUOTED-PRINTABLE:25:20\, 25:7
END:VEVENT
BEGIN:VEVENT
UID:event5
DTSTAMP:20260421T014403Z
DTSTART:20260119T190000Z
DTEND:20260119T210000Z
LOCATION;LANGUAGE=de;ENCODING=QUOTED-PRINTABLE:Margarethe-Danzi Str. 21\, München
SUMMARY:Punktspiel Volleyballindianer vs Schmetterlinge
DESCRIPTION;LANGUAGE=de;ENCODING=QUOTED-PRINTABLE:25:23\, 15:25\, 25:17
END:VEVENT
BEGIN:VEVENT
UID:event6
DTSTAMP:20260421T014403Z
DTSTART:20260128T183000Z
DTEND:20260128T203000Z
LOCATION;LANGUAGE=de;ENCODING=QUOTED-PRINTABLE:St. Cajetan Str. 33\, München
SUMMARY:Punktspiel Schmetterlinge vs The Specials
DESCRIPTION;LANGUAGE=de;ENCODING=QUOTED-PRINTABLE:24:26\, 25:20\, 22:25
END:VEVENT
BEGIN:VEVENT
UID:event7
DTSTAMP:20260421T014403Z
DTSTART:20251120T183000Z
DTEND:20251120T204500Z
LOCATION;LANGUAGE=de;ENCODING=QUOTED-PRINTABLE:Luisenstr. 29\, München
SUMMARY:Punktspiel Latino SC Munich vs Schmetterlinge
DESCRIPTION;LANGUAGE=de;ENCODING=QUOTED-PRINTABLE:20:25\, 15:25
END:VEVENT
BEGIN:VEVENT
UID:event8
DTSTAMP:20260421T014403Z
DTSTART:20260211T183000Z
DTEND:20260211T203000Z
LOCATION;LANGUAGE=de;ENCODING=QUOTED-PRINTABLE:St. Cajetan Str. 33\, München
SUMMARY:Punktspiel Schmetterlinge vs Känguruhs
DESCRIPTION;LANGUAGE=de;ENCODING=QUOTED-PRINTABLE:25:18\, 21:25\, 25:15
END:VEVENT
BEGIN:VEVENT
UID:event9
DTSTAMP:20260421T014403Z
DTSTART:20260302T190000Z
DTEND:20260302T210000Z
LOCATION;LANGUAGE=de;ENCODING=QUOTED-PRINTABLE:Fernpassstr. 41\, München
SUMMARY:Punktspiel Jagdgänse vs Schmetterlinge
DESCRIPTION;LANGUAGE=de;ENCODING=QUOTED-PRINTABLE:25:23\, 22:25\, 15:25
END:VEVENT
BEGIN:VEVENT
UID:event10
DTSTAMP:20260421T014403Z
DTSTART:20260311T183000Z
DTEND:20260311T203000Z
LOCATION;LANGUAGE=de;ENCODING=QUOTED-PRINTABLE:St. Cajetan Str. 33\, München
SUMMARY:Punktspiel Schmetterlinge vs VolleyBR
DESCRIPTION;LANGUAGE=de;ENCODING=QUOTED-PRINTABLE:26:24\, 26:24
END:VEVENT
BEGIN:VEVENT
UID:event11
DTSTAMP:20260421T014403Z
DTSTART:20260317T183000Z
DTEND:20260317T210000Z
LOCATION;LANGUAGE=de;ENCODING=QUOTED-PRINTABLE:Karl-Theodor-Straße 92\, München
SUMMARY:Punktspiel Los Invalidos vs Schmetterlinge
DESCRIPTION;LANGUAGE=de;ENCODING=QUOTED-PRINTABLE:19:25\, 17:25
END:VEVENT
BEGIN:VEVENT
UID:event12
DTSTAMP:20260421T014403Z
DTSTART:20260325T183000Z
DTEND:20260325T203000Z
LOCATION;LANGUAGE=de;ENCODING=QUOTED-PRINTABLE:St. Cajetan Str. 33\, München
SUMMARY:Punktspiel Schmetterlinge vs Volleyballindianer
DESCRIPTION;LANGUAGE=de;ENCODING=QUOTED-PRINTABLE:16:25\, 25:13\, 19:25
END:VEVENT
BEGIN:VEVENT
UID:event13
DTSTAMP:20260421T014403Z
DTSTART:20260420T180000Z
DTEND:20260420T193000Z
LOCATION;LANGUAGE=de;ENCODING=QUOTED-PRINTABLE:Haager Straße  16\, München
SUMMARY:Punktspiel The Specials vs Schmetterlinge
DESCRIPTION;LANGUAGE=de;ENCODING=QUOTED-PRINTABLE:25:22\, 13:25\, 15:25
END:VEVENT
END:VCALENDAR