BEGIN:VCALENDAR
VERSION:2.0
PRODID:-//dieLiga//DE
BEGIN:VEVENT
UID:event0
DTSTAMP:20260423T150135Z
DTSTART:20251014T180000Z
DTEND:20251014T200000Z
LOCATION;LANGUAGE=de;ENCODING=QUOTED-PRINTABLE:Riegerhofstraße 20\, München
SUMMARY:Punktspiel Laimer Zufall vs SVSF StuSta
DESCRIPTION;LANGUAGE=de;ENCODING=QUOTED-PRINTABLE:25:14\, 25:22
END:VEVENT
BEGIN:VEVENT
UID:event1
DTSTAMP:20260423T150135Z
DTSTART:20260510T170000Z
DTEND:20260510T190000Z
LOCATION;LANGUAGE=de;ENCODING=QUOTED-PRINTABLE:Osterwaldstraße 144\, München
SUMMARY:Punktspiel SVSF StuSta vs Decke-Boden
DESCRIPTION;LANGUAGE=de;ENCODING=QUOTED-PRINTABLE:Allianz Anlage\nOsterwaldstraße 144\n80805 München\nAlte Heide\n\nÜbersicht https://www.volleyball-freizeit.de/schedule/overview/1078
END:VEVENT
BEGIN:VEVENT
UID:event2
DTSTAMP:20260423T150135Z
DTSTART:20251202T190000Z
DTEND:20251202T210000Z
LOCATION;LANGUAGE=de;ENCODING=QUOTED-PRINTABLE:Josef-Hagn-Straße 2\, München
SUMMARY:Punktspiel BallaBalla vs SVSF StuSta
DESCRIPTION;LANGUAGE=de;ENCODING=QUOTED-PRINTABLE:25:11\, 25:23
END:VEVENT
BEGIN:VEVENT
UID:event3
DTSTAMP:20260423T150135Z
DTSTART:20251207T180000Z
DTEND:20251207T200000Z
LOCATION;LANGUAGE=de;ENCODING=QUOTED-PRINTABLE:Osterwaldstraße 144\, München
SUMMARY:Punktspiel SVSF StuSta vs Mooskitos
DESCRIPTION;LANGUAGE=de;ENCODING=QUOTED-PRINTABLE:8:25\, 25:19\, 22:25
END:VEVENT
BEGIN:VEVENT
UID:event4
DTSTAMP:20260423T150135Z
DTSTART:20260504T173000Z
DTEND:20260504T200000Z
LOCATION;LANGUAGE=de;ENCODING=QUOTED-PRINTABLE:Maria-Ward-Straße  3\, München
SUMMARY:Punktspiel KAAAMEE HAAAMEE HAAAAA vs SVSF StuSta
DESCRIPTION;LANGUAGE=de;ENCODING=QUOTED-PRINTABLE:Maria-Ward-Turnhalle (Direkt gegenüber der Schloßmauer durch eine Holztür)\nMaria-Ward-Straße  3\n80638 München\nNymphenburg\n\nÜbersicht https://www.volleyball-freizeit.de/schedule/overview/1078
END:VEVENT
BEGIN:VEVENT
UID:event5
DTSTAMP:20260423T150135Z
DTSTART:20260119T190000Z
DTEND:20260119T210000Z
LOCATION;LANGUAGE=de;ENCODING=QUOTED-PRINTABLE:Margarethe-Danzi-Str. 21\, München
SUMMARY:Punktspiel 6 für Cuba vs SVSF StuSta
DESCRIPTION;LANGUAGE=de;ENCODING=QUOTED-PRINTABLE:25:16\, 25:19
END:VEVENT
BEGIN:VEVENT
UID:event6
DTSTAMP:20260423T150135Z
DTSTART:20260125T180000Z
DTEND:20260125T200000Z
LOCATION;LANGUAGE=de;ENCODING=QUOTED-PRINTABLE:Osterwaldstraße 144\, München
SUMMARY:Punktspiel SVSF StuSta vs Hot Bananas
DESCRIPTION;LANGUAGE=de;ENCODING=QUOTED-PRINTABLE:25:10\, 22:25\, 25:18
END:VEVENT
BEGIN:VEVENT
UID:event7
DTSTAMP:20260423T150135Z
DTSTART:20260222T180000Z
DTEND:20260222T200000Z
LOCATION;LANGUAGE=de;ENCODING=QUOTED-PRINTABLE:Osterwaldstraße 144\, München
SUMMARY:Punktspiel SVSF StuSta vs Laimer Zufall
DESCRIPTION;LANGUAGE=de;ENCODING=QUOTED-PRINTABLE:15:25\, 17:25
END:VEVENT
BEGIN:VEVENT
UID:event8
DTSTAMP:20260423T150135Z
DTSTART:20260210T190000Z
DTEND:20260210T210000Z
LOCATION;LANGUAGE=de;ENCODING=QUOTED-PRINTABLE:Infanteriestraße  25\, München
SUMMARY:Punktspiel Decke-Boden vs SVSF StuSta
DESCRIPTION;LANGUAGE=de;ENCODING=QUOTED-PRINTABLE:25:22\, 25:17
END:VEVENT
BEGIN:VEVENT
UID:event9
DTSTAMP:20260423T150135Z
DTSTART:20260426T170000Z
DTEND:20260426T190000Z
LOCATION;LANGUAGE=de;ENCODING=QUOTED-PRINTABLE:Osterwaldstraße 144\, München
SUMMARY:Punktspiel SVSF StuSta vs BallaBalla
DESCRIPTION;LANGUAGE=de;ENCODING=QUOTED-PRINTABLE:Allianz Anlage\nOsterwaldstraße 144\n80805 München\nAlte Heide\n\nÜbersicht https://www.volleyball-freizeit.de/schedule/overview/1078
END:VEVENT
BEGIN:VEVENT
UID:event10
DTSTAMP:20260423T150135Z
DTSTART:20260315T180000Z
DTEND:20260315T200000Z
LOCATION;LANGUAGE=de;ENCODING=QUOTED-PRINTABLE:Osterwaldstraße 144\, München
SUMMARY:Punktspiel SVSF StuSta vs KAAAMEE HAAAMEE HAAAAA
DESCRIPTION;LANGUAGE=de;ENCODING=QUOTED-PRINTABLE:15:25\, 10:25
END:VEVENT
BEGIN:VEVENT
UID:event11
DTSTAMP:20260423T150135Z
DTSTART:20260322T180000Z
DTEND:20260322T200000Z
LOCATION;LANGUAGE=de;ENCODING=QUOTED-PRINTABLE:Osterwaldstraße 144\, München
SUMMARY:Punktspiel SVSF StuSta vs 6 für Cuba
DESCRIPTION;LANGUAGE=de;ENCODING=QUOTED-PRINTABLE:20:25\, 8:25
END:VEVENT
BEGIN:VEVENT
UID:event12
DTSTAMP:20260423T150135Z
DTSTART:20260420T170000Z
DTEND:20260420T190000Z
LOCATION;LANGUAGE=de;ENCODING=QUOTED-PRINTABLE:Eversbuschstrasse 182\, München
SUMMARY:Punktspiel Hot Bananas vs SVSF StuSta
DESCRIPTION;LANGUAGE=de;ENCODING=QUOTED-PRINTABLE:25:15\, 25:20
END:VEVENT
END:VCALENDAR