BEGIN:VCALENDAR
VERSION:2.0
PRODID:-//dieLiga//DE
BEGIN:VEVENT
UID:event0
DTSTAMP:20260422T193011Z
DTSTART:20260505T170000Z
LOCATION;LANGUAGE=de;ENCODING=QUOTED-PRINTABLE:
SUMMARY:Punktspiel Formel 6 vs Pflegestufe 2
DESCRIPTION;LANGUAGE=de;ENCODING=QUOTED-PRINTABLE:\n\nÜbersicht https://www.volleyball-freizeit.de/schedule/overview/1080
END:VEVENT
BEGIN:VEVENT
UID:event1
DTSTAMP:20260422T193011Z
DTSTART:20251105T193000Z
DTEND:20251105T220000Z
LOCATION;LANGUAGE=de;ENCODING=QUOTED-PRINTABLE:Säbenerstraße  49\, München
SUMMARY:Punktspiel Pflegestufe 2 vs Die jungen Wilden
DESCRIPTION;LANGUAGE=de;ENCODING=QUOTED-PRINTABLE:17:25\, 13:25
END:VEVENT
BEGIN:VEVENT
UID:event2
DTSTAMP:20260422T193011Z
DTSTART:20260513T180000Z
LOCATION;LANGUAGE=de;ENCODING=QUOTED-PRINTABLE:
SUMMARY:Punktspiel Blue Igel vs Pflegestufe 2
DESCRIPTION;LANGUAGE=de;ENCODING=QUOTED-PRINTABLE:\n\nÜbersicht https://www.volleyball-freizeit.de/schedule/overview/1080
END:VEVENT
BEGIN:VEVENT
UID:event3
DTSTAMP:20260422T193011Z
DTSTART:20251210T193000Z
DTEND:20251210T220000Z
LOCATION;LANGUAGE=de;ENCODING=QUOTED-PRINTABLE:Säbenerstraße  49\, München
SUMMARY:Punktspiel Pflegestufe 2 vs 7NA
DESCRIPTION;LANGUAGE=de;ENCODING=QUOTED-PRINTABLE:25:20\, 25:15
END:VEVENT
BEGIN:VEVENT
UID:event4
DTSTAMP:20260422T193011Z
DTSTART:20251215T184500Z
DTEND:20251215T201500Z
LOCATION;LANGUAGE=de;ENCODING=QUOTED-PRINTABLE:Nadistraße 3\, München
SUMMARY:Punktspiel SV Olympiadorf vs Pflegestufe 2
DESCRIPTION;LANGUAGE=de;ENCODING=QUOTED-PRINTABLE:25:11\, 25:20
END:VEVENT
BEGIN:VEVENT
UID:event5
DTSTAMP:20260422T193011Z
DTSTART:20260401T183000Z
DTEND:20260401T210000Z
LOCATION;LANGUAGE=de;ENCODING=QUOTED-PRINTABLE:Säbenerstraße  49\, München
SUMMARY:Punktspiel Pflegestufe 2 vs Mad Max
DESCRIPTION;LANGUAGE=de;ENCODING=QUOTED-PRINTABLE:25:9\, 21:25\, 25:19
END:VEVENT
BEGIN:VEVENT
UID:event6
DTSTAMP:20260422T193011Z
DTSTART:20260126T190000Z
DTEND:20260126T210000Z
LOCATION;LANGUAGE=de;ENCODING=QUOTED-PRINTABLE:Maria Ward Straße \, München
SUMMARY:Punktspiel Nymphenburger Schmetterlinge vs Pflegestufe 2
DESCRIPTION;LANGUAGE=de;ENCODING=QUOTED-PRINTABLE:25:21\, 21:25\, 25:12
END:VEVENT
BEGIN:VEVENT
UID:event7
DTSTAMP:20260422T193011Z
DTSTART:20260204T193000Z
DTEND:20260204T220000Z
LOCATION;LANGUAGE=de;ENCODING=QUOTED-PRINTABLE:Säbenerstraße  49\, München
SUMMARY:Punktspiel Pflegestufe 2 vs Formel 6
DESCRIPTION;LANGUAGE=de;ENCODING=QUOTED-PRINTABLE:25:23\, 17:25\, 13:25
END:VEVENT
BEGIN:VEVENT
UID:event8
DTSTAMP:20260422T193011Z
DTSTART:20260428T180000Z
DTEND:20260428T200000Z
LOCATION;LANGUAGE=de;ENCODING=QUOTED-PRINTABLE:Prof.-Otto-Hupp-Str. 26b\, Oberschleißheim
SUMMARY:Punktspiel Die jungen Wilden vs Pflegestufe 2
DESCRIPTION;LANGUAGE=de;ENCODING=QUOTED-PRINTABLE:Turnhalle am Hallenbad\nProf.-Otto-Hupp-Str. 26b\n85764 Oberschleißheim\n\n\nÜbersicht https://www.volleyball-freizeit.de/schedule/overview/1080
END:VEVENT
BEGIN:VEVENT
UID:event9
DTSTAMP:20260422T193011Z
DTSTART:20260304T193000Z
DTEND:20260304T220000Z
LOCATION;LANGUAGE=de;ENCODING=QUOTED-PRINTABLE:Säbenerstraße  49\, München
SUMMARY:Punktspiel Pflegestufe 2 vs Blue Igel
DESCRIPTION;LANGUAGE=de;ENCODING=QUOTED-PRINTABLE:25:14\, 25:23
END:VEVENT
BEGIN:VEVENT
UID:event10
DTSTAMP:20260422T193011Z
DTSTART:20260414T180000Z
DTEND:20260414T200000Z
LOCATION;LANGUAGE=de;ENCODING=QUOTED-PRINTABLE:Freiligrathstr. 71\, München
SUMMARY:Punktspiel 7NA vs Pflegestufe 2
DESCRIPTION;LANGUAGE=de;ENCODING=QUOTED-PRINTABLE:23:25\, 24:26
END:VEVENT
BEGIN:VEVENT
UID:event11
DTSTAMP:20260422T193011Z
DTSTART:20260504T183000Z
DTEND:20260504T210000Z
LOCATION;LANGUAGE=de;ENCODING=QUOTED-PRINTABLE:Säbenerstraße  49\, München
SUMMARY:Punktspiel Pflegestufe 2 vs SV Olympiadorf
DESCRIPTION;LANGUAGE=de;ENCODING=QUOTED-PRINTABLE:Sporthalle an der Säbenerstraße (Bitte in der Umkleide warten\, vorher ist Gymnastik. Wir holen euch rein.)\nSäbenerstraße  49\n81547 München\n\n\nÜbersicht https://www.volleyball-freizeit.de/schedule/overview/1080
END:VEVENT
BEGIN:VEVENT
UID:event12
DTSTAMP:20260422T193011Z
DTSTART:20260325T193000Z
DTEND:20260325T210000Z
LOCATION;LANGUAGE=de;ENCODING=QUOTED-PRINTABLE:Karl-Theodor Str. 9\, München
SUMMARY:Punktspiel Mad Max vs Pflegestufe 2
DESCRIPTION;LANGUAGE=de;ENCODING=QUOTED-PRINTABLE:27:25\, 25:18
END:VEVENT
END:VCALENDAR