BEGIN:VCALENDAR
VERSION:2.0
PRODID:-//dieLiga//DE
BEGIN:VEVENT
UID:event0
DTSTAMP:20260423T145301Z
DTSTART:20260303T183000Z
DTEND:20260303T203000Z
LOCATION;LANGUAGE=de;ENCODING=QUOTED-PRINTABLE:Großhaderner Str. 50\, München
SUMMARY:Punktspiel All Schmetterhands vs 6-im-Feld
DESCRIPTION;LANGUAGE=de;ENCODING=QUOTED-PRINTABLE:13:25\, 25:13\, 20:25
END:VEVENT
BEGIN:VEVENT
UID:event1
DTSTAMP:20260423T145301Z
DTSTART:20251023T173000Z
DTEND:20251023T200000Z
LOCATION;LANGUAGE=de;ENCODING=QUOTED-PRINTABLE:Samberger Str. 14\, München
SUMMARY:Punktspiel 6-im-Feld vs Los Krachos
DESCRIPTION;LANGUAGE=de;ENCODING=QUOTED-PRINTABLE:16:25\, 20:25
END:VEVENT
BEGIN:VEVENT
UID:event2
DTSTAMP:20260423T145301Z
DTSTART:20251202T193000Z
DTEND:20251202T210000Z
LOCATION;LANGUAGE=de;ENCODING=QUOTED-PRINTABLE:Am Sportpark 8\, Neuried
SUMMARY:Punktspiel Hau-raus-wie-nix vs 6-im-Feld
DESCRIPTION;LANGUAGE=de;ENCODING=QUOTED-PRINTABLE:25:23\, 28:26
END:VEVENT
BEGIN:VEVENT
UID:event3
DTSTAMP:20260423T145301Z
DTSTART:20251209T183000Z
DTEND:20251209T203000Z
LOCATION;LANGUAGE=de;ENCODING=QUOTED-PRINTABLE:Großhadener Str. 50\, München
SUMMARY:Punktspiel Haderlumpen vs 6-im-Feld
DESCRIPTION;LANGUAGE=de;ENCODING=QUOTED-PRINTABLE:23:25\, 11:25
END:VEVENT
BEGIN:VEVENT
UID:event4
DTSTAMP:20260423T145301Z
DTSTART:20251127T183000Z
DTEND:20251127T204500Z
LOCATION;LANGUAGE=de;ENCODING=QUOTED-PRINTABLE:Luisenstr. 29\, München
SUMMARY:Punktspiel Latino SC Munich 3 vs 6-im-Feld
DESCRIPTION;LANGUAGE=de;ENCODING=QUOTED-PRINTABLE:27:25\, 20:25\, 14:25
END:VEVENT
BEGIN:VEVENT
UID:event5
DTSTAMP:20260423T145301Z
DTSTART:20260121T181500Z
DTEND:20260121T204500Z
LOCATION;LANGUAGE=de;ENCODING=QUOTED-PRINTABLE:Luisenstr. 9\, München
SUMMARY:Punktspiel The Suntouchables vs 6-im-Feld
DESCRIPTION;LANGUAGE=de;ENCODING=QUOTED-PRINTABLE:19:25\, 22:25
END:VEVENT
BEGIN:VEVENT
UID:event6
DTSTAMP:20260423T145301Z
DTSTART:20260129T183000Z
DTEND:20260129T210000Z
LOCATION;LANGUAGE=de;ENCODING=QUOTED-PRINTABLE:Samberger Str. 14\, München
SUMMARY:Punktspiel 6-im-Feld vs HSG München Laim
DESCRIPTION;LANGUAGE=de;ENCODING=QUOTED-PRINTABLE:21:25\, 25:18\, 25:19
END:VEVENT
BEGIN:VEVENT
UID:event7
DTSTAMP:20260423T145301Z
DTSTART:20260205T183000Z
DTEND:20260205T210000Z
LOCATION;LANGUAGE=de;ENCODING=QUOTED-PRINTABLE:Samberger Str. 14\, München
SUMMARY:Punktspiel 6-im-Feld vs All Schmetterhands
DESCRIPTION;LANGUAGE=de;ENCODING=QUOTED-PRINTABLE:25:19\, 25:15
END:VEVENT
BEGIN:VEVENT
UID:event8
DTSTAMP:20260423T145301Z
DTSTART:20260208T190000Z
DTEND:20260208T210000Z
LOCATION;LANGUAGE=de;ENCODING=QUOTED-PRINTABLE:Margarethe-Danzi-Str. 21\, München
SUMMARY:Punktspiel Los Krachos vs 6-im-Feld
DESCRIPTION;LANGUAGE=de;ENCODING=QUOTED-PRINTABLE:12:25\, 19:25
END:VEVENT
BEGIN:VEVENT
UID:event9
DTSTAMP:20260423T145301Z
DTSTART:20260305T183000Z
DTEND:20260305T210000Z
LOCATION;LANGUAGE=de;ENCODING=QUOTED-PRINTABLE:Samberger Str. 14\, München
SUMMARY:Punktspiel 6-im-Feld vs Hau-raus-wie-nix
DESCRIPTION;LANGUAGE=de;ENCODING=QUOTED-PRINTABLE:25:18\, 25:23
END:VEVENT
BEGIN:VEVENT
UID:event10
DTSTAMP:20260423T145301Z
DTSTART:20260416T173000Z
DTEND:20260416T200000Z
LOCATION;LANGUAGE=de;ENCODING=QUOTED-PRINTABLE:Samberger Str. 14\, München
SUMMARY:Punktspiel 6-im-Feld vs Haderlumpen
DESCRIPTION;LANGUAGE=de;ENCODING=QUOTED-PRINTABLE:16:25\, 15:25
END:VEVENT
BEGIN:VEVENT
UID:event11
DTSTAMP:20260423T145301Z
DTSTART:20260319T183000Z
DTEND:20260319T210000Z
LOCATION;LANGUAGE=de;ENCODING=QUOTED-PRINTABLE:Samberger Str. 14\, München
SUMMARY:Punktspiel 6-im-Feld vs Latino SC Munich 3
DESCRIPTION;LANGUAGE=de;ENCODING=QUOTED-PRINTABLE:21:25\, 25:20\, 25:18
END:VEVENT
BEGIN:VEVENT
UID:event12
DTSTAMP:20260423T145301Z
DTSTART:20260326T183000Z
DTEND:20260326T210000Z
LOCATION;LANGUAGE=de;ENCODING=QUOTED-PRINTABLE:Samberger Str. 14\, München
SUMMARY:Punktspiel 6-im-Feld vs The Suntouchables
DESCRIPTION;LANGUAGE=de;ENCODING=QUOTED-PRINTABLE:25:23\, 25:13
END:VEVENT
BEGIN:VEVENT
UID:event13
DTSTAMP:20260423T145301Z
DTSTART:20260422T180000Z
DTEND:20260422T203000Z
LOCATION;LANGUAGE=de;ENCODING=QUOTED-PRINTABLE:Gilmstraße 46\, München
SUMMARY:Punktspiel HSG München Laim vs 6-im-Feld
DESCRIPTION;LANGUAGE=de;ENCODING=QUOTED-PRINTABLE:20:25\, 25:16\, 25:14
END:VEVENT
END:VCALENDAR