BEGIN:VCALENDAR
VERSION:2.0
PRODID:-//dieLiga//DE
BEGIN:VEVENT
UID:event0
DTSTAMP:20260328T133830Z
DTSTART:20251013T173000Z
DTEND:20251013T200000Z
LOCATION;LANGUAGE=de;ENCODING=QUOTED-PRINTABLE:Freiligrathstraße 71\, München
SUMMARY:Punktspiel SUPER SMASH vs ESV München I
DESCRIPTION;LANGUAGE=de;ENCODING=QUOTED-PRINTABLE:25:19\, 23:25\, 25:19
END:VEVENT
BEGIN:VEVENT
UID:event1
DTSTAMP:20260328T133830Z
DTSTART:20251019T180000Z
DTEND:20251019T200000Z
LOCATION;LANGUAGE=de;ENCODING=QUOTED-PRINTABLE:Margarethe-Danzi-Str. 21\, München
SUMMARY:Punktspiel ESV München I vs Kaboom
DESCRIPTION;LANGUAGE=de;ENCODING=QUOTED-PRINTABLE:25:15\, 25:18
END:VEVENT
BEGIN:VEVENT
UID:event2
DTSTAMP:20260328T133830Z
DTSTART:20251030T190000Z
DTEND:20251030T210000Z
LOCATION;LANGUAGE=de;ENCODING=QUOTED-PRINTABLE:Fernpassstraße 41\, München
SUMMARY:Punktspiel Gänsejäger vs ESV München I
DESCRIPTION;LANGUAGE=de;ENCODING=QUOTED-PRINTABLE:24:26\, 10:25
END:VEVENT
BEGIN:VEVENT
UID:event3
DTSTAMP:20260328T133830Z
DTSTART:20251116T190000Z
DTEND:20251116T210000Z
LOCATION;LANGUAGE=de;ENCODING=QUOTED-PRINTABLE:Margarethe-Danzi-Str. 21\, München
SUMMARY:Punktspiel ESV München I vs Roter Stern Altstadt
DESCRIPTION;LANGUAGE=de;ENCODING=QUOTED-PRINTABLE:25:19\, 20:25\, 25:17
END:VEVENT
BEGIN:VEVENT
UID:event4
DTSTAMP:20260328T133830Z
DTSTART:20260319T193000Z
DTEND:20260319T210000Z
LOCATION;LANGUAGE=de;ENCODING=QUOTED-PRINTABLE:Sadelerstr.  10\, München
SUMMARY:Punktspiel Optisch Überlegen vs ESV München I
DESCRIPTION;LANGUAGE=de;ENCODING=QUOTED-PRINTABLE:26:24\, 25:19
END:VEVENT
BEGIN:VEVENT
UID:event5
DTSTAMP:20260328T133830Z
DTSTART:20260301T190000Z
LOCATION;LANGUAGE=de;ENCODING=QUOTED-PRINTABLE:
SUMMARY:Punktspiel ESV München I vs Amore Calzone
DESCRIPTION;LANGUAGE=de;ENCODING=QUOTED-PRINTABLE:25:23\, 25:23
END:VEVENT
BEGIN:VEVENT
UID:event6
DTSTAMP:20260328T133830Z
DTSTART:20251207T190000Z
DTEND:20251207T210000Z
LOCATION;LANGUAGE=de;ENCODING=QUOTED-PRINTABLE:Margarethe-Danzi-Str. 21\, München
SUMMARY:Punktspiel ESV München I vs Spartak Au
DESCRIPTION;LANGUAGE=de;ENCODING=QUOTED-PRINTABLE:22:25\, 25:21\, 15:25
END:VEVENT
BEGIN:VEVENT
UID:event7
DTSTAMP:20260328T133830Z
DTSTART:20260111T190000Z
DTEND:20260111T210000Z
LOCATION;LANGUAGE=de;ENCODING=QUOTED-PRINTABLE:Margarethe-Danzi-Str. 21\, München
SUMMARY:Punktspiel ESV München I vs SUPER SMASH
DESCRIPTION;LANGUAGE=de;ENCODING=QUOTED-PRINTABLE:25:19\, 17:25\, 25:17
END:VEVENT
BEGIN:VEVENT
UID:event8
DTSTAMP:20260328T133830Z
DTSTART:20260317T193000Z
DTEND:20260317T210000Z
LOCATION;LANGUAGE=de;ENCODING=QUOTED-PRINTABLE:Papinstraße 22\, München
SUMMARY:Punktspiel Kaboom vs ESV München I
DESCRIPTION;LANGUAGE=de;ENCODING=QUOTED-PRINTABLE:17:25\, 16:25
END:VEVENT
BEGIN:VEVENT
UID:event9
DTSTAMP:20260328T133830Z
DTSTART:20260315T190000Z
DTEND:20260315T210000Z
LOCATION;LANGUAGE=de;ENCODING=QUOTED-PRINTABLE:Margarethe-Danzi-Str. 21\, München
SUMMARY:Punktspiel ESV München I vs Gänsejäger
DESCRIPTION;LANGUAGE=de;ENCODING=QUOTED-PRINTABLE:25:11\, 25:10
END:VEVENT
BEGIN:VEVENT
UID:event10
DTSTAMP:20260328T133830Z
DTSTART:20260205T190000Z
DTEND:20260205T203000Z
LOCATION;LANGUAGE=de;ENCODING=QUOTED-PRINTABLE:Eduard Schmid Str. 1\, München
SUMMARY:Punktspiel Roter Stern Altstadt vs ESV München I
DESCRIPTION;LANGUAGE=de;ENCODING=QUOTED-PRINTABLE:25:21\, 20:25\, 19:25
END:VEVENT
BEGIN:VEVENT
UID:event11
DTSTAMP:20260328T133830Z
DTSTART:20260208T190000Z
DTEND:20260208T210000Z
LOCATION;LANGUAGE=de;ENCODING=QUOTED-PRINTABLE:Margarethe-Danzi-Str. 21\, München
SUMMARY:Punktspiel ESV München I vs Optisch Überlegen
DESCRIPTION;LANGUAGE=de;ENCODING=QUOTED-PRINTABLE:19:25\, 25:21\, 20:25
END:VEVENT
BEGIN:VEVENT
UID:event12
DTSTAMP:20260328T133830Z
DTSTART:20251119T180000Z
LOCATION;LANGUAGE=de;ENCODING=QUOTED-PRINTABLE:
SUMMARY:Punktspiel Amore Calzone vs ESV München I
DESCRIPTION;LANGUAGE=de;ENCODING=QUOTED-PRINTABLE:24:26\, 25:20\, 16:25
END:VEVENT
BEGIN:VEVENT
UID:event13
DTSTAMP:20260328T133830Z
DTSTART:20260312T190000Z
DTEND:20260312T210000Z
LOCATION;LANGUAGE=de;ENCODING=QUOTED-PRINTABLE:Eduard-Schmid-Str. 1\, München
SUMMARY:Punktspiel Spartak Au vs ESV München I
DESCRIPTION;LANGUAGE=de;ENCODING=QUOTED-PRINTABLE:25:23\, 22:25\, 27:25
END:VEVENT
END:VCALENDAR