BEGIN:VCALENDAR
VERSION:2.0
PRODID:-//dieLiga//DE
BEGIN:VEVENT
UID:event0
DTSTAMP:20260425T103433Z
DTSTART:20251014T173000Z
DTEND:20251014T200000Z
LOCATION;LANGUAGE=de;ENCODING=QUOTED-PRINTABLE:Karl-Theodor-Straße 92\, München
SUMMARY:Punktspiel Los Invalidos vs VolleyBR
DESCRIPTION;LANGUAGE=de;ENCODING=QUOTED-PRINTABLE:25:14\, 25:21
END:VEVENT
BEGIN:VEVENT
UID:event1
DTSTAMP:20260425T103433Z
DTSTART:20251027T183000Z
DTEND:20251027T204500Z
LOCATION;LANGUAGE=de;ENCODING=QUOTED-PRINTABLE:Luisenstr. 29\, München
SUMMARY:Punktspiel Latino SC Munich vs Los Invalidos
DESCRIPTION;LANGUAGE=de;ENCODING=QUOTED-PRINTABLE:25:13\, 25:27\, 25:15
END:VEVENT
BEGIN:VEVENT
UID:event2
DTSTAMP:20260425T103433Z
DTSTART:20251201T190000Z
DTEND:20251201T210000Z
LOCATION;LANGUAGE=de;ENCODING=QUOTED-PRINTABLE:Margarethe-Danzi Str. 21\, München
SUMMARY:Punktspiel Volleyballindianer vs Los Invalidos
DESCRIPTION;LANGUAGE=de;ENCODING=QUOTED-PRINTABLE:25:21\, 25:18
END:VEVENT
BEGIN:VEVENT
UID:event3
DTSTAMP:20260425T103433Z
DTSTART:20251209T183000Z
DTEND:20251209T210000Z
LOCATION;LANGUAGE=de;ENCODING=QUOTED-PRINTABLE:Karl-Theodor-Straße 92\, München
SUMMARY:Punktspiel Los Invalidos vs The Specials
DESCRIPTION;LANGUAGE=de;ENCODING=QUOTED-PRINTABLE:25:20\, 25:18
END:VEVENT
BEGIN:VEVENT
UID:event4
DTSTAMP:20260425T103433Z
DTSTART:20260415T173000Z
DTEND:20260415T193000Z
LOCATION;LANGUAGE=de;ENCODING=QUOTED-PRINTABLE:St. Cajetan Str. 33\, München
SUMMARY:Punktspiel Schmetterlinge vs Los Invalidos
DESCRIPTION;LANGUAGE=de;ENCODING=QUOTED-PRINTABLE:25:20\, 25:7
END:VEVENT
BEGIN:VEVENT
UID:event5
DTSTAMP:20260425T103433Z
DTSTART:20260120T183000Z
DTEND:20260120T210000Z
LOCATION;LANGUAGE=de;ENCODING=QUOTED-PRINTABLE:Karl-Theodor-Straße 92\, München
SUMMARY:Punktspiel Los Invalidos vs Känguruhs
DESCRIPTION;LANGUAGE=de;ENCODING=QUOTED-PRINTABLE:25:18\, 25:21
END:VEVENT
BEGIN:VEVENT
UID:event6
DTSTAMP:20260425T103433Z
DTSTART:20260126T190000Z
DTEND:20260126T210000Z
LOCATION;LANGUAGE=de;ENCODING=QUOTED-PRINTABLE:Fernpassstr. 41\, München
SUMMARY:Punktspiel Jagdgänse vs Los Invalidos
DESCRIPTION;LANGUAGE=de;ENCODING=QUOTED-PRINTABLE:25:13\, 25:22
END:VEVENT
BEGIN:VEVENT
UID:event7
DTSTAMP:20260425T103433Z
DTSTART:20260205T190000Z
DTEND:20260205T210000Z
LOCATION;LANGUAGE=de;ENCODING=QUOTED-PRINTABLE:Infanteriestraße 27\, München
SUMMARY:Punktspiel VolleyBR vs Los Invalidos
DESCRIPTION;LANGUAGE=de;ENCODING=QUOTED-PRINTABLE:25:18\, 16:25\, 25:19
END:VEVENT
BEGIN:VEVENT
UID:event8
DTSTAMP:20260425T103433Z
DTSTART:20260505T173000Z
DTEND:20260505T200000Z
LOCATION;LANGUAGE=de;ENCODING=QUOTED-PRINTABLE:Karl-Theodor-Straße 92\, München
SUMMARY:Punktspiel Los Invalidos vs Latino SC Munich
DESCRIPTION;LANGUAGE=de;ENCODING=QUOTED-PRINTABLE:Sophie-Scholl-Gymnasium\nKarl-Theodor-Straße 92\n80796 München\nSchwabing\n\nÜbersicht https://www.volleyball-freizeit.de/schedule/overview/1086
END:VEVENT
BEGIN:VEVENT
UID:event9
DTSTAMP:20260425T103433Z
DTSTART:20260303T183000Z
DTEND:20260303T210000Z
LOCATION;LANGUAGE=de;ENCODING=QUOTED-PRINTABLE:Karl-Theodor-Straße 92\, München
SUMMARY:Punktspiel Los Invalidos vs Volleyballindianer
DESCRIPTION;LANGUAGE=de;ENCODING=QUOTED-PRINTABLE:21:25\, 8:25
END:VEVENT
BEGIN:VEVENT
UID:event10
DTSTAMP:20260425T103433Z
DTSTART:20260309T190000Z
DTEND:20260309T203000Z
LOCATION;LANGUAGE=de;ENCODING=QUOTED-PRINTABLE:Haager Straße  16\, München
SUMMARY:Punktspiel The Specials vs Los Invalidos
DESCRIPTION;LANGUAGE=de;ENCODING=QUOTED-PRINTABLE:25:13\, 26:24
END:VEVENT
BEGIN:VEVENT
UID:event11
DTSTAMP:20260425T103433Z
DTSTART:20260317T183000Z
DTEND:20260317T210000Z
LOCATION;LANGUAGE=de;ENCODING=QUOTED-PRINTABLE:Karl-Theodor-Straße 92\, München
SUMMARY:Punktspiel Los Invalidos vs Schmetterlinge
DESCRIPTION;LANGUAGE=de;ENCODING=QUOTED-PRINTABLE:19:25\, 17:25
END:VEVENT
BEGIN:VEVENT
UID:event12
DTSTAMP:20260425T103433Z
DTSTART:20260504T173000Z
LOCATION;LANGUAGE=de;ENCODING=QUOTED-PRINTABLE:
SUMMARY:Punktspiel Känguruhs vs Los Invalidos
DESCRIPTION;LANGUAGE=de;ENCODING=QUOTED-PRINTABLE:\n\nÜbersicht https://www.volleyball-freizeit.de/schedule/overview/1086
END:VEVENT
BEGIN:VEVENT
UID:event13
DTSTAMP:20260425T103433Z
DTSTART:20260421T173000Z
DTEND:20260421T200000Z
LOCATION;LANGUAGE=de;ENCODING=QUOTED-PRINTABLE:Karl-Theodor-Straße 92\, München
SUMMARY:Punktspiel Los Invalidos vs Jagdgänse
DESCRIPTION;LANGUAGE=de;ENCODING=QUOTED-PRINTABLE:26:24\, 24:26\, 25:19
END:VEVENT
END:VCALENDAR