BEGIN:VCALENDAR
VERSION:2.0
PRODID:-//dieLiga//DE
BEGIN:VEVENT
UID:event0
DTSTAMP:20260422T175206Z
DTSTART:20251018T160000Z
DTEND:20251018T180000Z
LOCATION;LANGUAGE=de;ENCODING=QUOTED-PRINTABLE:Osterwaldstr.  144\, München
SUMMARY:Punktspiel BavUA vs ESV Freimann
DESCRIPTION;LANGUAGE=de;ENCODING=QUOTED-PRINTABLE:25:23\, 25:18
END:VEVENT
BEGIN:VEVENT
UID:event1
DTSTAMP:20260422T175206Z
DTSTART:20251117T191500Z
DTEND:20251117T210000Z
LOCATION;LANGUAGE=de;ENCODING=QUOTED-PRINTABLE:Lilienthalalle 47\, München
SUMMARY:Punktspiel ESV Freimann vs Forza Ragazzi
DESCRIPTION;LANGUAGE=de;ENCODING=QUOTED-PRINTABLE:25:23\, 15:25\, 23:25
END:VEVENT
BEGIN:VEVENT
UID:event2
DTSTAMP:20260422T175206Z
DTSTART:20251201T191500Z
DTEND:20251201T210000Z
LOCATION;LANGUAGE=de;ENCODING=QUOTED-PRINTABLE:Lilienthalalle 47\, München
SUMMARY:Punktspiel ESV Freimann vs To The Top!
DESCRIPTION;LANGUAGE=de;ENCODING=QUOTED-PRINTABLE:8:25\, 23:25
END:VEVENT
BEGIN:VEVENT
UID:event3
DTSTAMP:20260422T175206Z
DTSTART:20251211T190000Z
DTEND:20251211T210000Z
LOCATION;LANGUAGE=de;ENCODING=QUOTED-PRINTABLE:Freiligrathstraße 71\, München
SUMMARY:Punktspiel Blockbusters vs ESV Freimann
DESCRIPTION;LANGUAGE=de;ENCODING=QUOTED-PRINTABLE:25:23\, 10:25\, 25:23
END:VEVENT
BEGIN:VEVENT
UID:event4
DTSTAMP:20260422T175206Z
DTSTART:20260112T191500Z
LOCATION;LANGUAGE=de;ENCODING=QUOTED-PRINTABLE:
SUMMARY:Punktspiel ESV Freimann vs Loud'n'Proud
DESCRIPTION;LANGUAGE=de;ENCODING=QUOTED-PRINTABLE:30:28\, 20:25\, 25:18
END:VEVENT
BEGIN:VEVENT
UID:event5
DTSTAMP:20260422T175206Z
DTSTART:20260121T183000Z
DTEND:20260121T203000Z
LOCATION;LANGUAGE=de;ENCODING=QUOTED-PRINTABLE:Knorrstraße 171\, München
SUMMARY:Punktspiel FIX WIE NIX vs ESV Freimann
DESCRIPTION;LANGUAGE=de;ENCODING=QUOTED-PRINTABLE:18:25\, 25:20\, 30:28
END:VEVENT
BEGIN:VEVENT
UID:event6
DTSTAMP:20260422T175206Z
DTSTART:20260126T191500Z
DTEND:20260126T210000Z
LOCATION;LANGUAGE=de;ENCODING=QUOTED-PRINTABLE:Lilienthalalle 47\, München
SUMMARY:Punktspiel ESV Freimann vs Die lowhofer
DESCRIPTION;LANGUAGE=de;ENCODING=QUOTED-PRINTABLE:25:11\, 25:21
END:VEVENT
BEGIN:VEVENT
UID:event7
DTSTAMP:20260422T175206Z
DTSTART:20260202T191500Z
DTEND:20260202T210000Z
LOCATION;LANGUAGE=de;ENCODING=QUOTED-PRINTABLE:Lilienthalalle 47\, München
SUMMARY:Punktspiel ESV Freimann vs BavUA
DESCRIPTION;LANGUAGE=de;ENCODING=QUOTED-PRINTABLE:25:22\, 26:24
END:VEVENT
BEGIN:VEVENT
UID:event8
DTSTAMP:20260422T175206Z
DTSTART:20260416T164500Z
DTEND:20260416T190000Z
LOCATION;LANGUAGE=de;ENCODING=QUOTED-PRINTABLE:Grasserstr. 9\, München
SUMMARY:Punktspiel Forza Ragazzi vs ESV Freimann
DESCRIPTION;LANGUAGE=de;ENCODING=QUOTED-PRINTABLE:25:12\, 25:12
END:VEVENT
BEGIN:VEVENT
UID:event9
DTSTAMP:20260422T175206Z
DTSTART:20260504T180000Z
LOCATION;LANGUAGE=de;ENCODING=QUOTED-PRINTABLE:
SUMMARY:Punktspiel To The Top! vs ESV Freimann
DESCRIPTION;LANGUAGE=de;ENCODING=QUOTED-PRINTABLE:\n\nÜbersicht https://www.volleyball-freizeit.de/schedule/overview/1083
END:VEVENT
BEGIN:VEVENT
UID:event10
DTSTAMP:20260422T175206Z
DTSTART:20260309T191500Z
DTEND:20260309T210000Z
LOCATION;LANGUAGE=de;ENCODING=QUOTED-PRINTABLE:Lilienthalalle 47\, München
SUMMARY:Punktspiel ESV Freimann vs Blockbusters
DESCRIPTION;LANGUAGE=de;ENCODING=QUOTED-PRINTABLE:11:25\, 20:25
END:VEVENT
BEGIN:VEVENT
UID:event11
DTSTAMP:20260422T175206Z
DTSTART:20260430T180000Z
DTEND:20260430T210000Z
LOCATION;LANGUAGE=de;ENCODING=QUOTED-PRINTABLE:Helmholtzstraße 6\, München
SUMMARY:Punktspiel Loud'n'Proud vs ESV Freimann
DESCRIPTION;LANGUAGE=de;ENCODING=QUOTED-PRINTABLE:\nHelmholtzstraße 6\n80636 München\nEingang an der Marlene-Dietrich-Str.\n\n\nÜbersicht https://www.volleyball-freizeit.de/schedule/overview/1083
END:VEVENT
BEGIN:VEVENT
UID:event12
DTSTAMP:20260422T175206Z
DTSTART:20260323T191500Z
DTEND:20260323T210000Z
LOCATION;LANGUAGE=de;ENCODING=QUOTED-PRINTABLE:Lilienthalalle 47\, München
SUMMARY:Punktspiel ESV Freimann vs FIX WIE NIX
DESCRIPTION;LANGUAGE=de;ENCODING=QUOTED-PRINTABLE:25:19\, 26:24
END:VEVENT
BEGIN:VEVENT
UID:event13
DTSTAMP:20260422T175206Z
DTSTART:20260420T180000Z
DTEND:20260420T200000Z
LOCATION;LANGUAGE=de;ENCODING=QUOTED-PRINTABLE:Münchner Ring 6\, Unterschleißheim
SUMMARY:Punktspiel Die lowhofer vs ESV Freimann
DESCRIPTION;LANGUAGE=de;ENCODING=QUOTED-PRINTABLE:25:14\, 25:17
END:VEVENT
END:VCALENDAR