BEGIN:VCALENDAR
VERSION:2.0
PRODID:-//dieLiga//DE
BEGIN:VEVENT
UID:event0
DTSTAMP:20260422T180958Z
DTSTART:20251013T181500Z
DTEND:20251013T201500Z
LOCATION;LANGUAGE=de;ENCODING=QUOTED-PRINTABLE:Herterichstr. 151\, München
SUMMARY:Punktspiel Garam Masala vs Trudering
DESCRIPTION;LANGUAGE=de;ENCODING=QUOTED-PRINTABLE:25:21\, 29:27
END:VEVENT
BEGIN:VEVENT
UID:event1
DTSTAMP:20260422T180958Z
DTSTART:20251030T183000Z
DTEND:20251030T204500Z
LOCATION;LANGUAGE=de;ENCODING=QUOTED-PRINTABLE:Luisenstr. 29\, München
SUMMARY:Punktspiel Latino SC Munich 2 vs Garam Masala
DESCRIPTION;LANGUAGE=de;ENCODING=QUOTED-PRINTABLE:25:23\, 18:25\, 25:18
END:VEVENT
BEGIN:VEVENT
UID:event2
DTSTAMP:20260422T180958Z
DTSTART:20251118T183000Z
DTEND:20251118T203000Z
LOCATION;LANGUAGE=de;ENCODING=QUOTED-PRINTABLE:Preysingstr. 83\, München
SUMMARY:Punktspiel Die Unvollendeten vs Garam Masala
DESCRIPTION;LANGUAGE=de;ENCODING=QUOTED-PRINTABLE:25:23\, 25:13
END:VEVENT
BEGIN:VEVENT
UID:event3
DTSTAMP:20260422T180958Z
DTSTART:20260223T191500Z
LOCATION;LANGUAGE=de;ENCODING=QUOTED-PRINTABLE:
SUMMARY:Punktspiel Garam Masala vs PiHoppers I
DESCRIPTION;LANGUAGE=de;ENCODING=QUOTED-PRINTABLE:25:18\, 25:17
END:VEVENT
BEGIN:VEVENT
UID:event4
DTSTAMP:20260422T180958Z
DTSTART:20251216T190000Z
DTEND:20251216T210000Z
LOCATION;LANGUAGE=de;ENCODING=QUOTED-PRINTABLE:Utzweg 1\, Unterhaching
SUMMARY:Punktspiel Nicht Mit Uns vs Garam Masala
DESCRIPTION;LANGUAGE=de;ENCODING=QUOTED-PRINTABLE:20:25\, 25:21\, 17:25
END:VEVENT
BEGIN:VEVENT
UID:event5
DTSTAMP:20260422T180958Z
DTSTART:20260119T191500Z
DTEND:20260119T211500Z
LOCATION;LANGUAGE=de;ENCODING=QUOTED-PRINTABLE:Herterichstr. 151\, München
SUMMARY:Punktspiel Garam Masala vs Die Winselstuten
DESCRIPTION;LANGUAGE=de;ENCODING=QUOTED-PRINTABLE:25:27\, 25:13\, 25:23
END:VEVENT
BEGIN:VEVENT
UID:event6
DTSTAMP:20260422T180958Z
DTSTART:20260126T190000Z
DTEND:20260126T210000Z
LOCATION;LANGUAGE=de;ENCODING=QUOTED-PRINTABLE:Helmholtzstr. 6\, München
SUMMARY:Punktspiel Die Gallier vs Garam Masala
DESCRIPTION;LANGUAGE=de;ENCODING=QUOTED-PRINTABLE:25:15\, 18:25\, 25:22
END:VEVENT
BEGIN:VEVENT
UID:event7
DTSTAMP:20260422T180958Z
DTSTART:20260413T174500Z
LOCATION;LANGUAGE=de;ENCODING=QUOTED-PRINTABLE:
SUMMARY:Punktspiel Trudering vs Garam Masala
DESCRIPTION;LANGUAGE=de;ENCODING=QUOTED-PRINTABLE:25:20\, 19:25\, 25:22
END:VEVENT
BEGIN:VEVENT
UID:event8
DTSTAMP:20260422T180958Z
DTSTART:20260216T191500Z
LOCATION;LANGUAGE=de;ENCODING=QUOTED-PRINTABLE:
SUMMARY:Punktspiel Garam Masala vs Latino SC Munich 2
DESCRIPTION;LANGUAGE=de;ENCODING=QUOTED-PRINTABLE:25:18\, 25:23
END:VEVENT
BEGIN:VEVENT
UID:event9
DTSTAMP:20260422T180958Z
DTSTART:20260302T191500Z
DTEND:20260302T211500Z
LOCATION;LANGUAGE=de;ENCODING=QUOTED-PRINTABLE:Herterichstr. 151\, München
SUMMARY:Punktspiel Garam Masala vs Die Unvollendeten
DESCRIPTION;LANGUAGE=de;ENCODING=QUOTED-PRINTABLE:25:21\, 21:25\, 23:25
END:VEVENT
BEGIN:VEVENT
UID:event10
DTSTAMP:20260422T180958Z
DTSTART:20260312T190000Z
DTEND:20260312T210000Z
LOCATION;LANGUAGE=de;ENCODING=QUOTED-PRINTABLE:Max-Proebstl-Strasse 7\, München
SUMMARY:Punktspiel PiHoppers I vs Garam Masala
DESCRIPTION;LANGUAGE=de;ENCODING=QUOTED-PRINTABLE:17:25\, 18:25
END:VEVENT
BEGIN:VEVENT
UID:event11
DTSTAMP:20260422T180958Z
DTSTART:20260316T191500Z
DTEND:20260316T211500Z
LOCATION;LANGUAGE=de;ENCODING=QUOTED-PRINTABLE:Herterichstr. 151\, München
SUMMARY:Punktspiel Garam Masala vs Nicht Mit Uns
DESCRIPTION;LANGUAGE=de;ENCODING=QUOTED-PRINTABLE:25:14\, 25:15
END:VEVENT
BEGIN:VEVENT
UID:event12
DTSTAMP:20260422T180958Z
DTSTART:20260323T190000Z
DTEND:20260323T210000Z
LOCATION;LANGUAGE=de;ENCODING=QUOTED-PRINTABLE:Fideliostr.  145\, München
SUMMARY:Punktspiel Die Winselstuten vs Garam Masala
DESCRIPTION;LANGUAGE=de;ENCODING=QUOTED-PRINTABLE:22:25\, 25:13\, 24:26
END:VEVENT
BEGIN:VEVENT
UID:event13
DTSTAMP:20260422T180958Z
DTSTART:20260420T181500Z
DTEND:20260420T201500Z
LOCATION;LANGUAGE=de;ENCODING=QUOTED-PRINTABLE:Herterichstr. 151\, München
SUMMARY:Punktspiel Garam Masala vs Die Gallier
DESCRIPTION;LANGUAGE=de;ENCODING=QUOTED-PRINTABLE:17:25\, 25:16\, 25:21
END:VEVENT
END:VCALENDAR