BEGIN:VCALENDAR
VERSION:2.0
PRODID:-//dieLiga//DE
BEGIN:VEVENT
UID:event0
DTSTAMP:20260423T150001Z
DTSTART:20251125T190000Z
DTEND:20251125T210000Z
LOCATION;LANGUAGE=de;ENCODING=QUOTED-PRINTABLE:Infanteriestraße  25\, München
SUMMARY:Punktspiel Decke-Boden vs 6 für Cuba
DESCRIPTION;LANGUAGE=de;ENCODING=QUOTED-PRINTABLE:24:26\, 18:25
END:VEVENT
BEGIN:VEVENT
UID:event1
DTSTAMP:20260423T150001Z
DTSTART:20260510T170000Z
DTEND:20260510T190000Z
LOCATION;LANGUAGE=de;ENCODING=QUOTED-PRINTABLE:Osterwaldstraße 144\, München
SUMMARY:Punktspiel SVSF StuSta vs Decke-Boden
DESCRIPTION;LANGUAGE=de;ENCODING=QUOTED-PRINTABLE:Allianz Anlage\nOsterwaldstraße 144\n80805 München\nAlte Heide\n\nÜbersicht https://www.volleyball-freizeit.de/schedule/overview/1078
END:VEVENT
BEGIN:VEVENT
UID:event2
DTSTAMP:20260423T150001Z
DTSTART:20251202T190000Z
DTEND:20251202T210000Z
LOCATION;LANGUAGE=de;ENCODING=QUOTED-PRINTABLE:Infanteriestraße  25\, München
SUMMARY:Punktspiel Decke-Boden vs Laimer Zufall
DESCRIPTION;LANGUAGE=de;ENCODING=QUOTED-PRINTABLE:19:25\, 18:25
END:VEVENT
BEGIN:VEVENT
UID:event3
DTSTAMP:20260423T150001Z
DTSTART:20251208T180000Z
DTEND:20251208T200000Z
LOCATION;LANGUAGE=de;ENCODING=QUOTED-PRINTABLE:Eversbuschstrasse 182\, München
SUMMARY:Punktspiel Hot Bananas vs Decke-Boden
DESCRIPTION;LANGUAGE=de;ENCODING=QUOTED-PRINTABLE:27:29\, 21:25
END:VEVENT
BEGIN:VEVENT
UID:event4
DTSTAMP:20260423T150001Z
DTSTART:20251216T190000Z
DTEND:20251216T210000Z
LOCATION;LANGUAGE=de;ENCODING=QUOTED-PRINTABLE:Josef-Hagn-Straße 2\, München
SUMMARY:Punktspiel BallaBalla vs Decke-Boden
DESCRIPTION;LANGUAGE=de;ENCODING=QUOTED-PRINTABLE:24:26\, 25:17\, 18:25
END:VEVENT
BEGIN:VEVENT
UID:event5
DTSTAMP:20260423T150001Z
DTSTART:20260120T190000Z
DTEND:20260120T210000Z
LOCATION;LANGUAGE=de;ENCODING=QUOTED-PRINTABLE:Infanteriestraße  25\, München
SUMMARY:Punktspiel Decke-Boden vs Mooskitos
DESCRIPTION;LANGUAGE=de;ENCODING=QUOTED-PRINTABLE:24:26\, 20:25
END:VEVENT
BEGIN:VEVENT
UID:event6
DTSTAMP:20260423T150001Z
DTSTART:20260126T183000Z
DTEND:20260126T210000Z
LOCATION;LANGUAGE=de;ENCODING=QUOTED-PRINTABLE:Maria-Ward-Straße  3\, München
SUMMARY:Punktspiel KAAAMEE HAAAMEE HAAAAA vs Decke-Boden
DESCRIPTION;LANGUAGE=de;ENCODING=QUOTED-PRINTABLE:28:26\, 25:22
END:VEVENT
BEGIN:VEVENT
UID:event7
DTSTAMP:20260423T150001Z
DTSTART:20260202T190000Z
DTEND:20260202T210000Z
LOCATION;LANGUAGE=de;ENCODING=QUOTED-PRINTABLE:Margarethe-Danzi-Str. 21\, München
SUMMARY:Punktspiel 6 für Cuba vs Decke-Boden
DESCRIPTION;LANGUAGE=de;ENCODING=QUOTED-PRINTABLE:15:25\, 25:21\, 28:26
END:VEVENT
BEGIN:VEVENT
UID:event8
DTSTAMP:20260423T150001Z
DTSTART:20260210T190000Z
DTEND:20260210T210000Z
LOCATION;LANGUAGE=de;ENCODING=QUOTED-PRINTABLE:Infanteriestraße  25\, München
SUMMARY:Punktspiel Decke-Boden vs SVSF StuSta
DESCRIPTION;LANGUAGE=de;ENCODING=QUOTED-PRINTABLE:25:22\, 25:17
END:VEVENT
BEGIN:VEVENT
UID:event9
DTSTAMP:20260423T150001Z
DTSTART:20260303T190000Z
DTEND:20260303T210000Z
LOCATION;LANGUAGE=de;ENCODING=QUOTED-PRINTABLE:Riegerhofstraße 20\, München
SUMMARY:Punktspiel Laimer Zufall vs Decke-Boden
DESCRIPTION;LANGUAGE=de;ENCODING=QUOTED-PRINTABLE:18:25\, 24:26
END:VEVENT
BEGIN:VEVENT
UID:event10
DTSTAMP:20260423T150001Z
DTSTART:20260310T190000Z
DTEND:20260310T210000Z
LOCATION;LANGUAGE=de;ENCODING=QUOTED-PRINTABLE:Infanteriestraße  25\, München
SUMMARY:Punktspiel Decke-Boden vs Hot Bananas
DESCRIPTION;LANGUAGE=de;ENCODING=QUOTED-PRINTABLE:25:15\, 25:23
END:VEVENT
BEGIN:VEVENT
UID:event11
DTSTAMP:20260423T150001Z
DTSTART:20260317T190000Z
DTEND:20260317T210000Z
LOCATION;LANGUAGE=de;ENCODING=QUOTED-PRINTABLE:Infanteriestraße  25\, München
SUMMARY:Punktspiel Decke-Boden vs BallaBalla
DESCRIPTION;LANGUAGE=de;ENCODING=QUOTED-PRINTABLE:26:24\, 25:22
END:VEVENT
BEGIN:VEVENT
UID:event12
DTSTAMP:20260423T150001Z
DTSTART:20260420T180000Z
DTEND:20260420T210000Z
LOCATION;LANGUAGE=de;ENCODING=QUOTED-PRINTABLE:Gerastr. 6\, München
SUMMARY:Punktspiel Mooskitos vs Decke-Boden
DESCRIPTION;LANGUAGE=de;ENCODING=QUOTED-PRINTABLE:15:25\, 29:27\, 15:25
END:VEVENT
BEGIN:VEVENT
UID:event13
DTSTAMP:20260423T150001Z
DTSTART:20260421T180000Z
DTEND:20260421T200000Z
LOCATION;LANGUAGE=de;ENCODING=QUOTED-PRINTABLE:Infanteriestraße  25\, München
SUMMARY:Punktspiel Decke-Boden vs KAAAMEE HAAAMEE HAAAAA
DESCRIPTION;LANGUAGE=de;ENCODING=QUOTED-PRINTABLE:22:25\, 25:18\, 20:25
END:VEVENT
END:VCALENDAR