BEGIN:VCALENDAR
VERSION:2.0
PRODID:-//dieLiga//DE
BEGIN:VEVENT
UID:event0
DTSTAMP:20260424T115301Z
DTSTART:20251014T183000Z
DTEND:20251014T200000Z
LOCATION;LANGUAGE=de;ENCODING=QUOTED-PRINTABLE:Papinstraße 22\, München
SUMMARY:Punktspiel Kaboom vs Amore Calzone
DESCRIPTION;LANGUAGE=de;ENCODING=QUOTED-PRINTABLE:16:25\, 25:19\, 12:25
END:VEVENT
BEGIN:VEVENT
UID:event1
DTSTAMP:20260424T115301Z
DTSTART:20251019T180000Z
DTEND:20251019T200000Z
LOCATION;LANGUAGE=de;ENCODING=QUOTED-PRINTABLE:Margarethe-Danzi-Str. 21\, München
SUMMARY:Punktspiel ESV München I vs Kaboom
DESCRIPTION;LANGUAGE=de;ENCODING=QUOTED-PRINTABLE:25:15\, 25:18
END:VEVENT
BEGIN:VEVENT
UID:event2
DTSTAMP:20260424T115301Z
DTSTART:20260224T193000Z
DTEND:20260224T210000Z
LOCATION;LANGUAGE=de;ENCODING=QUOTED-PRINTABLE:Papinstraße 22\, München
SUMMARY:Punktspiel Kaboom vs SUPER SMASH
DESCRIPTION;LANGUAGE=de;ENCODING=QUOTED-PRINTABLE:27:29\, 18:25
END:VEVENT
BEGIN:VEVENT
UID:event3
DTSTAMP:20260424T115301Z
DTSTART:20251120T190000Z
DTEND:20251120T210000Z
LOCATION;LANGUAGE=de;ENCODING=QUOTED-PRINTABLE:Eduard-Schmid-Str. 1\, München
SUMMARY:Punktspiel Spartak Au vs Kaboom
DESCRIPTION;LANGUAGE=de;ENCODING=QUOTED-PRINTABLE:25:19\, 25:23
END:VEVENT
BEGIN:VEVENT
UID:event4
DTSTAMP:20260424T115301Z
DTSTART:20251127T190000Z
DTEND:20251127T210000Z
LOCATION;LANGUAGE=de;ENCODING=QUOTED-PRINTABLE:Fernpassstraße 41\, München
SUMMARY:Punktspiel Gänsejäger vs Kaboom
DESCRIPTION;LANGUAGE=de;ENCODING=QUOTED-PRINTABLE:19:25\, 19:25
END:VEVENT
BEGIN:VEVENT
UID:event5
DTSTAMP:20260424T115301Z
DTSTART:20251202T193000Z
DTEND:20251202T210000Z
LOCATION;LANGUAGE=de;ENCODING=QUOTED-PRINTABLE:Papinstraße 22\, München
SUMMARY:Punktspiel Kaboom vs Roter Stern Altstadt
DESCRIPTION;LANGUAGE=de;ENCODING=QUOTED-PRINTABLE:25:17\, 25:15
END:VEVENT
BEGIN:VEVENT
UID:event6
DTSTAMP:20260424T115301Z
DTSTART:20260312T193000Z
DTEND:20260312T210000Z
LOCATION;LANGUAGE=de;ENCODING=QUOTED-PRINTABLE:Sadelerstr.  10\, München
SUMMARY:Punktspiel Optisch Überlegen vs Kaboom
DESCRIPTION;LANGUAGE=de;ENCODING=QUOTED-PRINTABLE:25:19\, 25:16
END:VEVENT
BEGIN:VEVENT
UID:event7
DTSTAMP:20260424T115301Z
DTSTART:20260114T180000Z
LOCATION;LANGUAGE=de;ENCODING=QUOTED-PRINTABLE:
SUMMARY:Punktspiel Amore Calzone vs Kaboom
DESCRIPTION;LANGUAGE=de;ENCODING=QUOTED-PRINTABLE:25:15\, 25:22
END:VEVENT
BEGIN:VEVENT
UID:event8
DTSTAMP:20260424T115301Z
DTSTART:20260317T193000Z
DTEND:20260317T210000Z
LOCATION;LANGUAGE=de;ENCODING=QUOTED-PRINTABLE:Papinstraße 22\, München
SUMMARY:Punktspiel Kaboom vs ESV München I
DESCRIPTION;LANGUAGE=de;ENCODING=QUOTED-PRINTABLE:17:25\, 16:25
END:VEVENT
BEGIN:VEVENT
UID:event9
DTSTAMP:20260424T115301Z
DTSTART:20260323T183000Z
DTEND:20260323T210000Z
LOCATION;LANGUAGE=de;ENCODING=QUOTED-PRINTABLE:Freiligrathstraße 71\, München
SUMMARY:Punktspiel SUPER SMASH vs Kaboom
DESCRIPTION;LANGUAGE=de;ENCODING=QUOTED-PRINTABLE:25:16\, 25:11
END:VEVENT
BEGIN:VEVENT
UID:event10
DTSTAMP:20260424T115301Z
DTSTART:20260203T193000Z
DTEND:20260203T210000Z
LOCATION;LANGUAGE=de;ENCODING=QUOTED-PRINTABLE:Papinstraße 22\, München
SUMMARY:Punktspiel Kaboom vs Spartak Au
DESCRIPTION;LANGUAGE=de;ENCODING=QUOTED-PRINTABLE:20:25\, 22:25
END:VEVENT
BEGIN:VEVENT
UID:event11
DTSTAMP:20260424T115301Z
DTSTART:20260421T183000Z
DTEND:20260421T200000Z
LOCATION;LANGUAGE=de;ENCODING=QUOTED-PRINTABLE:Papinstraße 22\, München
SUMMARY:Punktspiel Kaboom vs Gänsejäger
DESCRIPTION;LANGUAGE=de;ENCODING=QUOTED-PRINTABLE:25:22\, 25:21
END:VEVENT
BEGIN:VEVENT
UID:event12
DTSTAMP:20260424T115301Z
DTSTART:20260423T180000Z
DTEND:20260423T193000Z
LOCATION;LANGUAGE=de;ENCODING=QUOTED-PRINTABLE:Eduard Schmid Str. 1\, München
SUMMARY:Punktspiel Roter Stern Altstadt vs Kaboom
DESCRIPTION;LANGUAGE=de;ENCODING=QUOTED-PRINTABLE:25:18\, 18:25\, 23:25
END:VEVENT
BEGIN:VEVENT
UID:event13
DTSTAMP:20260424T115301Z
DTSTART:20260310T193000Z
DTEND:20260310T210000Z
LOCATION;LANGUAGE=de;ENCODING=QUOTED-PRINTABLE:Papinstraße 22\, München
SUMMARY:Punktspiel Kaboom vs Optisch Überlegen
DESCRIPTION;LANGUAGE=de;ENCODING=QUOTED-PRINTABLE:6:25\, 13:25
END:VEVENT
END:VCALENDAR