BEGIN:VCALENDAR
VERSION:2.0
PRODID:-//dieLiga//DE
BEGIN:VEVENT
UID:event0
DTSTAMP:20260423T145840Z
DTSTART:20260305T190000Z
DTEND:20260305T210000Z
LOCATION;LANGUAGE=de;ENCODING=QUOTED-PRINTABLE:Freiligrathstr. 71\, München
SUMMARY:Punktspiel 7NA vs SV Olympiadorf
DESCRIPTION;LANGUAGE=de;ENCODING=QUOTED-PRINTABLE:17:25\, 18:25
END:VEVENT
BEGIN:VEVENT
UID:event1
DTSTAMP:20260423T145840Z
DTSTART:20251020T174500Z
DTEND:20251020T191500Z
LOCATION;LANGUAGE=de;ENCODING=QUOTED-PRINTABLE:Nadistraße 3\, München
SUMMARY:Punktspiel SV Olympiadorf vs Mad Max
DESCRIPTION;LANGUAGE=de;ENCODING=QUOTED-PRINTABLE:25:22\, 21:25\, 25:15
END:VEVENT
BEGIN:VEVENT
UID:event2
DTSTAMP:20260423T145840Z
DTSTART:20251202T180000Z
DTEND:20251202T200000Z
LOCATION;LANGUAGE=de;ENCODING=QUOTED-PRINTABLE:Rockefellerstr. 11\, München
SUMMARY:Punktspiel Formel 6 vs SV Olympiadorf
DESCRIPTION;LANGUAGE=de;ENCODING=QUOTED-PRINTABLE:25:23\, 27:25
END:VEVENT
BEGIN:VEVENT
UID:event3
DTSTAMP:20260423T145840Z
DTSTART:20251208T184500Z
DTEND:20251208T201500Z
LOCATION;LANGUAGE=de;ENCODING=QUOTED-PRINTABLE:Nadistraße 3\, München
SUMMARY:Punktspiel SV Olympiadorf vs Blue Igel
DESCRIPTION;LANGUAGE=de;ENCODING=QUOTED-PRINTABLE:26:24\, 25:27\, 25:16
END:VEVENT
BEGIN:VEVENT
UID:event4
DTSTAMP:20260423T145840Z
DTSTART:20251215T184500Z
DTEND:20251215T201500Z
LOCATION;LANGUAGE=de;ENCODING=QUOTED-PRINTABLE:Nadistraße 3\, München
SUMMARY:Punktspiel SV Olympiadorf vs Pflegestufe 2
DESCRIPTION;LANGUAGE=de;ENCODING=QUOTED-PRINTABLE:25:11\, 25:20
END:VEVENT
BEGIN:VEVENT
UID:event5
DTSTAMP:20260423T145840Z
DTSTART:20260119T190000Z
DTEND:20260119T210000Z
LOCATION;LANGUAGE=de;ENCODING=QUOTED-PRINTABLE:Maria Ward Straße \, München
SUMMARY:Punktspiel Nymphenburger Schmetterlinge vs SV Olympiadorf
DESCRIPTION;LANGUAGE=de;ENCODING=QUOTED-PRINTABLE:18:25\, 25:23\, 26:24
END:VEVENT
BEGIN:VEVENT
UID:event6
DTSTAMP:20260423T145840Z
DTSTART:20260126T184500Z
DTEND:20260126T201500Z
LOCATION;LANGUAGE=de;ENCODING=QUOTED-PRINTABLE:Nadistraße 3\, München
SUMMARY:Punktspiel SV Olympiadorf vs Die jungen Wilden
DESCRIPTION;LANGUAGE=de;ENCODING=QUOTED-PRINTABLE:21:25\, 25:18\, 25:22
END:VEVENT
BEGIN:VEVENT
UID:event7
DTSTAMP:20260423T145840Z
DTSTART:20260202T184500Z
DTEND:20260202T201500Z
LOCATION;LANGUAGE=de;ENCODING=QUOTED-PRINTABLE:Nadistraße 3\, München
SUMMARY:Punktspiel SV Olympiadorf vs 7NA
DESCRIPTION;LANGUAGE=de;ENCODING=QUOTED-PRINTABLE:25:13\, 25:12
END:VEVENT
BEGIN:VEVENT
UID:event8
DTSTAMP:20260423T145840Z
DTSTART:20260211T193000Z
DTEND:20260211T210000Z
LOCATION;LANGUAGE=de;ENCODING=QUOTED-PRINTABLE:Karl-Theodor Str. 9\, München
SUMMARY:Punktspiel Mad Max vs SV Olympiadorf
DESCRIPTION;LANGUAGE=de;ENCODING=QUOTED-PRINTABLE:25:16\, 16:25\, 22:25
END:VEVENT
BEGIN:VEVENT
UID:event9
DTSTAMP:20260423T145840Z
DTSTART:20260518T174500Z
LOCATION;LANGUAGE=de;ENCODING=QUOTED-PRINTABLE:
SUMMARY:Punktspiel SV Olympiadorf vs Formel 6
DESCRIPTION;LANGUAGE=de;ENCODING=QUOTED-PRINTABLE:\n\nÜbersicht https://www.volleyball-freizeit.de/schedule/overview/1080
END:VEVENT
BEGIN:VEVENT
UID:event10
DTSTAMP:20260423T145840Z
DTSTART:20260311T190000Z
DTEND:20260311T210000Z
LOCATION;LANGUAGE=de;ENCODING=QUOTED-PRINTABLE:Osterwaldstr. 144\, München
SUMMARY:Punktspiel Blue Igel vs SV Olympiadorf
DESCRIPTION;LANGUAGE=de;ENCODING=QUOTED-PRINTABLE:25:20\, 25:10
END:VEVENT
BEGIN:VEVENT
UID:event11
DTSTAMP:20260423T145840Z
DTSTART:20260504T183000Z
DTEND:20260504T210000Z
LOCATION;LANGUAGE=de;ENCODING=QUOTED-PRINTABLE:Säbenerstraße  49\, München
SUMMARY:Punktspiel Pflegestufe 2 vs SV Olympiadorf
DESCRIPTION;LANGUAGE=de;ENCODING=QUOTED-PRINTABLE:Sporthalle an der Säbenerstraße (Bitte in der Umkleide warten\, vorher ist Gymnastik. Wir holen euch rein.)\nSäbenerstraße  49\n81547 München\n\n\nÜbersicht https://www.volleyball-freizeit.de/schedule/overview/1080
END:VEVENT
BEGIN:VEVENT
UID:event12
DTSTAMP:20260423T145840Z
DTSTART:20260413T174500Z
LOCATION;LANGUAGE=de;ENCODING=QUOTED-PRINTABLE:
SUMMARY:Punktspiel SV Olympiadorf vs Nymphenburger Schmetterlinge
DESCRIPTION;LANGUAGE=de;ENCODING=QUOTED-PRINTABLE:21:25\, 25:20\, 25:21
END:VEVENT
BEGIN:VEVENT
UID:event13
DTSTAMP:20260423T145840Z
DTSTART:20260421T180000Z
DTEND:20260421T200000Z
LOCATION;LANGUAGE=de;ENCODING=QUOTED-PRINTABLE:Prof.-Otto-Hupp-Str. 26b\, Oberschleißheim
SUMMARY:Punktspiel Die jungen Wilden vs SV Olympiadorf
DESCRIPTION;LANGUAGE=de;ENCODING=QUOTED-PRINTABLE:25:17\, 25:15
END:VEVENT
END:VCALENDAR