BEGIN:VCALENDAR
VERSION:2.0
PRODID:-//dieLiga//DE
BEGIN:VEVENT
UID:event0
DTSTAMP:20260423T150804Z
DTSTART:20251014T180000Z
DTEND:20251014T200000Z
LOCATION;LANGUAGE=de;ENCODING=QUOTED-PRINTABLE:Riegerhofstraße 20\, München
SUMMARY:Punktspiel Laimer Zufall vs SVSF StuSta
DESCRIPTION;LANGUAGE=de;ENCODING=QUOTED-PRINTABLE:25:14\, 25:22
END:VEVENT
BEGIN:VEVENT
UID:event1
DTSTAMP:20260423T150804Z
DTSTART:20251020T170000Z
DTEND:20251020T190000Z
LOCATION;LANGUAGE=de;ENCODING=QUOTED-PRINTABLE:Eversbuschstrasse 182\, München
SUMMARY:Punktspiel Hot Bananas vs Laimer Zufall
DESCRIPTION;LANGUAGE=de;ENCODING=QUOTED-PRINTABLE:25:21\, 16:25\, 17:25
END:VEVENT
BEGIN:VEVENT
UID:event2
DTSTAMP:20260423T150804Z
DTSTART:20251202T190000Z
DTEND:20251202T210000Z
LOCATION;LANGUAGE=de;ENCODING=QUOTED-PRINTABLE:Infanteriestraße  25\, München
SUMMARY:Punktspiel Decke-Boden vs Laimer Zufall
DESCRIPTION;LANGUAGE=de;ENCODING=QUOTED-PRINTABLE:19:25\, 18:25
END:VEVENT
BEGIN:VEVENT
UID:event3
DTSTAMP:20260423T150804Z
DTSTART:20260113T190000Z
LOCATION;LANGUAGE=de;ENCODING=QUOTED-PRINTABLE:
SUMMARY:Punktspiel Laimer Zufall vs BallaBalla
DESCRIPTION;LANGUAGE=de;ENCODING=QUOTED-PRINTABLE:20:25\, 25:18\, 23:25
END:VEVENT
BEGIN:VEVENT
UID:event4
DTSTAMP:20260423T150804Z
DTSTART:20251215T190000Z
DTEND:20251215T220000Z
LOCATION;LANGUAGE=de;ENCODING=QUOTED-PRINTABLE:Gerastr. 6\, München
SUMMARY:Punktspiel Mooskitos vs Laimer Zufall
DESCRIPTION;LANGUAGE=de;ENCODING=QUOTED-PRINTABLE:25:17\, 22:25\, 26:24
END:VEVENT
BEGIN:VEVENT
UID:event5
DTSTAMP:20260423T150804Z
DTSTART:20260120T190000Z
DTEND:20260120T210000Z
LOCATION;LANGUAGE=de;ENCODING=QUOTED-PRINTABLE:Riegerhofstraße 20\, München
SUMMARY:Punktspiel Laimer Zufall vs KAAAMEE HAAAMEE HAAAAA
DESCRIPTION;LANGUAGE=de;ENCODING=QUOTED-PRINTABLE:19:25\, 25:23\, 21:25
END:VEVENT
BEGIN:VEVENT
UID:event6
DTSTAMP:20260423T150804Z
DTSTART:20260126T190000Z
DTEND:20260126T210000Z
LOCATION;LANGUAGE=de;ENCODING=QUOTED-PRINTABLE:Margarethe-Danzi-Str. 21\, München
SUMMARY:Punktspiel 6 für Cuba vs Laimer Zufall
DESCRIPTION;LANGUAGE=de;ENCODING=QUOTED-PRINTABLE:19:25\, 25:20\, 25:16
END:VEVENT
BEGIN:VEVENT
UID:event7
DTSTAMP:20260423T150804Z
DTSTART:20260222T180000Z
DTEND:20260222T200000Z
LOCATION;LANGUAGE=de;ENCODING=QUOTED-PRINTABLE:Osterwaldstraße 144\, München
SUMMARY:Punktspiel SVSF StuSta vs Laimer Zufall
DESCRIPTION;LANGUAGE=de;ENCODING=QUOTED-PRINTABLE:15:25\, 17:25
END:VEVENT
BEGIN:VEVENT
UID:event8
DTSTAMP:20260423T150804Z
DTSTART:20260428T180000Z
LOCATION;LANGUAGE=de;ENCODING=QUOTED-PRINTABLE:
SUMMARY:Punktspiel Laimer Zufall vs Hot Bananas
DESCRIPTION;LANGUAGE=de;ENCODING=QUOTED-PRINTABLE:\n\nÜbersicht https://www.volleyball-freizeit.de/schedule/overview/1078
END:VEVENT
BEGIN:VEVENT
UID:event9
DTSTAMP:20260423T150804Z
DTSTART:20260303T190000Z
DTEND:20260303T210000Z
LOCATION;LANGUAGE=de;ENCODING=QUOTED-PRINTABLE:Riegerhofstraße 20\, München
SUMMARY:Punktspiel Laimer Zufall vs Decke-Boden
DESCRIPTION;LANGUAGE=de;ENCODING=QUOTED-PRINTABLE:18:25\, 24:26
END:VEVENT
BEGIN:VEVENT
UID:event10
DTSTAMP:20260423T150804Z
DTSTART:20260310T190000Z
DTEND:20260310T210000Z
LOCATION;LANGUAGE=de;ENCODING=QUOTED-PRINTABLE:Josef-Hagn-Straße 2\, München
SUMMARY:Punktspiel BallaBalla vs Laimer Zufall
DESCRIPTION;LANGUAGE=de;ENCODING=QUOTED-PRINTABLE:25:23\, 25:21
END:VEVENT
BEGIN:VEVENT
UID:event11
DTSTAMP:20260423T150804Z
DTSTART:20260317T190000Z
DTEND:20260317T210000Z
LOCATION;LANGUAGE=de;ENCODING=QUOTED-PRINTABLE:Riegerhofstraße 20\, München
SUMMARY:Punktspiel Laimer Zufall vs Mooskitos
DESCRIPTION;LANGUAGE=de;ENCODING=QUOTED-PRINTABLE:25:21\, 25:18
END:VEVENT
BEGIN:VEVENT
UID:event12
DTSTAMP:20260423T150804Z
DTSTART:20260323T183000Z
DTEND:20260323T210000Z
LOCATION;LANGUAGE=de;ENCODING=QUOTED-PRINTABLE:Maria-Ward-Straße  3\, München
SUMMARY:Punktspiel KAAAMEE HAAAMEE HAAAAA vs Laimer Zufall
DESCRIPTION;LANGUAGE=de;ENCODING=QUOTED-PRINTABLE:17:25\, 25:27
END:VEVENT
BEGIN:VEVENT
UID:event13
DTSTAMP:20260423T150804Z
DTSTART:20260421T180000Z
DTEND:20260421T200000Z
LOCATION;LANGUAGE=de;ENCODING=QUOTED-PRINTABLE:Riegerhofstraße 20\, München
SUMMARY:Punktspiel Laimer Zufall vs 6 für Cuba
DESCRIPTION;LANGUAGE=de;ENCODING=QUOTED-PRINTABLE:26:28\, 25:16\, 15:25
END:VEVENT
END:VCALENDAR