BEGIN:VCALENDAR
VERSION:2.0
PRODID:-//dieLiga//DE
BEGIN:VEVENT
UID:event0
DTSTAMP:20260423T184727Z
DTSTART:20251014T180000Z
DTEND:20251014T200000Z
LOCATION;LANGUAGE=de;ENCODING=QUOTED-PRINTABLE:Papinstr. 22\, München 
SUMMARY:Punktspiel Aubinger Chaoten vs Laimer Bier
DESCRIPTION;LANGUAGE=de;ENCODING=QUOTED-PRINTABLE:16:25\, 10:25
END:VEVENT
BEGIN:VEVENT
UID:event1
DTSTAMP:20260423T184727Z
DTSTART:20251111T190000Z
LOCATION;LANGUAGE=de;ENCODING=QUOTED-PRINTABLE:
SUMMARY:Punktspiel Laimer Bier vs Mission Unblockable
DESCRIPTION;LANGUAGE=de;ENCODING=QUOTED-PRINTABLE:25:14\, 25:20
END:VEVENT
BEGIN:VEVENT
UID:event2
DTSTAMP:20260423T184727Z
DTSTART:20251202T190000Z
DTEND:20251202T210000Z
LOCATION;LANGUAGE=de;ENCODING=QUOTED-PRINTABLE:Riegerhofstr. 20\, München
SUMMARY:Punktspiel Laimer Bier vs Rainbow Six
DESCRIPTION;LANGUAGE=de;ENCODING=QUOTED-PRINTABLE:25:14\, 25:21
END:VEVENT
BEGIN:VEVENT
UID:event3
DTSTAMP:20260423T184727Z
DTSTART:20260223T190000Z
LOCATION;LANGUAGE=de;ENCODING=QUOTED-PRINTABLE:
SUMMARY:Punktspiel Der Supergau vs Laimer Bier
DESCRIPTION;LANGUAGE=de;ENCODING=QUOTED-PRINTABLE:13:25\, 13:25
END:VEVENT
BEGIN:VEVENT
UID:event4
DTSTAMP:20260423T184727Z
DTSTART:20260428T180000Z
LOCATION;LANGUAGE=de;ENCODING=QUOTED-PRINTABLE:
SUMMARY:Punktspiel Laimer Bier vs Schaf-Volleys
DESCRIPTION;LANGUAGE=de;ENCODING=QUOTED-PRINTABLE:\n\nÜbersicht https://www.volleyball-freizeit.de/schedule/overview/1088
END:VEVENT
BEGIN:VEVENT
UID:event5
DTSTAMP:20260423T184727Z
DTSTART:20260120T190000Z
DTEND:20260120T210000Z
LOCATION;LANGUAGE=de;ENCODING=QUOTED-PRINTABLE:Franz-Mader-Str. 11\, München
SUMMARY:Punktspiel Maximale Lässigkeit vs Laimer Bier
DESCRIPTION;LANGUAGE=de;ENCODING=QUOTED-PRINTABLE:8:25\, 13:25
END:VEVENT
BEGIN:VEVENT
UID:event6
DTSTAMP:20260423T184727Z
DTSTART:20260127T190000Z
DTEND:20260127T210000Z
LOCATION;LANGUAGE=de;ENCODING=QUOTED-PRINTABLE:Riegerhofstr. 20\, München
SUMMARY:Punktspiel Laimer Bier vs Flying Circus
DESCRIPTION;LANGUAGE=de;ENCODING=QUOTED-PRINTABLE:25:4\, 25:14
END:VEVENT
BEGIN:VEVENT
UID:event7
DTSTAMP:20260423T184727Z
DTSTART:20260203T190000Z
DTEND:20260203T210000Z
LOCATION;LANGUAGE=de;ENCODING=QUOTED-PRINTABLE:Riegerhofstr. 20\, München
SUMMARY:Punktspiel Laimer Bier vs Aubinger Chaoten
DESCRIPTION;LANGUAGE=de;ENCODING=QUOTED-PRINTABLE:25:16\, 25:11
END:VEVENT
BEGIN:VEVENT
UID:event8
DTSTAMP:20260423T184727Z
DTSTART:20260210T190000Z
DTEND:20260210T210000Z
LOCATION;LANGUAGE=de;ENCODING=QUOTED-PRINTABLE:Drygalski-Allee 2\, München
SUMMARY:Punktspiel Mission Unblockable vs Laimer Bier
DESCRIPTION;LANGUAGE=de;ENCODING=QUOTED-PRINTABLE:15:25\, 15:25
END:VEVENT
BEGIN:VEVENT
UID:event9
DTSTAMP:20260423T184727Z
DTSTART:20260304T183000Z
DTEND:20260304T210000Z
LOCATION;LANGUAGE=de;ENCODING=QUOTED-PRINTABLE:Helmholtzstraße 6\, München
SUMMARY:Punktspiel Rainbow Six vs Laimer Bier
DESCRIPTION;LANGUAGE=de;ENCODING=QUOTED-PRINTABLE:15:25\, 21:25
END:VEVENT
BEGIN:VEVENT
UID:event10
DTSTAMP:20260423T184727Z
DTSTART:20260310T190000Z
DTEND:20260310T210000Z
LOCATION;LANGUAGE=de;ENCODING=QUOTED-PRINTABLE:Riegerhofstr. 20\, München
SUMMARY:Punktspiel Laimer Bier vs Der Supergau
DESCRIPTION;LANGUAGE=de;ENCODING=QUOTED-PRINTABLE:25:10\, 25:22
END:VEVENT
BEGIN:VEVENT
UID:event11
DTSTAMP:20260423T184727Z
DTSTART:20260318T190000Z
DTEND:20260318T210000Z
LOCATION;LANGUAGE=de;ENCODING=QUOTED-PRINTABLE:Oselstraße 21\, München
SUMMARY:Punktspiel Schaf-Volleys vs Laimer Bier
DESCRIPTION;LANGUAGE=de;ENCODING=QUOTED-PRINTABLE:11:25\, 15:25
END:VEVENT
BEGIN:VEVENT
UID:event12
DTSTAMP:20260423T184727Z
DTSTART:20260324T190000Z
DTEND:20260324T210000Z
LOCATION;LANGUAGE=de;ENCODING=QUOTED-PRINTABLE:Riegerhofstr. 20\, München
SUMMARY:Punktspiel Laimer Bier vs Maximale Lässigkeit
DESCRIPTION;LANGUAGE=de;ENCODING=QUOTED-PRINTABLE:25:14\, 25:14
END:VEVENT
BEGIN:VEVENT
UID:event13
DTSTAMP:20260423T184727Z
DTSTART:20260424T180000Z
DTEND:20260424T200000Z
LOCATION;LANGUAGE=de;ENCODING=QUOTED-PRINTABLE:Adalbert-Stifter-Platz 2\, Gräfelfing
SUMMARY:Punktspiel Flying Circus vs Laimer Bier
DESCRIPTION;LANGUAGE=de;ENCODING=QUOTED-PRINTABLE:Kurt-Huber-Gymnasium (Dreifachturnhalle)\nAdalbert-Stifter-Platz 2\n82166 Gräfelfing\nParken: Adalbert-Stifter-Str.\n\n\nÜbersicht https://www.volleyball-freizeit.de/schedule/overview/1088
END:VEVENT
END:VCALENDAR