BEGIN:VCALENDAR
VERSION:2.0
PRODID:-//dieLiga//DE
BEGIN:VEVENT
UID:event0
DTSTAMP:20260425T173658Z
DTSTART:20251014T180000Z
DTEND:20251014T200000Z
LOCATION;LANGUAGE=de;ENCODING=QUOTED-PRINTABLE:Karl-Marx-Ring 67\, München
SUMMARY:Punktspiel Genial daneben vs Netzrollies
DESCRIPTION;LANGUAGE=de;ENCODING=QUOTED-PRINTABLE:23:25\, 25:19\, 18:25
END:VEVENT
BEGIN:VEVENT
UID:event1
DTSTAMP:20260425T173658Z
DTSTART:20251028T190000Z
DTEND:20251028T210000Z
LOCATION;LANGUAGE=de;ENCODING=QUOTED-PRINTABLE:Karl-Marx-Ring 67\, München
SUMMARY:Punktspiel Genial daneben vs VC Dom Pedro e.V.
DESCRIPTION;LANGUAGE=de;ENCODING=QUOTED-PRINTABLE:18:25\, 22:25
END:VEVENT
BEGIN:VEVENT
UID:event2
DTSTAMP:20260425T173658Z
DTSTART:20251201T183000Z
DTEND:20251201T203000Z
LOCATION;LANGUAGE=de;ENCODING=QUOTED-PRINTABLE:Max-Reinhardt-Weg 27\, München
SUMMARY:Punktspiel Red Sparrows vs Genial daneben
DESCRIPTION;LANGUAGE=de;ENCODING=QUOTED-PRINTABLE:10:25\, 27:25\, 25:18
END:VEVENT
BEGIN:VEVENT
UID:event3
DTSTAMP:20260425T173658Z
DTSTART:20251209T190000Z
DTEND:20251209T210000Z
LOCATION;LANGUAGE=de;ENCODING=QUOTED-PRINTABLE:Karl-Marx-Ring 67\, München
SUMMARY:Punktspiel Genial daneben vs Maxvorstadt I
DESCRIPTION;LANGUAGE=de;ENCODING=QUOTED-PRINTABLE:25:19\, 21:25\, 25:13
END:VEVENT
BEGIN:VEVENT
UID:event4
DTSTAMP:20260425T173658Z
DTSTART:20251120T183000Z
DTEND:20251120T210000Z
LOCATION;LANGUAGE=de;ENCODING=QUOTED-PRINTABLE:Innsbrucker Ring  75\, München
SUMMARY:Punktspiel Größenwahn vs Genial daneben
DESCRIPTION;LANGUAGE=de;ENCODING=QUOTED-PRINTABLE:15:25\, 25:23\, 25:20
END:VEVENT
BEGIN:VEVENT
UID:event5
DTSTAMP:20260425T173658Z
DTSTART:20260120T190000Z
DTEND:20260120T210000Z
LOCATION;LANGUAGE=de;ENCODING=QUOTED-PRINTABLE:Karl-Marx-Ring 67\, München
SUMMARY:Punktspiel Genial daneben vs BUGAtis
DESCRIPTION;LANGUAGE=de;ENCODING=QUOTED-PRINTABLE:14:25\, 22:25
END:VEVENT
BEGIN:VEVENT
UID:event6
DTSTAMP:20260425T173658Z
DTSTART:20260218T190000Z
DTEND:20260218T210000Z
LOCATION;LANGUAGE=de;ENCODING=QUOTED-PRINTABLE:Eingang zur Halle --> Elisabeth Baerleinstrasse  10\, München
SUMMARY:Punktspiel Voll Treffer vs Genial daneben
DESCRIPTION;LANGUAGE=de;ENCODING=QUOTED-PRINTABLE:25:23\, 25:15
END:VEVENT
BEGIN:VEVENT
UID:event7
DTSTAMP:20260425T173658Z
DTSTART:20260408T183000Z
DTEND:20260408T210000Z
LOCATION;LANGUAGE=de;ENCODING=QUOTED-PRINTABLE:Säbenerstraße 49\, München
SUMMARY:Punktspiel Netzrollies vs Genial daneben
DESCRIPTION;LANGUAGE=de;ENCODING=QUOTED-PRINTABLE:25:18\, 25:18
END:VEVENT
BEGIN:VEVENT
UID:event8
DTSTAMP:20260425T173658Z
DTSTART:20260209T193000Z
DTEND:20260209T210000Z
LOCATION;LANGUAGE=de;ENCODING=QUOTED-PRINTABLE: Arcisstrasse  65\, München
SUMMARY:Punktspiel VC Dom Pedro e.V. vs Genial daneben
DESCRIPTION;LANGUAGE=de;ENCODING=QUOTED-PRINTABLE:26:24\, 25:16
END:VEVENT
BEGIN:VEVENT
UID:event9
DTSTAMP:20260425T173658Z
DTSTART:20260303T190000Z
DTEND:20260303T210000Z
LOCATION;LANGUAGE=de;ENCODING=QUOTED-PRINTABLE:Karl-Marx-Ring 67\, München
SUMMARY:Punktspiel Genial daneben vs Red Sparrows
DESCRIPTION;LANGUAGE=de;ENCODING=QUOTED-PRINTABLE:25:13\, 25:18
END:VEVENT
BEGIN:VEVENT
UID:event10
DTSTAMP:20260425T173658Z
DTSTART:20260317T190000Z
DTEND:20260317T210000Z
LOCATION;LANGUAGE=de;ENCODING=QUOTED-PRINTABLE:Karl-Marx-Ring 67\, München
SUMMARY:Punktspiel Genial daneben vs Größenwahn
DESCRIPTION;LANGUAGE=de;ENCODING=QUOTED-PRINTABLE:19:25\, 24:26
END:VEVENT
BEGIN:VEVENT
UID:event11
DTSTAMP:20260425T173658Z
DTSTART:20260507T183000Z
DTEND:20260507T203000Z
LOCATION;LANGUAGE=de;ENCODING=QUOTED-PRINTABLE:Lehrer Wirth Str 31\, München
SUMMARY:Punktspiel BUGAtis vs Genial daneben
DESCRIPTION;LANGUAGE=de;ENCODING=QUOTED-PRINTABLE:Turnhalle Grundschule Messestadt West (Lehrer Wirth Grundschule)\nLehrer Wirth Str 31\n81829 München\nMessestadt West\n\nÜbersicht https://www.volleyball-freizeit.de/schedule/overview/1089
END:VEVENT
BEGIN:VEVENT
UID:event12
DTSTAMP:20260425T173658Z
DTSTART:20260505T180000Z
DTEND:20260505T200000Z
LOCATION;LANGUAGE=de;ENCODING=QUOTED-PRINTABLE:Karl-Marx-Ring 67\, München
SUMMARY:Punktspiel Genial daneben vs Voll Treffer
DESCRIPTION;LANGUAGE=de;ENCODING=QUOTED-PRINTABLE:Grundschule am Karl-Marx-Ring (Eingang rechts hinten um die Halle)\nKarl-Marx-Ring 67\n81737 München\nNeuperlach\n\nÜbersicht https://www.volleyball-freizeit.de/schedule/overview/1089
END:VEVENT
END:VCALENDAR