BEGIN:VCALENDAR
VERSION:2.0
PRODID:-//dieLiga//DE
BEGIN:VEVENT
UID:event0
DTSTAMP:20260417T155410Z
DTSTART:20251016T180000Z
DTEND:20251016T200000Z
LOCATION;LANGUAGE=de;ENCODING=QUOTED-PRINTABLE:Canisiusplatz 2\, München
SUMMARY:Punktspiel Die Haderer vs Schampanias
DESCRIPTION;LANGUAGE=de;ENCODING=QUOTED-PRINTABLE:25:10\, 25:17
END:VEVENT
BEGIN:VEVENT
UID:event1
DTSTAMP:20260417T155410Z
DTSTART:20251020T180000Z
DTEND:20251020T200000Z
LOCATION;LANGUAGE=de;ENCODING=QUOTED-PRINTABLE:Aidenbachtrasse 23\, München
SUMMARY:Punktspiel Interteam vs Die Haderer
DESCRIPTION;LANGUAGE=de;ENCODING=QUOTED-PRINTABLE:15:25\, 20:25
END:VEVENT
BEGIN:VEVENT
UID:event2
DTSTAMP:20260417T155410Z
DTSTART:20251204T190000Z
DTEND:20251204T210000Z
LOCATION;LANGUAGE=de;ENCODING=QUOTED-PRINTABLE:Canisiusplatz 2\, München
SUMMARY:Punktspiel Die Haderer vs Vollpertinger
DESCRIPTION;LANGUAGE=de;ENCODING=QUOTED-PRINTABLE:25:12\, 25:19
END:VEVENT
BEGIN:VEVENT
UID:event3
DTSTAMP:20260417T155410Z
DTSTART:20260222T190000Z
DTEND:20260222T210000Z
LOCATION;LANGUAGE=de;ENCODING=QUOTED-PRINTABLE:
SUMMARY:Punktspiel Schönschmetterfront vs Die Haderer
DESCRIPTION;LANGUAGE=de;ENCODING=QUOTED-PRINTABLE:20:25\, 22:25
END:VEVENT
BEGIN:VEVENT
UID:event4
DTSTAMP:20260417T155410Z
DTSTART:20251218T190000Z
DTEND:20251218T210000Z
LOCATION;LANGUAGE=de;ENCODING=QUOTED-PRINTABLE:Canisiusplatz 2\, München
SUMMARY:Punktspiel Die Haderer vs Die Münchner Elche
DESCRIPTION;LANGUAGE=de;ENCODING=QUOTED-PRINTABLE:25:15\, 25:15
END:VEVENT
BEGIN:VEVENT
UID:event5
DTSTAMP:20260417T155410Z
DTSTART:20260120T193000Z
DTEND:20260120T210000Z
LOCATION;LANGUAGE=de;ENCODING=QUOTED-PRINTABLE:Am Sportpark 8\, Neuried
SUMMARY:Punktspiel Haudraufwienix vs Die Haderer
DESCRIPTION;LANGUAGE=de;ENCODING=QUOTED-PRINTABLE:25:21\, 15:25\, 28:26
END:VEVENT
BEGIN:VEVENT
UID:event6
DTSTAMP:20260417T155410Z
DTSTART:20260225T190000Z
DTEND:20260225T210000Z
LOCATION;LANGUAGE=de;ENCODING=QUOTED-PRINTABLE:St. -Cajetan-Straße 33\, München
SUMMARY:Punktspiel Team Ohjoo II vs Die Haderer
DESCRIPTION;LANGUAGE=de;ENCODING=QUOTED-PRINTABLE:23:25\, 25:16\, 16:25
END:VEVENT
BEGIN:VEVENT
UID:event7
DTSTAMP:20260417T155410Z
DTSTART:20260205T183000Z
DTEND:20260205T203000Z
LOCATION;LANGUAGE=de;ENCODING=QUOTED-PRINTABLE:St. Cajetan Str. 33\, München
SUMMARY:Punktspiel Schampanias vs Die Haderer
DESCRIPTION;LANGUAGE=de;ENCODING=QUOTED-PRINTABLE:13:25\, 24:26
END:VEVENT
BEGIN:VEVENT
UID:event8
DTSTAMP:20260417T155410Z
DTSTART:20260212T190000Z
DTEND:20260212T210000Z
LOCATION;LANGUAGE=de;ENCODING=QUOTED-PRINTABLE:Canisiusplatz 2\, München
SUMMARY:Punktspiel Die Haderer vs Interteam
DESCRIPTION;LANGUAGE=de;ENCODING=QUOTED-PRINTABLE:25:20\, 25:17
END:VEVENT
BEGIN:VEVENT
UID:event9
DTSTAMP:20260417T155410Z
DTSTART:20260305T194500Z
DTEND:20260305T220000Z
LOCATION;LANGUAGE=de;ENCODING=QUOTED-PRINTABLE:Hermine-von-Parish-Straße 15\, München
SUMMARY:Punktspiel Vollpertinger vs Die Haderer
DESCRIPTION;LANGUAGE=de;ENCODING=QUOTED-PRINTABLE:6:25\, 25:22\, 11:25
END:VEVENT
BEGIN:VEVENT
UID:event10
DTSTAMP:20260417T155410Z
DTSTART:20260416T180000Z
DTEND:20260416T200000Z
LOCATION;LANGUAGE=de;ENCODING=QUOTED-PRINTABLE:Canisiusplatz 2\, München
SUMMARY:Punktspiel Die Haderer vs Schönschmetterfront
DESCRIPTION;LANGUAGE=de;ENCODING=QUOTED-PRINTABLE:16:25\, 25:22\, 25:22
END:VEVENT
BEGIN:VEVENT
UID:event11
DTSTAMP:20260417T155410Z
DTSTART:20260318T193000Z
LOCATION;LANGUAGE=de;ENCODING=QUOTED-PRINTABLE:
SUMMARY:Punktspiel Die Münchner Elche vs Die Haderer
DESCRIPTION;LANGUAGE=de;ENCODING=QUOTED-PRINTABLE:25:22\, 14:25\, 25:21
END:VEVENT
BEGIN:VEVENT
UID:event12
DTSTAMP:20260417T155410Z
DTSTART:20260326T190000Z
DTEND:20260326T210000Z
LOCATION;LANGUAGE=de;ENCODING=QUOTED-PRINTABLE:Canisiusplatz 2\, München
SUMMARY:Punktspiel Die Haderer vs Haudraufwienix
DESCRIPTION;LANGUAGE=de;ENCODING=QUOTED-PRINTABLE:25:20\, 21:25\, 25:18
END:VEVENT
BEGIN:VEVENT
UID:event13
DTSTAMP:20260417T155410Z
DTSTART:20260423T180000Z
DTEND:20260423T200000Z
LOCATION;LANGUAGE=de;ENCODING=QUOTED-PRINTABLE:Canisiusplatz 2\, München
SUMMARY:Punktspiel Die Haderer vs Team Ohjoo II
DESCRIPTION;LANGUAGE=de;ENCODING=QUOTED-PRINTABLE:Grundschule am Canisiusplatz (Hallenabgang und Klingel gegenüber der Halle)\nCanisiusplatz 2\n81377 München\nHadern\n\nÜbersicht https://www.volleyball-freizeit.de/schedule/overview/1090
END:VEVENT
END:VCALENDAR