BEGIN:VCALENDAR
VERSION:2.0
PRODID:-//dieLiga//DE
BEGIN:VEVENT
UID:event0
DTSTAMP:20260421T180020Z
DTSTART:20251117T190000Z
DTEND:20251117T203000Z
LOCATION;LANGUAGE=de;ENCODING=QUOTED-PRINTABLE:Haager Straße  16\, München
SUMMARY:Punktspiel The Specials vs Känguruhs
DESCRIPTION;LANGUAGE=de;ENCODING=QUOTED-PRINTABLE:17:25\, 19:25
END:VEVENT
BEGIN:VEVENT
UID:event1
DTSTAMP:20260421T180020Z
DTSTART:20251124T190000Z
DTEND:20251124T210000Z
LOCATION;LANGUAGE=de;ENCODING=QUOTED-PRINTABLE:Fernpassstr. 41\, München
SUMMARY:Punktspiel Jagdgänse vs The Specials
DESCRIPTION;LANGUAGE=de;ENCODING=QUOTED-PRINTABLE:19:25\, 25:18\, 25:20
END:VEVENT
BEGIN:VEVENT
UID:event2
DTSTAMP:20260421T180020Z
DTSTART:20251208T190000Z
DTEND:20251208T203000Z
LOCATION;LANGUAGE=de;ENCODING=QUOTED-PRINTABLE:Haager Straße  16\, München
SUMMARY:Punktspiel The Specials vs VolleyBR
DESCRIPTION;LANGUAGE=de;ENCODING=QUOTED-PRINTABLE:25:22\, 28:26
END:VEVENT
BEGIN:VEVENT
UID:event3
DTSTAMP:20260421T180020Z
DTSTART:20251209T183000Z
DTEND:20251209T210000Z
LOCATION;LANGUAGE=de;ENCODING=QUOTED-PRINTABLE:Karl-Theodor-Straße 92\, München
SUMMARY:Punktspiel Los Invalidos vs The Specials
DESCRIPTION;LANGUAGE=de;ENCODING=QUOTED-PRINTABLE:25:20\, 25:18
END:VEVENT
BEGIN:VEVENT
UID:event4
DTSTAMP:20260421T180020Z
DTSTART:20251215T190000Z
DTEND:20251215T203000Z
LOCATION;LANGUAGE=de;ENCODING=QUOTED-PRINTABLE:Haager Straße  16\, München
SUMMARY:Punktspiel The Specials vs Volleyballindianer
DESCRIPTION;LANGUAGE=de;ENCODING=QUOTED-PRINTABLE:15:25\, 24:26
END:VEVENT
BEGIN:VEVENT
UID:event5
DTSTAMP:20260421T180020Z
DTSTART:20260119T183000Z
DTEND:20260119T204500Z
LOCATION;LANGUAGE=de;ENCODING=QUOTED-PRINTABLE:Luisenstr. 29\, München
SUMMARY:Punktspiel Latino SC Munich vs The Specials
DESCRIPTION;LANGUAGE=de;ENCODING=QUOTED-PRINTABLE:25:21\, 27:25
END:VEVENT
BEGIN:VEVENT
UID:event6
DTSTAMP:20260421T180020Z
DTSTART:20260128T183000Z
DTEND:20260128T203000Z
LOCATION;LANGUAGE=de;ENCODING=QUOTED-PRINTABLE:St. Cajetan Str. 33\, München
SUMMARY:Punktspiel Schmetterlinge vs The Specials
DESCRIPTION;LANGUAGE=de;ENCODING=QUOTED-PRINTABLE:24:26\, 25:20\, 22:25
END:VEVENT
BEGIN:VEVENT
UID:event7
DTSTAMP:20260421T180020Z
DTSTART:20260202T183000Z
DTEND:20260202T203000Z
LOCATION;LANGUAGE=de;ENCODING=QUOTED-PRINTABLE:Ernst-Reuter-Str 4\, München
SUMMARY:Punktspiel Känguruhs vs The Specials
DESCRIPTION;LANGUAGE=de;ENCODING=QUOTED-PRINTABLE:25:20\, 23:25\, 25:17
END:VEVENT
BEGIN:VEVENT
UID:event8
DTSTAMP:20260421T180020Z
DTSTART:20260209T190000Z
DTEND:20260209T203000Z
LOCATION;LANGUAGE=de;ENCODING=QUOTED-PRINTABLE:Haager Straße  16\, München
SUMMARY:Punktspiel The Specials vs Jagdgänse
DESCRIPTION;LANGUAGE=de;ENCODING=QUOTED-PRINTABLE:21:25\, 25:22\, 15:25
END:VEVENT
BEGIN:VEVENT
UID:event9
DTSTAMP:20260421T180020Z
DTSTART:20260305T190000Z
DTEND:20260305T210000Z
LOCATION;LANGUAGE=de;ENCODING=QUOTED-PRINTABLE:Infanteriestraße 27\, München
SUMMARY:Punktspiel VolleyBR vs The Specials
DESCRIPTION;LANGUAGE=de;ENCODING=QUOTED-PRINTABLE:25:23\, 25:17
END:VEVENT
BEGIN:VEVENT
UID:event10
DTSTAMP:20260421T180020Z
DTSTART:20260309T190000Z
DTEND:20260309T203000Z
LOCATION;LANGUAGE=de;ENCODING=QUOTED-PRINTABLE:Haager Straße  16\, München
SUMMARY:Punktspiel The Specials vs Los Invalidos
DESCRIPTION;LANGUAGE=de;ENCODING=QUOTED-PRINTABLE:25:13\, 26:24
END:VEVENT
BEGIN:VEVENT
UID:event11
DTSTAMP:20260421T180020Z
DTSTART:20260316T190000Z
DTEND:20260316T210000Z
LOCATION;LANGUAGE=de;ENCODING=QUOTED-PRINTABLE:Margarethe-Danzi Str. 21\, München
SUMMARY:Punktspiel Volleyballindianer vs The Specials
DESCRIPTION;LANGUAGE=de;ENCODING=QUOTED-PRINTABLE:25:14\, 25:20
END:VEVENT
BEGIN:VEVENT
UID:event12
DTSTAMP:20260421T180020Z
DTSTART:20260323T190000Z
DTEND:20260323T203000Z
LOCATION;LANGUAGE=de;ENCODING=QUOTED-PRINTABLE:Haager Straße  16\, München
SUMMARY:Punktspiel The Specials vs Latino SC Munich
DESCRIPTION;LANGUAGE=de;ENCODING=QUOTED-PRINTABLE:21:25\, 22:25
END:VEVENT
BEGIN:VEVENT
UID:event13
DTSTAMP:20260421T180020Z
DTSTART:20260420T180000Z
DTEND:20260420T193000Z
LOCATION;LANGUAGE=de;ENCODING=QUOTED-PRINTABLE:Haager Straße  16\, München
SUMMARY:Punktspiel The Specials vs Schmetterlinge
DESCRIPTION;LANGUAGE=de;ENCODING=QUOTED-PRINTABLE:25:22\, 13:25\, 15:25
END:VEVENT
END:VCALENDAR