BEGIN:VCALENDAR
VERSION:2.0
PRODID:-//dieLiga//DE
BEGIN:VEVENT
UID:event0
DTSTAMP:20260418T110709Z
DTSTART:20251014T173000Z
DTEND:20251014T200000Z
LOCATION;LANGUAGE=de;ENCODING=QUOTED-PRINTABLE:Karl-Theodor-Straße 92\, München
SUMMARY:Punktspiel Los Invalidos vs VolleyBR
DESCRIPTION;LANGUAGE=de;ENCODING=QUOTED-PRINTABLE:25:14\, 25:21
END:VEVENT
BEGIN:VEVENT
UID:event1
DTSTAMP:20260418T110709Z
DTSTART:20251023T180000Z
DTEND:20251023T200000Z
LOCATION;LANGUAGE=de;ENCODING=QUOTED-PRINTABLE:Infanteriestraße 27\, München
SUMMARY:Punktspiel VolleyBR vs Volleyballindianer
DESCRIPTION;LANGUAGE=de;ENCODING=QUOTED-PRINTABLE:11:25\, 12:25
END:VEVENT
BEGIN:VEVENT
UID:event2
DTSTAMP:20260418T110709Z
DTSTART:20251208T190000Z
DTEND:20251208T203000Z
LOCATION;LANGUAGE=de;ENCODING=QUOTED-PRINTABLE:Haager Straße  16\, München
SUMMARY:Punktspiel The Specials vs VolleyBR
DESCRIPTION;LANGUAGE=de;ENCODING=QUOTED-PRINTABLE:25:22\, 28:26
END:VEVENT
BEGIN:VEVENT
UID:event3
DTSTAMP:20260418T110709Z
DTSTART:20251113T190000Z
DTEND:20251113T210000Z
LOCATION;LANGUAGE=de;ENCODING=QUOTED-PRINTABLE:Infanteriestraße 27\, München
SUMMARY:Punktspiel VolleyBR vs Schmetterlinge
DESCRIPTION;LANGUAGE=de;ENCODING=QUOTED-PRINTABLE:15:25\, 18:25
END:VEVENT
BEGIN:VEVENT
UID:event4
DTSTAMP:20260418T110709Z
DTSTART:20260427T173000Z
LOCATION;LANGUAGE=de;ENCODING=QUOTED-PRINTABLE:
SUMMARY:Punktspiel Känguruhs vs VolleyBR
DESCRIPTION;LANGUAGE=de;ENCODING=QUOTED-PRINTABLE:\n\nÜbersicht https://www.volleyball-freizeit.de/schedule/overview/1086
END:VEVENT
BEGIN:VEVENT
UID:event5
DTSTAMP:20260418T110709Z
DTSTART:20260326T190000Z
DTEND:20260326T210000Z
LOCATION;LANGUAGE=de;ENCODING=QUOTED-PRINTABLE:Infanteriestraße 27\, München
SUMMARY:Punktspiel VolleyBR vs Jagdgänse
DESCRIPTION;LANGUAGE=de;ENCODING=QUOTED-PRINTABLE:25:18\, 18:25\, 27:25
END:VEVENT
BEGIN:VEVENT
UID:event6
DTSTAMP:20260418T110709Z
DTSTART:20260219T190000Z
DTEND:20260219T210000Z
LOCATION;LANGUAGE=de;ENCODING=QUOTED-PRINTABLE:Infanteriestraße 27\, München
SUMMARY:Punktspiel VolleyBR vs Latino SC Munich
DESCRIPTION;LANGUAGE=de;ENCODING=QUOTED-PRINTABLE:23:25\, 20:25
END:VEVENT
BEGIN:VEVENT
UID:event7
DTSTAMP:20260418T110709Z
DTSTART:20260205T190000Z
DTEND:20260205T210000Z
LOCATION;LANGUAGE=de;ENCODING=QUOTED-PRINTABLE:Infanteriestraße 27\, München
SUMMARY:Punktspiel VolleyBR vs Los Invalidos
DESCRIPTION;LANGUAGE=de;ENCODING=QUOTED-PRINTABLE:25:18\, 16:25\, 25:19
END:VEVENT
BEGIN:VEVENT
UID:event8
DTSTAMP:20260418T110709Z
DTSTART:20260209T190000Z
DTEND:20260209T210000Z
LOCATION;LANGUAGE=de;ENCODING=QUOTED-PRINTABLE:Margarethe-Danzi Str. 21\, München
SUMMARY:Punktspiel Volleyballindianer vs VolleyBR
DESCRIPTION;LANGUAGE=de;ENCODING=QUOTED-PRINTABLE:25:17\, 25:15
END:VEVENT
BEGIN:VEVENT
UID:event9
DTSTAMP:20260418T110709Z
DTSTART:20260305T190000Z
DTEND:20260305T210000Z
LOCATION;LANGUAGE=de;ENCODING=QUOTED-PRINTABLE:Infanteriestraße 27\, München
SUMMARY:Punktspiel VolleyBR vs The Specials
DESCRIPTION;LANGUAGE=de;ENCODING=QUOTED-PRINTABLE:25:23\, 25:17
END:VEVENT
BEGIN:VEVENT
UID:event10
DTSTAMP:20260418T110709Z
DTSTART:20260311T183000Z
DTEND:20260311T203000Z
LOCATION;LANGUAGE=de;ENCODING=QUOTED-PRINTABLE:St. Cajetan Str. 33\, München
SUMMARY:Punktspiel Schmetterlinge vs VolleyBR
DESCRIPTION;LANGUAGE=de;ENCODING=QUOTED-PRINTABLE:26:24\, 26:24
END:VEVENT
BEGIN:VEVENT
UID:event11
DTSTAMP:20260418T110709Z
DTSTART:20260416T180000Z
DTEND:20260416T200000Z
LOCATION;LANGUAGE=de;ENCODING=QUOTED-PRINTABLE:Infanteriestraße 27\, München
SUMMARY:Punktspiel VolleyBR vs Känguruhs
DESCRIPTION;LANGUAGE=de;ENCODING=QUOTED-PRINTABLE:23:25\, 23:25
END:VEVENT
BEGIN:VEVENT
UID:event12
DTSTAMP:20260418T110709Z
DTSTART:20260323T190000Z
DTEND:20260323T210000Z
LOCATION;LANGUAGE=de;ENCODING=QUOTED-PRINTABLE:Fernpassstr. 41\, München
SUMMARY:Punktspiel Jagdgänse vs VolleyBR
DESCRIPTION;LANGUAGE=de;ENCODING=QUOTED-PRINTABLE:18:25\, 25:21\, 23:25
END:VEVENT
BEGIN:VEVENT
UID:event13
DTSTAMP:20260418T110709Z
DTSTART:20260413T173000Z
DTEND:20260413T194500Z
LOCATION;LANGUAGE=de;ENCODING=QUOTED-PRINTABLE:Luisenstr. 29\, München
SUMMARY:Punktspiel Latino SC Munich vs VolleyBR
DESCRIPTION;LANGUAGE=de;ENCODING=QUOTED-PRINTABLE:25:11\, 25:21
END:VEVENT
END:VCALENDAR