BEGIN:VCALENDAR
VERSION:2.0
PRODID:-//dieLiga//DE
BEGIN:VEVENT
UID:event0
DTSTAMP:20260425T103739Z
DTSTART:20260315T180000Z
DTEND:20260315T200000Z
LOCATION;LANGUAGE=de;ENCODING=QUOTED-PRINTABLE:Osterwaldstraße 144\, München
SUMMARY:Punktspiel Block'n'Roll vs dFireballa
DESCRIPTION;LANGUAGE=de;ENCODING=QUOTED-PRINTABLE:31:29\, 25:10
END:VEVENT
BEGIN:VEVENT
UID:event1
DTSTAMP:20260425T103739Z
DTSTART:20251024T180000Z
DTEND:20251024T200000Z
LOCATION;LANGUAGE=de;ENCODING=QUOTED-PRINTABLE:Karl Marx Ring 65\, München 
SUMMARY:Punktspiel dFireballa vs Team Ohjooo
DESCRIPTION;LANGUAGE=de;ENCODING=QUOTED-PRINTABLE:25:10\, 25:18
END:VEVENT
BEGIN:VEVENT
UID:event2
DTSTAMP:20260425T103739Z
DTSTART:20251203T190000Z
DTEND:20251203T210000Z
LOCATION;LANGUAGE=de;ENCODING=QUOTED-PRINTABLE:Insbrucker Ring 75\, München
SUMMARY:Punktspiel Monsterglocken  vs dFireballa
DESCRIPTION;LANGUAGE=de;ENCODING=QUOTED-PRINTABLE:22:25\, 24:26
END:VEVENT
BEGIN:VEVENT
UID:event3
DTSTAMP:20260425T103739Z
DTSTART:20251212T190000Z
DTEND:20251212T210000Z
LOCATION;LANGUAGE=de;ENCODING=QUOTED-PRINTABLE:Karl Marx Ring 65\, München 
SUMMARY:Punktspiel dFireballa vs Die Streuner
DESCRIPTION;LANGUAGE=de;ENCODING=QUOTED-PRINTABLE:22:25\, 25:12\, 25:21
END:VEVENT
BEGIN:VEVENT
UID:event4
DTSTAMP:20260425T103739Z
DTSTART:20260423T180000Z
DTEND:20260423T193000Z
LOCATION;LANGUAGE=de;ENCODING=QUOTED-PRINTABLE:Aschauer Str. 7\, München
SUMMARY:Punktspiel Chillige Chilis vs dFireballa
DESCRIPTION;LANGUAGE=de;ENCODING=QUOTED-PRINTABLE:17:25\, 25:21\, 25:21
END:VEVENT
BEGIN:VEVENT
UID:event5
DTSTAMP:20260425T103739Z
DTSTART:20260123T190000Z
DTEND:20260123T210000Z
LOCATION;LANGUAGE=de;ENCODING=QUOTED-PRINTABLE:Karl Marx Ring 65\, München 
SUMMARY:Punktspiel dFireballa vs Caipiranhas
DESCRIPTION;LANGUAGE=de;ENCODING=QUOTED-PRINTABLE:25:10\, 25:19
END:VEVENT
BEGIN:VEVENT
UID:event6
DTSTAMP:20260425T103739Z
DTSTART:20260129T190000Z
DTEND:20260129T210000Z
LOCATION;LANGUAGE=de;ENCODING=QUOTED-PRINTABLE:Josef-Hagn-Straße 2\, Trudering
SUMMARY:Punktspiel Voglwuid vs dFireballa
DESCRIPTION;LANGUAGE=de;ENCODING=QUOTED-PRINTABLE:23:25\, 21:25
END:VEVENT
BEGIN:VEVENT
UID:event7
DTSTAMP:20260425T103739Z
DTSTART:20260206T190000Z
DTEND:20260206T210000Z
LOCATION;LANGUAGE=de;ENCODING=QUOTED-PRINTABLE:Karl Marx Ring 65\, München 
SUMMARY:Punktspiel dFireballa vs Block'n'Roll
DESCRIPTION;LANGUAGE=de;ENCODING=QUOTED-PRINTABLE:20:25\, 21:25
END:VEVENT
BEGIN:VEVENT
UID:event8
DTSTAMP:20260425T103739Z
DTSTART:20260212T183000Z
DTEND:20260212T203000Z
LOCATION;LANGUAGE=de;ENCODING=QUOTED-PRINTABLE:
SUMMARY:Punktspiel Team Ohjooo vs dFireballa
DESCRIPTION;LANGUAGE=de;ENCODING=QUOTED-PRINTABLE:15:25\, 12:25
END:VEVENT
BEGIN:VEVENT
UID:event9
DTSTAMP:20260425T103739Z
DTSTART:20260306T190000Z
DTEND:20260306T210000Z
LOCATION;LANGUAGE=de;ENCODING=QUOTED-PRINTABLE:Karl Marx Ring 65\, München 
SUMMARY:Punktspiel dFireballa vs Monsterglocken 
DESCRIPTION;LANGUAGE=de;ENCODING=QUOTED-PRINTABLE:25:20\, 25:15
END:VEVENT
BEGIN:VEVENT
UID:event10
DTSTAMP:20260425T103739Z
DTSTART:20260310T173000Z
DTEND:20260310T194500Z
LOCATION;LANGUAGE=de;ENCODING=QUOTED-PRINTABLE:Schwanthalerstraße 51\, München
SUMMARY:Punktspiel Die Streuner vs dFireballa
DESCRIPTION;LANGUAGE=de;ENCODING=QUOTED-PRINTABLE:19:25\, 26:24\, 15:25
END:VEVENT
BEGIN:VEVENT
UID:event11
DTSTAMP:20260425T103739Z
DTSTART:20260320T190000Z
DTEND:20260320T210000Z
LOCATION;LANGUAGE=de;ENCODING=QUOTED-PRINTABLE:Karl Marx Ring 65\, München 
SUMMARY:Punktspiel dFireballa vs Chillige Chilis
DESCRIPTION;LANGUAGE=de;ENCODING=QUOTED-PRINTABLE:25:16\, 25:20
END:VEVENT
BEGIN:VEVENT
UID:event12
DTSTAMP:20260425T103739Z
DTSTART:20260323T190000Z
DTEND:20260323T210000Z
LOCATION;LANGUAGE=de;ENCODING=QUOTED-PRINTABLE:Karl-Marx-Ring 65\, München
SUMMARY:Punktspiel Caipiranhas vs dFireballa
DESCRIPTION;LANGUAGE=de;ENCODING=QUOTED-PRINTABLE:25:22\, 25:20
END:VEVENT
BEGIN:VEVENT
UID:event13
DTSTAMP:20260425T103739Z
DTSTART:20260508T180000Z
DTEND:20260508T200000Z
LOCATION;LANGUAGE=de;ENCODING=QUOTED-PRINTABLE:Karl Marx Ring 65\, München 
SUMMARY:Punktspiel dFireballa vs Voglwuid
DESCRIPTION;LANGUAGE=de;ENCODING=QUOTED-PRINTABLE:Neue Grundschule \nKarl Marx Ring 65\nMünchen \n\n\nÜbersicht https://www.volleyball-freizeit.de/schedule/overview/1085
END:VEVENT
END:VCALENDAR