BEGIN:VCALENDAR
VERSION:2.0
PRODID:-//dieLiga//DE
BEGIN:VEVENT
UID:event0
DTSTAMP:20260425T141320Z
DTSTART:20251013T183000Z
DTEND:20251013T200000Z
LOCATION;LANGUAGE=de;ENCODING=QUOTED-PRINTABLE:Regina-Ullmann-Str. 6\, München
SUMMARY:Punktspiel Schwabinger Gelbe Ruam vs PiHoppers II
DESCRIPTION;LANGUAGE=de;ENCODING=QUOTED-PRINTABLE:25:17\, 25:18
END:VEVENT
BEGIN:VEVENT
UID:event1
DTSTAMP:20260425T141320Z
DTSTART:20251021T180000Z
DTEND:20251021T200000Z
LOCATION;LANGUAGE=de;ENCODING=QUOTED-PRINTABLE:Max-Proebstl-Strasse 7\, München
SUMMARY:Punktspiel PiHoppers II vs Ratz Fatz
DESCRIPTION;LANGUAGE=de;ENCODING=QUOTED-PRINTABLE:25:20\, 25:18
END:VEVENT
BEGIN:VEVENT
UID:event2
DTSTAMP:20260425T141320Z
DTSTART:20251209T190000Z
DTEND:20251209T210000Z
LOCATION;LANGUAGE=de;ENCODING=QUOTED-PRINTABLE:Max-Proebstl-Strasse 7\, München
SUMMARY:Punktspiel PiHoppers II vs Hallenopas
DESCRIPTION;LANGUAGE=de;ENCODING=QUOTED-PRINTABLE:23:25\, 24:26
END:VEVENT
BEGIN:VEVENT
UID:event3
DTSTAMP:20260425T141320Z
DTSTART:20260430T180000Z
DTEND:20260430T200000Z
LOCATION;LANGUAGE=de;ENCODING=QUOTED-PRINTABLE:Borschtallee 26\, München
SUMMARY:Punktspiel FTM Block Party vs PiHoppers II
DESCRIPTION;LANGUAGE=de;ENCODING=QUOTED-PRINTABLE:Willi-Graf-Gymnasium (Eingang Voelderndorffstraße direkt am Scheidplatz)\nBorschtallee 26\n80803 München\n80804\nSchwabing-West\n\nÜbersicht https://www.volleyball-freizeit.de/schedule/overview/1082
END:VEVENT
BEGIN:VEVENT
UID:event4
DTSTAMP:20260425T141320Z
DTSTART:20260310T190000Z
DTEND:20260310T210000Z
LOCATION;LANGUAGE=de;ENCODING=QUOTED-PRINTABLE:Max-Proebstl-Strasse 7\, München
SUMMARY:Punktspiel PiHoppers II vs Evil Power
DESCRIPTION;LANGUAGE=de;ENCODING=QUOTED-PRINTABLE:21:25\, 11:25
END:VEVENT
BEGIN:VEVENT
UID:event5
DTSTAMP:20260425T141320Z
DTSTART:20260424T180000Z
DTEND:20260424T200000Z
LOCATION;LANGUAGE=de;ENCODING=QUOTED-PRINTABLE:Freiligrathstraße 71\, München
SUMMARY:Punktspiel SMASH SQUAD vs PiHoppers II
DESCRIPTION;LANGUAGE=de;ENCODING=QUOTED-PRINTABLE:25:20\, 25:11
END:VEVENT
BEGIN:VEVENT
UID:event6
DTSTAMP:20260425T141320Z
DTSTART:20260203T190000Z
DTEND:20260203T210000Z
LOCATION;LANGUAGE=de;ENCODING=QUOTED-PRINTABLE:Max-Proebstl-Strasse 7\, München
SUMMARY:Punktspiel PiHoppers II vs Schwabinger Gelbe Ruam
DESCRIPTION;LANGUAGE=de;ENCODING=QUOTED-PRINTABLE:25:27\, 20:25
END:VEVENT
BEGIN:VEVENT
UID:event7
DTSTAMP:20260425T141320Z
DTSTART:20260212T183000Z
DTEND:20260212T203000Z
LOCATION;LANGUAGE=de;ENCODING=QUOTED-PRINTABLE:St.-Cajetan-Str. 33\, München
SUMMARY:Punktspiel Ratz Fatz vs PiHoppers II
DESCRIPTION;LANGUAGE=de;ENCODING=QUOTED-PRINTABLE:25:18\, 25:10
END:VEVENT
BEGIN:VEVENT
UID:event8
DTSTAMP:20260425T141320Z
DTSTART:20260303T190000Z
DTEND:20260303T210000Z
LOCATION;LANGUAGE=de;ENCODING=QUOTED-PRINTABLE:Max-Proebstl-Strasse 7\, München
SUMMARY:Punktspiel PiHoppers II vs Picco-Rosso
DESCRIPTION;LANGUAGE=de;ENCODING=QUOTED-PRINTABLE:17:25\, 21:25
END:VEVENT
BEGIN:VEVENT
UID:event9
DTSTAMP:20260425T141320Z
DTSTART:20260317T190000Z
DTEND:20260317T210000Z
LOCATION;LANGUAGE=de;ENCODING=QUOTED-PRINTABLE:Max-Proebstl-Strasse 7\, München
SUMMARY:Punktspiel PiHoppers II vs FTM Block Party
DESCRIPTION;LANGUAGE=de;ENCODING=QUOTED-PRINTABLE:18:25\, 26:24\, 18:25
END:VEVENT
BEGIN:VEVENT
UID:event10
DTSTAMP:20260425T141320Z
DTSTART:20260508T160000Z
DTEND:20260508T180000Z
LOCATION;LANGUAGE=de;ENCODING=QUOTED-PRINTABLE:Häberlstr. 11\, München
SUMMARY:Punktspiel Evil Power vs PiHoppers II
DESCRIPTION;LANGUAGE=de;ENCODING=QUOTED-PRINTABLE:MTV Stammhalle (Der Dom) (18.15 Uhr reicht auch\, bitte ggf. anmelden)\nHäberlstr. 11\n80337 München\n\n\nÜbersicht https://www.volleyball-freizeit.de/schedule/overview/1082
END:VEVENT
BEGIN:VEVENT
UID:event11
DTSTAMP:20260425T141320Z
DTSTART:20260421T180000Z
DTEND:20260421T200000Z
LOCATION;LANGUAGE=de;ENCODING=QUOTED-PRINTABLE:Max-Proebstl-Strasse 7\, München
SUMMARY:Punktspiel PiHoppers II vs SMASH SQUAD
DESCRIPTION;LANGUAGE=de;ENCODING=QUOTED-PRINTABLE:17:25\, 18:25
END:VEVENT
END:VCALENDAR