BEGIN:VCALENDAR
VERSION:2.0
PRODID:-//dieLiga//DE
BEGIN:VEVENT
UID:event0
DTSTAMP:20260423T145013Z
DTSTART:20251016T183000Z
DTEND:20251016T203000Z
LOCATION;LANGUAGE=de;ENCODING=QUOTED-PRINTABLE:Lehrer Wirth Str 31\, München
SUMMARY:Punktspiel BUGAtis vs Red Sparrows
DESCRIPTION;LANGUAGE=de;ENCODING=QUOTED-PRINTABLE:25:8\, 25:19
END:VEVENT
BEGIN:VEVENT
UID:event1
DTSTAMP:20260423T145013Z
DTSTART:20251020T173000Z
DTEND:20251020T193000Z
LOCATION;LANGUAGE=de;ENCODING=QUOTED-PRINTABLE:Max-Reinhardt-Weg 27\, München
SUMMARY:Punktspiel Red Sparrows vs Netzrollies
DESCRIPTION;LANGUAGE=de;ENCODING=QUOTED-PRINTABLE:23:25\, 25:13\, 17:25
END:VEVENT
BEGIN:VEVENT
UID:event2
DTSTAMP:20260423T145013Z
DTSTART:20251201T183000Z
DTEND:20251201T203000Z
LOCATION;LANGUAGE=de;ENCODING=QUOTED-PRINTABLE:Max-Reinhardt-Weg 27\, München
SUMMARY:Punktspiel Red Sparrows vs Genial daneben
DESCRIPTION;LANGUAGE=de;ENCODING=QUOTED-PRINTABLE:10:25\, 27:25\, 25:18
END:VEVENT
BEGIN:VEVENT
UID:event3
DTSTAMP:20260423T145013Z
DTSTART:20260226T183000Z
DTEND:20260226T210000Z
LOCATION;LANGUAGE=de;ENCODING=QUOTED-PRINTABLE:Innsbrucker Ring  75\, München
SUMMARY:Punktspiel Größenwahn vs Red Sparrows
DESCRIPTION;LANGUAGE=de;ENCODING=QUOTED-PRINTABLE:25:23\, 25:16
END:VEVENT
BEGIN:VEVENT
UID:event4
DTSTAMP:20260423T145013Z
DTSTART:20251215T183000Z
DTEND:20251215T203000Z
LOCATION;LANGUAGE=de;ENCODING=QUOTED-PRINTABLE:Max-Reinhardt-Weg 27\, München
SUMMARY:Punktspiel Red Sparrows vs Voll Treffer
DESCRIPTION;LANGUAGE=de;ENCODING=QUOTED-PRINTABLE:26:24\, 25:21
END:VEVENT
BEGIN:VEVENT
UID:event5
DTSTAMP:20260423T145013Z
DTSTART:20260119T193000Z
DTEND:20260119T210000Z
LOCATION;LANGUAGE=de;ENCODING=QUOTED-PRINTABLE: Arcisstrasse  65\, München
SUMMARY:Punktspiel VC Dom Pedro e.V. vs Red Sparrows
DESCRIPTION;LANGUAGE=de;ENCODING=QUOTED-PRINTABLE:25:9\, 25:17
END:VEVENT
BEGIN:VEVENT
UID:event6
DTSTAMP:20260423T145013Z
DTSTART:20260126T183000Z
DTEND:20260126T203000Z
LOCATION;LANGUAGE=de;ENCODING=QUOTED-PRINTABLE:Max-Reinhardt-Weg 27\, München
SUMMARY:Punktspiel Red Sparrows vs Maxvorstadt I
DESCRIPTION;LANGUAGE=de;ENCODING=QUOTED-PRINTABLE:22:25\, 23:25
END:VEVENT
BEGIN:VEVENT
UID:event7
DTSTAMP:20260423T145013Z
DTSTART:20260202T183000Z
DTEND:20260202T203000Z
LOCATION;LANGUAGE=de;ENCODING=QUOTED-PRINTABLE:Max-Reinhardt-Weg 27\, München
SUMMARY:Punktspiel Red Sparrows vs BUGAtis
DESCRIPTION;LANGUAGE=de;ENCODING=QUOTED-PRINTABLE:25:23\, 11:25\, 24:26
END:VEVENT
BEGIN:VEVENT
UID:event8
DTSTAMP:20260423T145013Z
DTSTART:20260211T193000Z
DTEND:20260211T220000Z
LOCATION;LANGUAGE=de;ENCODING=QUOTED-PRINTABLE:Säbenerstraße 49\, München
SUMMARY:Punktspiel Netzrollies vs Red Sparrows
DESCRIPTION;LANGUAGE=de;ENCODING=QUOTED-PRINTABLE:25:16\, 25:12
END:VEVENT
BEGIN:VEVENT
UID:event9
DTSTAMP:20260423T145013Z
DTSTART:20260303T190000Z
DTEND:20260303T210000Z
LOCATION;LANGUAGE=de;ENCODING=QUOTED-PRINTABLE:Karl-Marx-Ring 67\, München
SUMMARY:Punktspiel Genial daneben vs Red Sparrows
DESCRIPTION;LANGUAGE=de;ENCODING=QUOTED-PRINTABLE:25:13\, 25:18
END:VEVENT
BEGIN:VEVENT
UID:event10
DTSTAMP:20260423T145013Z
DTSTART:20260309T183000Z
DTEND:20260309T203000Z
LOCATION;LANGUAGE=de;ENCODING=QUOTED-PRINTABLE:Max-Reinhardt-Weg 27\, München
SUMMARY:Punktspiel Red Sparrows vs Größenwahn
DESCRIPTION;LANGUAGE=de;ENCODING=QUOTED-PRINTABLE:16:25\, 21:25
END:VEVENT
BEGIN:VEVENT
UID:event11
DTSTAMP:20260423T145013Z
DTSTART:20260318T190000Z
DTEND:20260318T210000Z
LOCATION;LANGUAGE=de;ENCODING=QUOTED-PRINTABLE:Eingang zur Halle --> Elisabeth Baerleinstrasse  10\, München
SUMMARY:Punktspiel Voll Treffer vs Red Sparrows
DESCRIPTION;LANGUAGE=de;ENCODING=QUOTED-PRINTABLE:25:4\, 25:9
END:VEVENT
BEGIN:VEVENT
UID:event12
DTSTAMP:20260423T145013Z
DTSTART:20260323T183000Z
DTEND:20260323T203000Z
LOCATION;LANGUAGE=de;ENCODING=QUOTED-PRINTABLE:Max-Reinhardt-Weg 27\, München
SUMMARY:Punktspiel Red Sparrows vs VC Dom Pedro e.V.
DESCRIPTION;LANGUAGE=de;ENCODING=QUOTED-PRINTABLE:17:25\, 14:25
END:VEVENT
BEGIN:VEVENT
UID:event13
DTSTAMP:20260423T145013Z
DTSTART:20260424T170000Z
DTEND:20260424T190000Z
LOCATION;LANGUAGE=de;ENCODING=QUOTED-PRINTABLE: Luisenstraße  7\, München
SUMMARY:Punktspiel Maxvorstadt I vs Red Sparrows
DESCRIPTION;LANGUAGE=de;ENCODING=QUOTED-PRINTABLE:Städtisches Luisengymnasium (Halle 3)\n Luisenstraße  7\n80333 München\nEingang neben Dachauerstr.12\n\n\nÜbersicht https://www.volleyball-freizeit.de/schedule/overview/1089
END:VEVENT
END:VCALENDAR