BEGIN:VCALENDAR
VERSION:2.0
PRODID:-//dieLiga//DE
BEGIN:VEVENT
UID:event0
DTSTAMP:20260423T184822Z
DTSTART:20251014T180000Z
DTEND:20251014T200000Z
LOCATION;LANGUAGE=de;ENCODING=QUOTED-PRINTABLE:Papinstr. 22\, München 
SUMMARY:Punktspiel Aubinger Chaoten vs Laimer Bier
DESCRIPTION;LANGUAGE=de;ENCODING=QUOTED-PRINTABLE:16:25\, 10:25
END:VEVENT
BEGIN:VEVENT
UID:event1
DTSTAMP:20260423T184822Z
DTSTART:20260427T180000Z
DTEND:20260427T200000Z
LOCATION;LANGUAGE=de;ENCODING=QUOTED-PRINTABLE:Maria-Ward-Straße 5\, München
SUMMARY:Punktspiel Der Supergau vs Aubinger Chaoten
DESCRIPTION;LANGUAGE=de;ENCODING=QUOTED-PRINTABLE:\nMaria-Ward-Straße 5\n80638 München\n\n\nÜbersicht https://www.volleyball-freizeit.de/schedule/overview/1088
END:VEVENT
BEGIN:VEVENT
UID:event2
DTSTAMP:20260423T184822Z
DTSTART:20251202T190000Z
DTEND:20251202T210000Z
LOCATION;LANGUAGE=de;ENCODING=QUOTED-PRINTABLE:Papinstr. 22\, München 
SUMMARY:Punktspiel Aubinger Chaoten vs Schaf-Volleys
DESCRIPTION;LANGUAGE=de;ENCODING=QUOTED-PRINTABLE:25:22\, 25:19
END:VEVENT
BEGIN:VEVENT
UID:event3
DTSTAMP:20260423T184822Z
DTSTART:20251209T190000Z
DTEND:20251209T210000Z
LOCATION;LANGUAGE=de;ENCODING=QUOTED-PRINTABLE:Franz-Mader-Str. 11\, München
SUMMARY:Punktspiel Maximale Lässigkeit vs Aubinger Chaoten
DESCRIPTION;LANGUAGE=de;ENCODING=QUOTED-PRINTABLE:25:20\, 10:25\, 10:25
END:VEVENT
BEGIN:VEVENT
UID:event4
DTSTAMP:20260423T184822Z
DTSTART:20251216T190000Z
DTEND:20251216T210000Z
LOCATION;LANGUAGE=de;ENCODING=QUOTED-PRINTABLE:Papinstr. 22\, München 
SUMMARY:Punktspiel Aubinger Chaoten vs Flying Circus
DESCRIPTION;LANGUAGE=de;ENCODING=QUOTED-PRINTABLE:23:25\, 20:25
END:VEVENT
BEGIN:VEVENT
UID:event5
DTSTAMP:20260423T184822Z
DTSTART:20260506T173000Z
DTEND:20260506T200000Z
LOCATION;LANGUAGE=de;ENCODING=QUOTED-PRINTABLE:Helmholtzstraße 6\, München
SUMMARY:Punktspiel Rainbow Six vs Aubinger Chaoten
DESCRIPTION;LANGUAGE=de;ENCODING=QUOTED-PRINTABLE:Grundschule\nHelmholtzstraße 6\n80637 München\nEingang über Luise-Ullrich-Straße 9\, ein paar Parkplätze vorhanden\n\n\nÜbersicht https://www.volleyball-freizeit.de/schedule/overview/1088
END:VEVENT
BEGIN:VEVENT
UID:event6
DTSTAMP:20260423T184822Z
DTSTART:20260127T190000Z
DTEND:20260127T210000Z
LOCATION;LANGUAGE=de;ENCODING=QUOTED-PRINTABLE:Drygalski-Allee 2\, München
SUMMARY:Punktspiel Mission Unblockable vs Aubinger Chaoten
DESCRIPTION;LANGUAGE=de;ENCODING=QUOTED-PRINTABLE:25:12\, 25:13
END:VEVENT
BEGIN:VEVENT
UID:event7
DTSTAMP:20260423T184822Z
DTSTART:20260203T190000Z
DTEND:20260203T210000Z
LOCATION;LANGUAGE=de;ENCODING=QUOTED-PRINTABLE:Riegerhofstr. 20\, München
SUMMARY:Punktspiel Laimer Bier vs Aubinger Chaoten
DESCRIPTION;LANGUAGE=de;ENCODING=QUOTED-PRINTABLE:25:16\, 25:11
END:VEVENT
BEGIN:VEVENT
UID:event8
DTSTAMP:20260423T184822Z
DTSTART:20260210T190000Z
DTEND:20260210T210000Z
LOCATION;LANGUAGE=de;ENCODING=QUOTED-PRINTABLE:Papinstr. 22\, München 
SUMMARY:Punktspiel Aubinger Chaoten vs Der Supergau
DESCRIPTION;LANGUAGE=de;ENCODING=QUOTED-PRINTABLE:17:25\, 15:25
END:VEVENT
BEGIN:VEVENT
UID:event9
DTSTAMP:20260423T184822Z
DTSTART:20260304T190000Z
DTEND:20260304T210000Z
LOCATION;LANGUAGE=de;ENCODING=QUOTED-PRINTABLE:Oselstraße 21\, München
SUMMARY:Punktspiel Schaf-Volleys vs Aubinger Chaoten
DESCRIPTION;LANGUAGE=de;ENCODING=QUOTED-PRINTABLE:22:25\, 25:20\, 25:18
END:VEVENT
BEGIN:VEVENT
UID:event10
DTSTAMP:20260423T184822Z
DTSTART:20260310T190000Z
DTEND:20260310T210000Z
LOCATION;LANGUAGE=de;ENCODING=QUOTED-PRINTABLE:Papinstr. 22\, München 
SUMMARY:Punktspiel Aubinger Chaoten vs Maximale Lässigkeit
DESCRIPTION;LANGUAGE=de;ENCODING=QUOTED-PRINTABLE:25:20\, 25:11
END:VEVENT
BEGIN:VEVENT
UID:event11
DTSTAMP:20260423T184822Z
DTSTART:20260320T190000Z
DTEND:20260320T210000Z
LOCATION;LANGUAGE=de;ENCODING=QUOTED-PRINTABLE:Adalbert-Stifter-Platz 2\, Gräfelfing
SUMMARY:Punktspiel Flying Circus vs Aubinger Chaoten
DESCRIPTION;LANGUAGE=de;ENCODING=QUOTED-PRINTABLE:13:25\, 25:21\, 22:25
END:VEVENT
BEGIN:VEVENT
UID:event12
DTSTAMP:20260423T184822Z
DTSTART:20260324T190000Z
DTEND:20260324T210000Z
LOCATION;LANGUAGE=de;ENCODING=QUOTED-PRINTABLE:Papinstr. 22\, München 
SUMMARY:Punktspiel Aubinger Chaoten vs Rainbow Six
DESCRIPTION;LANGUAGE=de;ENCODING=QUOTED-PRINTABLE:20:25\, 25:23\, 21:25
END:VEVENT
BEGIN:VEVENT
UID:event13
DTSTAMP:20260423T184822Z
DTSTART:20251118T190000Z
DTEND:20251118T210000Z
LOCATION;LANGUAGE=de;ENCODING=QUOTED-PRINTABLE:Papinstr. 22\, München 
SUMMARY:Punktspiel Aubinger Chaoten vs Mission Unblockable
DESCRIPTION;LANGUAGE=de;ENCODING=QUOTED-PRINTABLE:22:25\, 21:25
END:VEVENT
END:VCALENDAR