BEGIN:VCALENDAR
VERSION:2.0
PRODID:-//dieLiga//DE
BEGIN:VEVENT
UID:event0
DTSTAMP:20260329T065606Z
DTSTART:20251009T180000Z
DTEND:20251009T210000Z
LOCATION;LANGUAGE=de;ENCODING=QUOTED-PRINTABLE:Helmholtzstraße 6\, München
SUMMARY:Punktspiel Loud'n'Proud vs FIX WIE NIX
DESCRIPTION;LANGUAGE=de;ENCODING=QUOTED-PRINTABLE:25:20\, 25:20
END:VEVENT
BEGIN:VEVENT
UID:event1
DTSTAMP:20260329T065606Z
DTSTART:20251027T190000Z
LOCATION;LANGUAGE=de;ENCODING=QUOTED-PRINTABLE:
SUMMARY:Punktspiel To The Top! vs FIX WIE NIX
DESCRIPTION;LANGUAGE=de;ENCODING=QUOTED-PRINTABLE:25:18\, 25:14
END:VEVENT
BEGIN:VEVENT
UID:event2
DTSTAMP:20260329T065606Z
DTSTART:20251201T190000Z
DTEND:20251201T210000Z
LOCATION;LANGUAGE=de;ENCODING=QUOTED-PRINTABLE:Münchner Ring 6\, Unterschleißheim
SUMMARY:Punktspiel Die lowhofer vs FIX WIE NIX
DESCRIPTION;LANGUAGE=de;ENCODING=QUOTED-PRINTABLE:25:13\, 25:20
END:VEVENT
BEGIN:VEVENT
UID:event3
DTSTAMP:20260329T065606Z
DTSTART:20251210T183000Z
DTEND:20251210T203000Z
LOCATION;LANGUAGE=de;ENCODING=QUOTED-PRINTABLE:Knorrstraße 171\, München
SUMMARY:Punktspiel FIX WIE NIX vs BavUA
DESCRIPTION;LANGUAGE=de;ENCODING=QUOTED-PRINTABLE:24:26\, 25:23\, 18:25
END:VEVENT
BEGIN:VEVENT
UID:event4
DTSTAMP:20260329T065606Z
DTSTART:20260115T174500Z
DTEND:20260115T200000Z
LOCATION;LANGUAGE=de;ENCODING=QUOTED-PRINTABLE:Grasserstr. 9\, München
SUMMARY:Punktspiel Forza Ragazzi vs FIX WIE NIX
DESCRIPTION;LANGUAGE=de;ENCODING=QUOTED-PRINTABLE:25:16\, 25:13
END:VEVENT
BEGIN:VEVENT
UID:event5
DTSTAMP:20260329T065606Z
DTSTART:20260121T183000Z
DTEND:20260121T203000Z
LOCATION;LANGUAGE=de;ENCODING=QUOTED-PRINTABLE:Knorrstraße 171\, München
SUMMARY:Punktspiel FIX WIE NIX vs ESV Freimann
DESCRIPTION;LANGUAGE=de;ENCODING=QUOTED-PRINTABLE:18:25\, 25:20\, 30:28
END:VEVENT
BEGIN:VEVENT
UID:event6
DTSTAMP:20260329T065606Z
DTSTART:20260129T190000Z
DTEND:20260129T210000Z
LOCATION;LANGUAGE=de;ENCODING=QUOTED-PRINTABLE:Freiligrathstraße 71\, München
SUMMARY:Punktspiel Blockbusters vs FIX WIE NIX
DESCRIPTION;LANGUAGE=de;ENCODING=QUOTED-PRINTABLE:25:21\, 25:16
END:VEVENT
BEGIN:VEVENT
UID:event7
DTSTAMP:20260329T065606Z
DTSTART:20260204T183000Z
LOCATION;LANGUAGE=de;ENCODING=QUOTED-PRINTABLE:
SUMMARY:Punktspiel FIX WIE NIX vs Loud'n'Proud
DESCRIPTION;LANGUAGE=de;ENCODING=QUOTED-PRINTABLE:17:25\, 26:24\, 16:25
END:VEVENT
BEGIN:VEVENT
UID:event8
DTSTAMP:20260329T065606Z
DTSTART:20260211T183000Z
DTEND:20260211T203000Z
LOCATION;LANGUAGE=de;ENCODING=QUOTED-PRINTABLE:Knorrstraße 171\, München
SUMMARY:Punktspiel FIX WIE NIX vs To The Top!
DESCRIPTION;LANGUAGE=de;ENCODING=QUOTED-PRINTABLE:17:25\, 14:25
END:VEVENT
BEGIN:VEVENT
UID:event9
DTSTAMP:20260329T065606Z
DTSTART:20260304T183000Z
DTEND:20260304T203000Z
LOCATION;LANGUAGE=de;ENCODING=QUOTED-PRINTABLE:Knorrstraße 171\, München
SUMMARY:Punktspiel FIX WIE NIX vs Die lowhofer
DESCRIPTION;LANGUAGE=de;ENCODING=QUOTED-PRINTABLE:34:32\, 25:21
END:VEVENT
BEGIN:VEVENT
UID:event10
DTSTAMP:20260329T065606Z
DTSTART:20260309T170000Z
LOCATION;LANGUAGE=de;ENCODING=QUOTED-PRINTABLE:
SUMMARY:Punktspiel BavUA vs FIX WIE NIX
DESCRIPTION;LANGUAGE=de;ENCODING=QUOTED-PRINTABLE:25:14\, 21:25\, 25:20
END:VEVENT
BEGIN:VEVENT
UID:event11
DTSTAMP:20260329T065606Z
DTSTART:20260318T183000Z
DTEND:20260318T203000Z
LOCATION;LANGUAGE=de;ENCODING=QUOTED-PRINTABLE:Knorrstraße 171\, München
SUMMARY:Punktspiel FIX WIE NIX vs Forza Ragazzi
DESCRIPTION;LANGUAGE=de;ENCODING=QUOTED-PRINTABLE:22:25\, 25:19\, 25:23
END:VEVENT
BEGIN:VEVENT
UID:event12
DTSTAMP:20260329T065606Z
DTSTART:20260323T191500Z
DTEND:20260323T210000Z
LOCATION;LANGUAGE=de;ENCODING=QUOTED-PRINTABLE:Lilienthalalle 47\, München
SUMMARY:Punktspiel ESV Freimann vs FIX WIE NIX
DESCRIPTION;LANGUAGE=de;ENCODING=QUOTED-PRINTABLE:25:19\, 26:24
END:VEVENT
BEGIN:VEVENT
UID:event13
DTSTAMP:20260329T065606Z
DTSTART:20260112T183000Z
LOCATION;LANGUAGE=de;ENCODING=QUOTED-PRINTABLE:
SUMMARY:Punktspiel FIX WIE NIX vs Blockbusters
DESCRIPTION;LANGUAGE=de;ENCODING=QUOTED-PRINTABLE:18:25\, 18:25
END:VEVENT
END:VCALENDAR