BEGIN:VCALENDAR
VERSION:2.0
PRODID:-//dieLiga//DE
BEGIN:VEVENT
UID:event0
DTSTAMP:20260421T180133Z
DTSTART:20251106T174500Z
DTEND:20251106T200000Z
LOCATION;LANGUAGE=de;ENCODING=QUOTED-PRINTABLE:Grasserstr. 9\, München
SUMMARY:Punktspiel Forza Ragazzi vs To The Top!
DESCRIPTION;LANGUAGE=de;ENCODING=QUOTED-PRINTABLE:23:25\, 18:25
END:VEVENT
BEGIN:VEVENT
UID:event1
DTSTAMP:20260421T180133Z
DTSTART:20251027T190000Z
LOCATION;LANGUAGE=de;ENCODING=QUOTED-PRINTABLE:
SUMMARY:Punktspiel To The Top! vs FIX WIE NIX
DESCRIPTION;LANGUAGE=de;ENCODING=QUOTED-PRINTABLE:25:18\, 25:14
END:VEVENT
BEGIN:VEVENT
UID:event2
DTSTAMP:20260421T180133Z
DTSTART:20251201T191500Z
DTEND:20251201T210000Z
LOCATION;LANGUAGE=de;ENCODING=QUOTED-PRINTABLE:Lilienthalalle 47\, München
SUMMARY:Punktspiel ESV Freimann vs To The Top!
DESCRIPTION;LANGUAGE=de;ENCODING=QUOTED-PRINTABLE:8:25\, 23:25
END:VEVENT
BEGIN:VEVENT
UID:event3
DTSTAMP:20260421T180133Z
DTSTART:20260330T180000Z
LOCATION;LANGUAGE=de;ENCODING=QUOTED-PRINTABLE:
SUMMARY:Punktspiel To The Top! vs Die lowhofer
DESCRIPTION;LANGUAGE=de;ENCODING=QUOTED-PRINTABLE:25:17\, 25:21
END:VEVENT
BEGIN:VEVENT
UID:event4
DTSTAMP:20260421T180133Z
DTSTART:20260319T190000Z
DTEND:20260319T210000Z
LOCATION;LANGUAGE=de;ENCODING=QUOTED-PRINTABLE:Freiligrathstraße 71\, München
SUMMARY:Punktspiel Blockbusters vs To The Top!
DESCRIPTION;LANGUAGE=de;ENCODING=QUOTED-PRINTABLE:25:15\, 17:25\, 20:25
END:VEVENT
BEGIN:VEVENT
UID:event5
DTSTAMP:20260421T180133Z
DTSTART:20260126T190000Z
LOCATION;LANGUAGE=de;ENCODING=QUOTED-PRINTABLE:
SUMMARY:Punktspiel To The Top! vs BavUA
DESCRIPTION;LANGUAGE=de;ENCODING=QUOTED-PRINTABLE:29:27\, 25:15
END:VEVENT
BEGIN:VEVENT
UID:event6
DTSTAMP:20260421T180133Z
DTSTART:20260129T190000Z
DTEND:20260129T220000Z
LOCATION;LANGUAGE=de;ENCODING=QUOTED-PRINTABLE:Helmholtzstraße 6\, München
SUMMARY:Punktspiel Loud'n'Proud vs To The Top!
DESCRIPTION;LANGUAGE=de;ENCODING=QUOTED-PRINTABLE:16:25\, 19:25
END:VEVENT
BEGIN:VEVENT
UID:event7
DTSTAMP:20260421T180133Z
DTSTART:20260420T180000Z
LOCATION;LANGUAGE=de;ENCODING=QUOTED-PRINTABLE:
SUMMARY:Punktspiel To The Top! vs Forza Ragazzi
DESCRIPTION;LANGUAGE=de;ENCODING=QUOTED-PRINTABLE:25:20\, 22:25\, 23:25
END:VEVENT
BEGIN:VEVENT
UID:event8
DTSTAMP:20260421T180133Z
DTSTART:20260211T183000Z
DTEND:20260211T203000Z
LOCATION;LANGUAGE=de;ENCODING=QUOTED-PRINTABLE:Knorrstraße 171\, München
SUMMARY:Punktspiel FIX WIE NIX vs To The Top!
DESCRIPTION;LANGUAGE=de;ENCODING=QUOTED-PRINTABLE:17:25\, 14:25
END:VEVENT
BEGIN:VEVENT
UID:event9
DTSTAMP:20260421T180133Z
DTSTART:20260504T180000Z
LOCATION;LANGUAGE=de;ENCODING=QUOTED-PRINTABLE:
SUMMARY:Punktspiel To The Top! vs ESV Freimann
DESCRIPTION;LANGUAGE=de;ENCODING=QUOTED-PRINTABLE:\n\nÜbersicht https://www.volleyball-freizeit.de/schedule/overview/1083
END:VEVENT
BEGIN:VEVENT
UID:event10
DTSTAMP:20260421T180133Z
DTSTART:20260413T180000Z
DTEND:20260413T200000Z
LOCATION;LANGUAGE=de;ENCODING=QUOTED-PRINTABLE:Münchner Ring 6\, Unterschleißheim
SUMMARY:Punktspiel Die lowhofer vs To The Top!
DESCRIPTION;LANGUAGE=de;ENCODING=QUOTED-PRINTABLE:15:25\, 21:25
END:VEVENT
BEGIN:VEVENT
UID:event11
DTSTAMP:20260421T180133Z
DTSTART:20260323T190000Z
LOCATION;LANGUAGE=de;ENCODING=QUOTED-PRINTABLE:
SUMMARY:Punktspiel To The Top! vs Blockbusters
DESCRIPTION;LANGUAGE=de;ENCODING=QUOTED-PRINTABLE:25:21\, 23:25\, 25:22
END:VEVENT
BEGIN:VEVENT
UID:event12
DTSTAMP:20260421T180133Z
DTSTART:20260328T170000Z
DTEND:20260328T190000Z
LOCATION;LANGUAGE=de;ENCODING=QUOTED-PRINTABLE:Osterwaldstr.  144\, München
SUMMARY:Punktspiel BavUA vs To The Top!
DESCRIPTION;LANGUAGE=de;ENCODING=QUOTED-PRINTABLE:25:18\, 26:28\, 26:24
END:VEVENT
BEGIN:VEVENT
UID:event13
DTSTAMP:20260421T180133Z
DTSTART:20260427T180000Z
LOCATION;LANGUAGE=de;ENCODING=QUOTED-PRINTABLE:
SUMMARY:Punktspiel To The Top! vs Loud'n'Proud
DESCRIPTION;LANGUAGE=de;ENCODING=QUOTED-PRINTABLE:\n\nÜbersicht https://www.volleyball-freizeit.de/schedule/overview/1083
END:VEVENT
END:VCALENDAR