BEGIN:VCALENDAR
VERSION:2.0
PRODID:-//dieLiga//DE
BEGIN:VEVENT
UID:event0
DTSTAMP:20260416T121004Z
DTSTART:20251015T180000Z
DTEND:20251015T200000Z
LOCATION;LANGUAGE=de;ENCODING=QUOTED-PRINTABLE:St. -Cajetan-Straße 33\, München
SUMMARY:Punktspiel Team Ohjoo II vs Haudraufwienix
DESCRIPTION;LANGUAGE=de;ENCODING=QUOTED-PRINTABLE:13:25\, 15:25
END:VEVENT
BEGIN:VEVENT
UID:event1
DTSTAMP:20260416T121004Z
DTSTART:20251023T173000Z
DTEND:20251023T193000Z
LOCATION;LANGUAGE=de;ENCODING=QUOTED-PRINTABLE:St. Cajetan Str. 33\, München
SUMMARY:Punktspiel Schampanias vs Team Ohjoo II
DESCRIPTION;LANGUAGE=de;ENCODING=QUOTED-PRINTABLE:25:11\, 25:15
END:VEVENT
BEGIN:VEVENT
UID:event2
DTSTAMP:20260416T121004Z
DTSTART:20251119T190000Z
DTEND:20251119T210000Z
LOCATION;LANGUAGE=de;ENCODING=QUOTED-PRINTABLE:St. -Cajetan-Straße 33\, München
SUMMARY:Punktspiel Team Ohjoo II vs Interteam
DESCRIPTION;LANGUAGE=de;ENCODING=QUOTED-PRINTABLE:23:25\, 29:27\, 25:23
END:VEVENT
BEGIN:VEVENT
UID:event3
DTSTAMP:20260416T121004Z
DTSTART:20251211T194500Z
DTEND:20251211T220000Z
LOCATION;LANGUAGE=de;ENCODING=QUOTED-PRINTABLE:Hermine-von-Parish-Straße 15\, München
SUMMARY:Punktspiel Vollpertinger vs Team Ohjoo II
DESCRIPTION;LANGUAGE=de;ENCODING=QUOTED-PRINTABLE:15:25\, 27:25\, 23:25
END:VEVENT
BEGIN:VEVENT
UID:event4
DTSTAMP:20260416T121004Z
DTSTART:20260415T173000Z
LOCATION;LANGUAGE=de;ENCODING=QUOTED-PRINTABLE:
SUMMARY:Punktspiel Team Ohjoo II vs Schönschmetterfront
DESCRIPTION;LANGUAGE=de;ENCODING=QUOTED-PRINTABLE:16:25\, 15:25
END:VEVENT
BEGIN:VEVENT
UID:event5
DTSTAMP:20260416T121004Z
DTSTART:20260121T193000Z
LOCATION;LANGUAGE=de;ENCODING=QUOTED-PRINTABLE:
SUMMARY:Punktspiel Die Münchner Elche vs Team Ohjoo II
DESCRIPTION;LANGUAGE=de;ENCODING=QUOTED-PRINTABLE:21:25\, 25:15\, 26:24
END:VEVENT
BEGIN:VEVENT
UID:event6
DTSTAMP:20260416T121004Z
DTSTART:20260225T190000Z
DTEND:20260225T210000Z
LOCATION;LANGUAGE=de;ENCODING=QUOTED-PRINTABLE:St. -Cajetan-Straße 33\, München
SUMMARY:Punktspiel Team Ohjoo II vs Die Haderer
DESCRIPTION;LANGUAGE=de;ENCODING=QUOTED-PRINTABLE:23:25\, 25:16\, 16:25
END:VEVENT
BEGIN:VEVENT
UID:event7
DTSTAMP:20260416T121004Z
DTSTART:20260414T182900Z
LOCATION;LANGUAGE=de;ENCODING=QUOTED-PRINTABLE:
SUMMARY:Punktspiel Haudraufwienix vs Team Ohjoo II
DESCRIPTION;LANGUAGE=de;ENCODING=QUOTED-PRINTABLE:25:15\, 16:25\, 25:12
END:VEVENT
BEGIN:VEVENT
UID:event8
DTSTAMP:20260416T121004Z
DTSTART:20260211T190000Z
DTEND:20260211T210000Z
LOCATION;LANGUAGE=de;ENCODING=QUOTED-PRINTABLE:St. -Cajetan-Straße 33\, München
SUMMARY:Punktspiel Team Ohjoo II vs Schampanias
DESCRIPTION;LANGUAGE=de;ENCODING=QUOTED-PRINTABLE:22:25\, 25:18\, 25:21
END:VEVENT
BEGIN:VEVENT
UID:event9
DTSTAMP:20260416T121004Z
DTSTART:20260504T180000Z
DTEND:20260504T200000Z
LOCATION;LANGUAGE=de;ENCODING=QUOTED-PRINTABLE:Aidenbachtrasse 23\, München
SUMMARY:Punktspiel Interteam vs Team Ohjoo II
DESCRIPTION;LANGUAGE=de;ENCODING=QUOTED-PRINTABLE:Grundschule an der Aidenbachstrasse (Halle 1)\nAidenbachtrasse 23\n81379 München\nObersendling\n\nÜbersicht https://www.volleyball-freizeit.de/schedule/overview/1090
END:VEVENT
BEGIN:VEVENT
UID:event10
DTSTAMP:20260416T121004Z
DTSTART:20260311T190000Z
DTEND:20260311T210000Z
LOCATION;LANGUAGE=de;ENCODING=QUOTED-PRINTABLE:St. -Cajetan-Straße 33\, München
SUMMARY:Punktspiel Team Ohjoo II vs Vollpertinger
DESCRIPTION;LANGUAGE=de;ENCODING=QUOTED-PRINTABLE:20:25\, 25:7\, 25:18
END:VEVENT
BEGIN:VEVENT
UID:event11
DTSTAMP:20260416T121004Z
DTSTART:20260322T190000Z
DTEND:20260322T210000Z
LOCATION;LANGUAGE=de;ENCODING=QUOTED-PRINTABLE:
SUMMARY:Punktspiel Schönschmetterfront vs Team Ohjoo II
DESCRIPTION;LANGUAGE=de;ENCODING=QUOTED-PRINTABLE:25:17\, 25:14
END:VEVENT
BEGIN:VEVENT
UID:event12
DTSTAMP:20260416T121004Z
DTSTART:20260325T190000Z
DTEND:20260325T210000Z
LOCATION;LANGUAGE=de;ENCODING=QUOTED-PRINTABLE:St. -Cajetan-Straße 33\, München
SUMMARY:Punktspiel Team Ohjoo II vs Die Münchner Elche
DESCRIPTION;LANGUAGE=de;ENCODING=QUOTED-PRINTABLE:25:22\, 20:25\, 25:22
END:VEVENT
BEGIN:VEVENT
UID:event13
DTSTAMP:20260416T121004Z
DTSTART:20260423T180000Z
DTEND:20260423T200000Z
LOCATION;LANGUAGE=de;ENCODING=QUOTED-PRINTABLE:Canisiusplatz 2\, München
SUMMARY:Punktspiel Die Haderer vs Team Ohjoo II
DESCRIPTION;LANGUAGE=de;ENCODING=QUOTED-PRINTABLE:Grundschule am Canisiusplatz (Hallenabgang und Klingel gegenüber der Halle)\nCanisiusplatz 2\n81377 München\nHadern\n\nÜbersicht https://www.volleyball-freizeit.de/schedule/overview/1090
END:VEVENT
END:VCALENDAR