BEGIN:VCALENDAR
VERSION:2.0
PRODID:-//dieLiga//DE
BEGIN:VEVENT
UID:event0
DTSTAMP:20260415T171322Z
DTSTART:20251015T183000Z
DTEND:20251015T200000Z
LOCATION;LANGUAGE=de;ENCODING=QUOTED-PRINTABLE:Karl-Theodor Str. 9\, München
SUMMARY:Punktspiel Mad Max vs Blue Igel
DESCRIPTION;LANGUAGE=de;ENCODING=QUOTED-PRINTABLE:25:17\, 22:25\, 25:23
END:VEVENT
BEGIN:VEVENT
UID:event1
DTSTAMP:20260415T171322Z
DTSTART:20260429T180000Z
LOCATION;LANGUAGE=de;ENCODING=QUOTED-PRINTABLE:
SUMMARY:Punktspiel Blue Igel vs Formel 6
DESCRIPTION;LANGUAGE=de;ENCODING=QUOTED-PRINTABLE:\n\nÜbersicht https://www.volleyball-freizeit.de/schedule/overview/1080
END:VEVENT
BEGIN:VEVENT
UID:event2
DTSTAMP:20260415T171322Z
DTSTART:20260513T180000Z
LOCATION;LANGUAGE=de;ENCODING=QUOTED-PRINTABLE:
SUMMARY:Punktspiel Blue Igel vs Pflegestufe 2
DESCRIPTION;LANGUAGE=de;ENCODING=QUOTED-PRINTABLE:\n\nÜbersicht https://www.volleyball-freizeit.de/schedule/overview/1080
END:VEVENT
BEGIN:VEVENT
UID:event3
DTSTAMP:20260415T171322Z
DTSTART:20251208T184500Z
DTEND:20251208T201500Z
LOCATION;LANGUAGE=de;ENCODING=QUOTED-PRINTABLE:Nadistraße 3\, München
SUMMARY:Punktspiel SV Olympiadorf vs Blue Igel
DESCRIPTION;LANGUAGE=de;ENCODING=QUOTED-PRINTABLE:26:24\, 25:27\, 25:16
END:VEVENT
BEGIN:VEVENT
UID:event4
DTSTAMP:20260415T171322Z
DTSTART:20251217T190000Z
DTEND:20251217T210000Z
LOCATION;LANGUAGE=de;ENCODING=QUOTED-PRINTABLE:Osterwaldstr. 144\, München
SUMMARY:Punktspiel Blue Igel vs Nymphenburger Schmetterlinge
DESCRIPTION;LANGUAGE=de;ENCODING=QUOTED-PRINTABLE:19:25\, 25:18\, 25:20
END:VEVENT
BEGIN:VEVENT
UID:event5
DTSTAMP:20260415T171322Z
DTSTART:20260120T190000Z
DTEND:20260120T210000Z
LOCATION;LANGUAGE=de;ENCODING=QUOTED-PRINTABLE:Prof.-Otto-Hupp-Str. 26b\, Oberschleißheim
SUMMARY:Punktspiel Die jungen Wilden vs Blue Igel
DESCRIPTION;LANGUAGE=de;ENCODING=QUOTED-PRINTABLE:26:24\, 25:11
END:VEVENT
BEGIN:VEVENT
UID:event6
DTSTAMP:20260415T171322Z
DTSTART:20260128T190000Z
DTEND:20260128T210000Z
LOCATION;LANGUAGE=de;ENCODING=QUOTED-PRINTABLE:Osterwaldstr. 144\, München
SUMMARY:Punktspiel Blue Igel vs 7NA
DESCRIPTION;LANGUAGE=de;ENCODING=QUOTED-PRINTABLE:18:25\, 25:15\, 25:18
END:VEVENT
BEGIN:VEVENT
UID:event7
DTSTAMP:20260415T171322Z
DTSTART:20260225T190000Z
LOCATION;LANGUAGE=de;ENCODING=QUOTED-PRINTABLE:
SUMMARY:Punktspiel Blue Igel vs Mad Max
DESCRIPTION;LANGUAGE=de;ENCODING=QUOTED-PRINTABLE:25:23\, 14:25\, 23:25
END:VEVENT
BEGIN:VEVENT
UID:event8
DTSTAMP:20260415T171322Z
DTSTART:20260210T180000Z
DTEND:20260210T200000Z
LOCATION;LANGUAGE=de;ENCODING=QUOTED-PRINTABLE:Rockefellerstr. 11\, München
SUMMARY:Punktspiel Formel 6 vs Blue Igel
DESCRIPTION;LANGUAGE=de;ENCODING=QUOTED-PRINTABLE:26:24\, 27:25
END:VEVENT
BEGIN:VEVENT
UID:event9
DTSTAMP:20260415T171322Z
DTSTART:20260304T193000Z
DTEND:20260304T220000Z
LOCATION;LANGUAGE=de;ENCODING=QUOTED-PRINTABLE:Säbenerstraße  49\, München
SUMMARY:Punktspiel Pflegestufe 2 vs Blue Igel
DESCRIPTION;LANGUAGE=de;ENCODING=QUOTED-PRINTABLE:25:14\, 25:23
END:VEVENT
BEGIN:VEVENT
UID:event10
DTSTAMP:20260415T171322Z
DTSTART:20260311T190000Z
DTEND:20260311T210000Z
LOCATION;LANGUAGE=de;ENCODING=QUOTED-PRINTABLE:Osterwaldstr. 144\, München
SUMMARY:Punktspiel Blue Igel vs SV Olympiadorf
DESCRIPTION;LANGUAGE=de;ENCODING=QUOTED-PRINTABLE:25:20\, 25:10
END:VEVENT
BEGIN:VEVENT
UID:event11
DTSTAMP:20260415T171322Z
DTSTART:20260316T190000Z
DTEND:20260316T210000Z
LOCATION;LANGUAGE=de;ENCODING=QUOTED-PRINTABLE:Maria Ward Straße \, München
SUMMARY:Punktspiel Nymphenburger Schmetterlinge vs Blue Igel
DESCRIPTION;LANGUAGE=de;ENCODING=QUOTED-PRINTABLE:25:22\, 25:23
END:VEVENT
BEGIN:VEVENT
UID:event12
DTSTAMP:20260415T171322Z
DTSTART:20260325T190000Z
DTEND:20260325T210000Z
LOCATION;LANGUAGE=de;ENCODING=QUOTED-PRINTABLE:Osterwaldstr. 144\, München
SUMMARY:Punktspiel Blue Igel vs Die jungen Wilden
DESCRIPTION;LANGUAGE=de;ENCODING=QUOTED-PRINTABLE:25:20\, 23:25\, 25:17
END:VEVENT
BEGIN:VEVENT
UID:event13
DTSTAMP:20260415T171322Z
DTSTART:20260423T180000Z
DTEND:20260423T200000Z
LOCATION;LANGUAGE=de;ENCODING=QUOTED-PRINTABLE:Freiligrathstr. 71\, München
SUMMARY:Punktspiel 7NA vs Blue Igel
DESCRIPTION;LANGUAGE=de;ENCODING=QUOTED-PRINTABLE:Lion-Feuchtwanger-Gymnasium\nFreiligrathstr. 71\n80807 München\nMilbertshofen\n\nÜbersicht https://www.volleyball-freizeit.de/schedule/overview/1080
END:VEVENT
END:VCALENDAR