BEGIN:VCALENDAR
VERSION:2.0
PRODID:-//dieLiga//DE
BEGIN:VEVENT
UID:event0
DTSTAMP:20260421T175404Z
DTSTART:20260522T170000Z
DTEND:20260522T190000Z
LOCATION;LANGUAGE=de;ENCODING=QUOTED-PRINTABLE: Luisenstraße  7\, München
SUMMARY:Punktspiel Maxvorstadt I vs Größenwahn
DESCRIPTION;LANGUAGE=de;ENCODING=QUOTED-PRINTABLE:Städtisches Luisengymnasium (Halle 3)\n Luisenstraße  7\n80333 München\nEingang neben Dachauerstr.12\n\n\nÜbersicht https://www.volleyball-freizeit.de/schedule/overview/1089
END:VEVENT
BEGIN:VEVENT
UID:event1
DTSTAMP:20260421T175404Z
DTSTART:20251023T173000Z
DTEND:20251023T200000Z
LOCATION;LANGUAGE=de;ENCODING=QUOTED-PRINTABLE:Innsbrucker Ring  75\, München
SUMMARY:Punktspiel Größenwahn vs BUGAtis
DESCRIPTION;LANGUAGE=de;ENCODING=QUOTED-PRINTABLE:25:23\, 25:14
END:VEVENT
BEGIN:VEVENT
UID:event2
DTSTAMP:20260421T175404Z
DTSTART:20251203T193000Z
DTEND:20251203T220000Z
LOCATION;LANGUAGE=de;ENCODING=QUOTED-PRINTABLE:Säbenerstraße 49\, München
SUMMARY:Punktspiel Netzrollies vs Größenwahn
DESCRIPTION;LANGUAGE=de;ENCODING=QUOTED-PRINTABLE:17:25\, 25:20\, 21:25
END:VEVENT
BEGIN:VEVENT
UID:event3
DTSTAMP:20260421T175404Z
DTSTART:20260226T183000Z
DTEND:20260226T210000Z
LOCATION;LANGUAGE=de;ENCODING=QUOTED-PRINTABLE:Innsbrucker Ring  75\, München
SUMMARY:Punktspiel Größenwahn vs Red Sparrows
DESCRIPTION;LANGUAGE=de;ENCODING=QUOTED-PRINTABLE:25:23\, 25:16
END:VEVENT
BEGIN:VEVENT
UID:event4
DTSTAMP:20260421T175404Z
DTSTART:20251120T183000Z
DTEND:20251120T210000Z
LOCATION;LANGUAGE=de;ENCODING=QUOTED-PRINTABLE:Innsbrucker Ring  75\, München
SUMMARY:Punktspiel Größenwahn vs Genial daneben
DESCRIPTION;LANGUAGE=de;ENCODING=QUOTED-PRINTABLE:15:25\, 25:23\, 25:20
END:VEVENT
BEGIN:VEVENT
UID:event5
DTSTAMP:20260421T175404Z
DTSTART:20260129T183000Z
DTEND:20260129T210000Z
LOCATION;LANGUAGE=de;ENCODING=QUOTED-PRINTABLE:Innsbrucker Ring  75\, München
SUMMARY:Punktspiel Größenwahn vs VC Dom Pedro e.V.
DESCRIPTION;LANGUAGE=de;ENCODING=QUOTED-PRINTABLE:15:25\, 25:16\, 25:18
END:VEVENT
BEGIN:VEVENT
UID:event6
DTSTAMP:20260421T175404Z
DTSTART:20260205T183000Z
DTEND:20260205T210000Z
LOCATION;LANGUAGE=de;ENCODING=QUOTED-PRINTABLE:Innsbrucker Ring  75\, München
SUMMARY:Punktspiel Größenwahn vs Maxvorstadt I
DESCRIPTION;LANGUAGE=de;ENCODING=QUOTED-PRINTABLE:25:12\, 25:13
END:VEVENT
BEGIN:VEVENT
UID:event7
DTSTAMP:20260421T175404Z
DTSTART:20260212T193000Z
DTEND:20260212T213000Z
LOCATION;LANGUAGE=de;ENCODING=QUOTED-PRINTABLE:Lehrer Wirth Str 31\, München
SUMMARY:Punktspiel BUGAtis vs Größenwahn
DESCRIPTION;LANGUAGE=de;ENCODING=QUOTED-PRINTABLE:25:15\, 19:25\, 19:25
END:VEVENT
BEGIN:VEVENT
UID:event8
DTSTAMP:20260421T175404Z
DTSTART:20260305T183000Z
DTEND:20260305T210000Z
LOCATION;LANGUAGE=de;ENCODING=QUOTED-PRINTABLE:Innsbrucker Ring  75\, München
SUMMARY:Punktspiel Größenwahn vs Netzrollies
DESCRIPTION;LANGUAGE=de;ENCODING=QUOTED-PRINTABLE:25:17\, 17:25\, 25:11
END:VEVENT
BEGIN:VEVENT
UID:event9
DTSTAMP:20260421T175404Z
DTSTART:20260309T183000Z
DTEND:20260309T203000Z
LOCATION;LANGUAGE=de;ENCODING=QUOTED-PRINTABLE:Max-Reinhardt-Weg 27\, München
SUMMARY:Punktspiel Red Sparrows vs Größenwahn
DESCRIPTION;LANGUAGE=de;ENCODING=QUOTED-PRINTABLE:16:25\, 21:25
END:VEVENT
BEGIN:VEVENT
UID:event10
DTSTAMP:20260421T175404Z
DTSTART:20260317T190000Z
DTEND:20260317T210000Z
LOCATION;LANGUAGE=de;ENCODING=QUOTED-PRINTABLE:Karl-Marx-Ring 67\, München
SUMMARY:Punktspiel Genial daneben vs Größenwahn
DESCRIPTION;LANGUAGE=de;ENCODING=QUOTED-PRINTABLE:19:25\, 24:26
END:VEVENT
BEGIN:VEVENT
UID:event11
DTSTAMP:20260421T175404Z
DTSTART:20260326T183000Z
DTEND:20260326T210000Z
LOCATION;LANGUAGE=de;ENCODING=QUOTED-PRINTABLE:Innsbrucker Ring  75\, München
SUMMARY:Punktspiel Größenwahn vs Voll Treffer
DESCRIPTION;LANGUAGE=de;ENCODING=QUOTED-PRINTABLE:16:25\, 25:23\, 28:26
END:VEVENT
END:VCALENDAR