BEGIN:VCALENDAR
VERSION:2.0
PRODID:-//dieLiga//DE
BEGIN:VEVENT
UID:event0
DTSTAMP:20260421T175517Z
DTSTART:20251013T183000Z
DTEND:20251013T200000Z
LOCATION;LANGUAGE=de;ENCODING=QUOTED-PRINTABLE: Arcisstrasse  65\, München
SUMMARY:Punktspiel VC Dom Pedro e.V. vs Voll Treffer
DESCRIPTION;LANGUAGE=de;ENCODING=QUOTED-PRINTABLE:25:15\, 17:25\, 25:17
END:VEVENT
BEGIN:VEVENT
UID:event1
DTSTAMP:20260421T175517Z
DTSTART:20251028T190000Z
DTEND:20251028T210000Z
LOCATION;LANGUAGE=de;ENCODING=QUOTED-PRINTABLE:Karl-Marx-Ring 67\, München
SUMMARY:Punktspiel Genial daneben vs VC Dom Pedro e.V.
DESCRIPTION;LANGUAGE=de;ENCODING=QUOTED-PRINTABLE:18:25\, 22:25
END:VEVENT
BEGIN:VEVENT
UID:event2
DTSTAMP:20260421T175517Z
DTSTART:20251205T180000Z
DTEND:20251205T200000Z
LOCATION;LANGUAGE=de;ENCODING=QUOTED-PRINTABLE: Luisenstraße  7\, München
SUMMARY:Punktspiel Maxvorstadt I vs VC Dom Pedro e.V.
DESCRIPTION;LANGUAGE=de;ENCODING=QUOTED-PRINTABLE:17:25\, 23:25
END:VEVENT
BEGIN:VEVENT
UID:event3
DTSTAMP:20260421T175517Z
DTSTART:20260309T193000Z
DTEND:20260309T210000Z
LOCATION;LANGUAGE=de;ENCODING=QUOTED-PRINTABLE: Arcisstrasse  65\, München
SUMMARY:Punktspiel VC Dom Pedro e.V. vs BUGAtis
DESCRIPTION;LANGUAGE=de;ENCODING=QUOTED-PRINTABLE:25:13\, 25:19
END:VEVENT
BEGIN:VEVENT
UID:event4
DTSTAMP:20260421T175517Z
DTSTART:20260527T183000Z
DTEND:20260527T210000Z
LOCATION;LANGUAGE=de;ENCODING=QUOTED-PRINTABLE:Säbenerstraße 49\, München
SUMMARY:Punktspiel Netzrollies vs VC Dom Pedro e.V.
DESCRIPTION;LANGUAGE=de;ENCODING=QUOTED-PRINTABLE:Sporthalle an der Säbenerstraße (Bitte in der Umkleide warten\, vorher ist Gymnastik. Wir holen euch rein.)\nSäbenerstraße 49\n81547 München\n\n\nÜbersicht https://www.volleyball-freizeit.de/schedule/overview/1089
END:VEVENT
BEGIN:VEVENT
UID:event5
DTSTAMP:20260421T175517Z
DTSTART:20260119T193000Z
DTEND:20260119T210000Z
LOCATION;LANGUAGE=de;ENCODING=QUOTED-PRINTABLE: Arcisstrasse  65\, München
SUMMARY:Punktspiel VC Dom Pedro e.V. vs Red Sparrows
DESCRIPTION;LANGUAGE=de;ENCODING=QUOTED-PRINTABLE:25:9\, 25:17
END:VEVENT
BEGIN:VEVENT
UID:event6
DTSTAMP:20260421T175517Z
DTSTART:20260129T183000Z
DTEND:20260129T210000Z
LOCATION;LANGUAGE=de;ENCODING=QUOTED-PRINTABLE:Innsbrucker Ring  75\, München
SUMMARY:Punktspiel Größenwahn vs VC Dom Pedro e.V.
DESCRIPTION;LANGUAGE=de;ENCODING=QUOTED-PRINTABLE:15:25\, 25:16\, 25:18
END:VEVENT
BEGIN:VEVENT
UID:event7
DTSTAMP:20260421T175517Z
DTSTART:20260209T193000Z
DTEND:20260209T210000Z
LOCATION;LANGUAGE=de;ENCODING=QUOTED-PRINTABLE: Arcisstrasse  65\, München
SUMMARY:Punktspiel VC Dom Pedro e.V. vs Genial daneben
DESCRIPTION;LANGUAGE=de;ENCODING=QUOTED-PRINTABLE:26:24\, 25:16
END:VEVENT
BEGIN:VEVENT
UID:event8
DTSTAMP:20260421T175517Z
DTSTART:20260302T193000Z
DTEND:20260302T210000Z
LOCATION;LANGUAGE=de;ENCODING=QUOTED-PRINTABLE: Arcisstrasse  65\, München
SUMMARY:Punktspiel VC Dom Pedro e.V. vs Maxvorstadt I
DESCRIPTION;LANGUAGE=de;ENCODING=QUOTED-PRINTABLE:25:15\, 25:23
END:VEVENT
BEGIN:VEVENT
UID:event9
DTSTAMP:20260421T175517Z
DTSTART:20260416T183000Z
DTEND:20260416T203000Z
LOCATION;LANGUAGE=de;ENCODING=QUOTED-PRINTABLE:Lehrer Wirth Str 31\, München
SUMMARY:Punktspiel BUGAtis vs VC Dom Pedro e.V.
DESCRIPTION;LANGUAGE=de;ENCODING=QUOTED-PRINTABLE:25:12\, 18:25\, 25:9
END:VEVENT
BEGIN:VEVENT
UID:event10
DTSTAMP:20260421T175517Z
DTSTART:20260316T193000Z
DTEND:20260316T210000Z
LOCATION;LANGUAGE=de;ENCODING=QUOTED-PRINTABLE: Arcisstrasse  65\, München
SUMMARY:Punktspiel VC Dom Pedro e.V. vs Netzrollies
DESCRIPTION;LANGUAGE=de;ENCODING=QUOTED-PRINTABLE:25:20\, 25:11
END:VEVENT
BEGIN:VEVENT
UID:event11
DTSTAMP:20260421T175517Z
DTSTART:20260323T183000Z
DTEND:20260323T203000Z
LOCATION;LANGUAGE=de;ENCODING=QUOTED-PRINTABLE:Max-Reinhardt-Weg 27\, München
SUMMARY:Punktspiel Red Sparrows vs VC Dom Pedro e.V.
DESCRIPTION;LANGUAGE=de;ENCODING=QUOTED-PRINTABLE:17:25\, 14:25
END:VEVENT
END:VCALENDAR